BEGIN:VCALENDAR
VERSION:2.0
PRODID:-//AmiciAA Alcolisti Anonimi - ECPv6.15.20//NONSGML v1.0//EN
CALSCALE:GREGORIAN
METHOD:PUBLISH
X-ORIGINAL-URL:https://amiciaa.org
X-WR-CALDESC:Eventi per AmiciAA Alcolisti Anonimi
REFRESH-INTERVAL;VALUE=DURATION:PT1H
X-Robots-Tag:noindex
X-PUBLISHED-TTL:PT1H
BEGIN:VTIMEZONE
TZID:Europe/Rome
BEGIN:DAYLIGHT
TZOFFSETFROM:+0100
TZOFFSETTO:+0200
TZNAME:CEST
DTSTART:20250330T010000
END:DAYLIGHT
BEGIN:STANDARD
TZOFFSETFROM:+0200
TZOFFSETTO:+0100
TZNAME:CET
DTSTART:20251026T010000
END:STANDARD
BEGIN:DAYLIGHT
TZOFFSETFROM:+0100
TZOFFSETTO:+0200
TZNAME:CEST
DTSTART:20260329T010000
END:DAYLIGHT
BEGIN:STANDARD
TZOFFSETFROM:+0200
TZOFFSETTO:+0100
TZNAME:CET
DTSTART:20261025T010000
END:STANDARD
BEGIN:DAYLIGHT
TZOFFSETFROM:+0100
TZOFFSETTO:+0200
TZNAME:CEST
DTSTART:20270328T010000
END:DAYLIGHT
BEGIN:STANDARD
TZOFFSETFROM:+0200
TZOFFSETTO:+0100
TZNAME:CET
DTSTART:20271031T010000
END:STANDARD
END:VTIMEZONE
BEGIN:VEVENT
DTSTART;VALUE=DATE:20260208
DTEND;VALUE=DATE:20260209
DTSTAMP:20260423T133357
CREATED:20260117T140339Z
LAST-MODIFIED:20260117T140339Z
UID:2887-1770508800-1770595199@amiciaa.org
SUMMARY:USARE IL PIANO DELLE 24 ORE
DESCRIPTION:Descrizione: “Eppure\, nonostante le nostre buone intenzioni\, il risultato era quasi inevitabilmente lo stesso: alla fine\, il ricordo delle promesse\, dei giuramenti e della sofferenza che aveva portato ad essi\, svaniva nel nulla. Bevevamo di nuovo ed eravamo invischiati in problemi sempre maggiori. Il nostro deciso “per sempre” non era durato a lungo.” \nTratto da: “Vivere Sobri” pag.15
URL:https://amiciaa.org/event/usare-il-piano-delle-24-ore-5/
LOCATION:skipe amiciaa
CATEGORIES:Calendario
ORGANIZER;CN="gruppo on line AmiciAA":MAILTO:info@amiciaa.org
END:VEVENT
BEGIN:VEVENT
DTSTART;VALUE=DATE:20260209
DTEND;VALUE=DATE:20260210
DTSTAMP:20260423T133357
CREATED:20260117T140441Z
LAST-MODIFIED:20260117T140441Z
UID:2889-1770595200-1770681599@amiciaa.org
SUMMARY:NON AFFILIATA AD ALCUNA SETTA
DESCRIPTION:Descrizione: “E’ facile rendersi conto di ciò che sarebbe avvenuto: basta immaginare che A.A. avesse avuto inizio tra i buddisti e che questi vi avessero detto che per farne parte occorresse abbracciare la loro religione. Se foste stati degli alcolisti cristiani\, in queste circostanze\, non avreste potuto che trovarvi con le spalle al muro e morire.” \nTratto da: “Come la vede Bill” pag.34
URL:https://amiciaa.org/event/non-affiliata-ad-alcuna-setta-4/
LOCATION:skipe amiciaa
CATEGORIES:Calendario
ORGANIZER;CN="gruppo on line AmiciAA":MAILTO:info@amiciaa.org
END:VEVENT
BEGIN:VEVENT
DTSTART;VALUE=DATE:20260211
DTEND;VALUE=DATE:20260212
DTSTAMP:20260423T133357
CREATED:20260117T140601Z
LAST-MODIFIED:20260117T140601Z
UID:2891-1770768000-1770854399@amiciaa.org
SUMMARY:SECONDA TRADIZIONE
DESCRIPTION:Descrizione: “Per il fine del nostro gruppo non esiste che una sola autorità ultima: un Dio d’amore\, comunque Egli possa manifestarsi nella coscienza del nostro gruppo. I nostri leader non sono altro che dei servitori di fiducia; essi non governano.” \nTratto da: “Dodici Passi Dodici Tradizioni pag.191 \n\n\n\n\nSalva nel tuo calendario
URL:https://amiciaa.org/event/seconda-tradizione-3/
LOCATION:skipe amiciaa
CATEGORIES:Calendario
ORGANIZER;CN="gruppo on line AmiciAA":MAILTO:info@amiciaa.org
END:VEVENT
BEGIN:VEVENT
DTSTART;VALUE=DATE:20260213
DTEND;VALUE=DATE:20260214
DTSTAMP:20260423T133357
CREATED:20260117T140725Z
LAST-MODIFIED:20260117T140725Z
UID:2893-1770940800-1771027199@amiciaa.org
SUMMARY:SPIRITUALE?
DESCRIPTION:Descrizione “La cosa singolare è che la spiritualità non si può trasmettere con le parole. Se ogni uomo deve averla\, deve guadagnarsela a modo suo\, con le proprie mani\, con impresso il marchio del proprio essere\, nel proprio diritto individuale.” Tratto da:  “Giunsi a credere” pag. 14
URL:https://amiciaa.org/event/spirituale-3/
LOCATION:skipe amiciaa
CATEGORIES:Calendario
ORGANIZER;CN="gruppo on line AmiciAA":MAILTO:info@amiciaa.org
END:VEVENT
BEGIN:VEVENT
DTSTART;VALUE=DATE:20260215
DTEND;VALUE=DATE:20260216
DTSTAMP:20260423T133357
CREATED:20260117T140829Z
LAST-MODIFIED:20260117T140829Z
UID:2895-1771113600-1771199999@amiciaa.org
SUMMARY:DIRITTO DI SBAGLIARE
DESCRIPTION:Descrizione: “Il programma spinge ognuno di noi all’ azione \,a non rimanere mai fermo; questo comporta la possibilita di sbagliare\, ma cio’ non è irreversibile\, purche’ si abbia capacita di ascoltare gli altri \,di capire e ammettere i propri errori e di tornare indietro.” \ntratto da:il compagno di viaggio pag:133
URL:https://amiciaa.org/event/diritto-di-sbagliare-3/
LOCATION:skipe amiciaa
CATEGORIES:Calendario
ORGANIZER;CN="gruppo on line AmiciAA":MAILTO:info@amiciaa.org
END:VEVENT
BEGIN:VEVENT
DTSTART;VALUE=DATE:20260216
DTEND;VALUE=DATE:20260217
DTSTAMP:20260423T133357
CREATED:20260117T141015Z
LAST-MODIFIED:20260117T141015Z
UID:2897-1771200000-1771286399@amiciaa.org
SUMMARY:QUANTO COSTA APPARTENERE AD A.A.
DESCRIPTION:Descrizione: “I nuovi venuti non devono pagare alcuna iscrizione per entrare a far parte dell’ associazione\, e una volta presa la decisione\, non vi sono altre quote da versare.Gli A.A. che aiutano altri Alcolisti non chiedono mai nulla in cambio.La ricompensa che essi ricevono e assai piu’ grande è importante del denaro :è la loro stessa sobrieta’.” \n\ntratto da “Conoscere A.A” pag.9
URL:https://amiciaa.org/event/quanto-costa-appartenere-ad-a-a-3/
LOCATION:skipe amiciaa
CATEGORIES:Calendario
ORGANIZER;CN="gruppo on line AmiciAA":MAILTO:info@amiciaa.org
END:VEVENT
BEGIN:VEVENT
DTSTART;VALUE=DATE:20260218
DTEND;VALUE=DATE:20260219
DTSTAMP:20260423T133357
CREATED:20260117T141132Z
LAST-MODIFIED:20260117T141132Z
UID:2899-1771372800-1771459199@amiciaa.org
SUMMARY:SECONDO CONCETTO
DESCRIPTION:Descrizione: “I Gruppi non hanno “capi” ma sono essi stessi responsabili\, e\, per esercitare questa responsabilità\, devono “affidarsi” a dei Servitori. Dice Bill: “La base del secondo Concetto sta proprio nel senso di appartenenza che genera la fiducia che\, a sua volta\, genera la delega. Solo così è possibile assegnare ai Gruppi l’autorità e la responsabilità. \nTratto da: “Il compagno di viaggio” pag.195
URL:https://amiciaa.org/event/secondo-concetto-2/
LOCATION:skipe amiciaa
CATEGORIES:Calendario
ORGANIZER;CN="gruppo on line AmiciAA":MAILTO:info@amiciaa.org
END:VEVENT
BEGIN:VEVENT
DTSTART;VALUE=DATE:20260220
DTEND;VALUE=DATE:20260221
DTSTAMP:20260423T133357
CREATED:20260117T141247Z
LAST-MODIFIED:20260117T141247Z
UID:2901-1771545600-1771631999@amiciaa.org
SUMMARY:VIVI E LASCIA VIVERE
DESCRIPTION:Descrizione: “Per iniziare a mettere in pratica il concetto “Vivi e lascia vivere” dobbiamo renderci conto di questo fatto: ci sono persone all’interno di A.A.\, come in qualsiasi altro luogo\, che a volte dicono o fanno cose che non approviamo o non ci piacciono. È essenziale per la propria pace imparare a vivere con le diversità.” \nTratto da: “Vivere Sobri” pag.23
URL:https://amiciaa.org/event/vivi-e-lascia-vivere-6/
LOCATION:skipe amiciaa
CATEGORIES:Calendario
ORGANIZER;CN="gruppo on line AmiciAA":MAILTO:info@amiciaa.org
END:VEVENT
BEGIN:VEVENT
DTSTART;VALUE=DATE:20260222
DTEND;VALUE=DATE:20260223
DTSTAMP:20260423T133357
CREATED:20260117T141352Z
LAST-MODIFIED:20260117T141352Z
UID:2903-1771718400-1771804799@amiciaa.org
SUMMARY:SECONDA PROMESSA
DESCRIPTION:Descrizione: ” Non ci affliggeremo del passato\, ma ci impegneremo a non dimenticarlo mai. E’ la sobrietà tutto quello che dobbiamo aspettarci da un Risveglio Spirituale? No\, la sobrietà non è che l’inizio; non è che il primo dono del primo risveglio. Se vogliamo ricevere altri doni\, il nostro risveglio deve continuare.” \nTratto da: “Opuscolo Le Promesse” pag. 8
URL:https://amiciaa.org/event/seconda-promessa-3/
LOCATION:skipe amiciaa
CATEGORIES:Calendario
ORGANIZER;CN="gruppo on line AmiciAA":MAILTO:info@amiciaa.org
END:VEVENT
BEGIN:VEVENT
DTSTART;VALUE=DATE:20260223
DTEND;VALUE=DATE:20260224
DTSTAMP:20260423T133357
CREATED:20260117T141512Z
LAST-MODIFIED:20260117T141746Z
UID:2905-1771804800-1771891199@amiciaa.org
SUMMARY:SECONDO PASSO
DESCRIPTION:Descrizione: “Il secondo Passo non dà una definizione di Potere Superiore e non impone di credere in qualcosa di particolare\, ma si limita a dare dei suggerimenti per favorire l’ingresso nel mondo della spiritualità. Il termine “Potere Superiore” è una formula neutra adattabile ad ogni tipo di atteggiamento sulle questioni religiose ed è il punto di incontro tra tutte le diverse prospettive rispetto alla fede.” \nTratto da: “Il compagno di viaggio” pag.32
URL:https://amiciaa.org/event/secondo-passo-7/
LOCATION:skipe amiciaa
CATEGORIES:Calendario
ORGANIZER;CN="gruppo on line AmiciAA":MAILTO:info@amiciaa.org
END:VEVENT
BEGIN:VEVENT
DTSTART;VALUE=DATE:20260225
DTEND;VALUE=DATE:20260226
DTSTAMP:20260423T133357
CREATED:20260129T192356Z
LAST-MODIFIED:20260129T192356Z
UID:2913-1771977600-1772063999@amiciaa.org
SUMMARY:NON TEMERE LA VITA
DESCRIPTION:Descrizione: ” Il secondo Passo\, ci tengo a sottolinearlo\, non dice che ci farà smettere di bere\, ma che ci riporterà alla ragione. Tutti i nostri guai\, in buona sostanza\, si tratti del bere o della difficoltà a vivere\, dipendono da un limite insito in noi\, un grosso limite che investe la sfera mentale e quella spirituale. .” \nTratto da: “Rivista insieme\, n.1 del 2023\, pag. 37
URL:https://amiciaa.org/event/non-temere-la-vita-4/
LOCATION:skipe amiciaa
CATEGORIES:Calendario
ORGANIZER;CN="gruppo on line AmiciAA":MAILTO:info@amiciaa.org
END:VEVENT
BEGIN:VEVENT
DTSTART;VALUE=DATE:20260227
DTEND;VALUE=DATE:20260228
DTSTAMP:20260423T133357
CREATED:20260129T192456Z
LAST-MODIFIED:20260129T192456Z
UID:2915-1772150400-1772236799@amiciaa.org
SUMMARY:“FA COME FACCIO IO…..”
DESCRIPTION:Descrizioni: Nei primi anni di A.A. non ho fatto altro che rovinare tutto il mio lavoro con gli alcolisti con questa specie di inconsapevole arroganza. Dio\, come io Lo concepivo\, doveva essere valido per tutti. Talvolta la mia aggressività era sottile\, altre volte rude. Ma in entrambi i modi era dannosa\, forse addirittura fatale\, per i numerosi non credenti. \nTratto da: “Come la vede Bill” pag.146
URL:https://amiciaa.org/event/fa-come-faccio-io-3/
LOCATION:skipe amiciaa
CATEGORIES:Calendario
ORGANIZER;CN="gruppo on line AmiciAA":MAILTO:info@amiciaa.org
END:VEVENT
BEGIN:VEVENT
DTSTART;VALUE=DATE:20260301
DTEND;VALUE=DATE:20260302
DTSTAMP:20260423T133357
CREATED:20260208T135358Z
LAST-MODIFIED:20260208T135358Z
UID:2917-1772323200-1772409599@amiciaa.org
SUMMARY:TERZO PASSO
DESCRIPTION:“Abbiamo preso la decisione di affidare le nostre volontà e le nostre vite alla cura di Dio come noi potemmo concepirLo.” \nMettere in pratica il Terzo Passo è come aprire una porta che secondo ogni apparenza sembra ancora chiusa a chiave. Tutto quel che ci occorre è una chiave\, e la decisione di aprire questa porta. La chiave è una sola\, e si chiama buona volontà.  \nTratto da: “Dodici Passi Dodici Tradizioni” pag.45
URL:https://amiciaa.org/event/terzo-passo-5/
LOCATION:skipe amiciaa
CATEGORIES:Calendario
ORGANIZER;CN="gruppo on line AmiciAA":MAILTO:info@amiciaa.org
END:VEVENT
BEGIN:VEVENT
DTSTART;VALUE=DATE:20260302
DTEND;VALUE=DATE:20260303
DTSTAMP:20260423T133357
CREATED:20260208T135531Z
LAST-MODIFIED:20260208T135531Z
UID:2919-1772409600-1772495999@amiciaa.org
SUMMARY:PERCHE’ NON BERE?
DESCRIPTION:“Noi membri di Alcolisti Anonimi troviamo la risposta a questa domanda quando guardiamo onestamente alla nostra vita passata. La nostra esperienza prova in modo evidente che qualsiasi bevanda alcolica\, di qualsiasi gradazione\, porta seri guai all’alcolista o a chiunque abbia problemi con l’alcol.” \nTratto da: “Vivere Sobri” pag.7
URL:https://amiciaa.org/event/perche-non-bere-4/
LOCATION:skipe amiciaa
CATEGORIES:Calendario
ORGANIZER;CN="gruppo on line AmiciAA":MAILTO:info@amiciaa.org
END:VEVENT
BEGIN:VEVENT
DTSTART;VALUE=DATE:20260304
DTEND;VALUE=DATE:20260305
DTSTAMP:20260423T133357
CREATED:20260208T135648Z
LAST-MODIFIED:20260208T135648Z
UID:2921-1772582400-1772668799@amiciaa.org
SUMMARY:TERZO PASSO
DESCRIPTION:“Il terzo Passo ci dice quanto sia necessario affidarsi ad altri e possiamo cominciare affidando le nostre vite alla cura di Dio\, come noi riusciamo a concepirLo. Il primo requisito è la convinzione che una vita condotta sulla base della propria volontà difficilmente può avere successo.” \nTratto da: “Il compagno di viaggio” pag.37
URL:https://amiciaa.org/event/terzo-passo-6/
LOCATION:skipe amiciaa
CATEGORIES:Calendario
ORGANIZER;CN="gruppo on line AmiciAA":MAILTO:info@amiciaa.org
END:VEVENT
BEGIN:VEVENT
DTSTART;VALUE=DATE:20260306
DTEND;VALUE=DATE:20260307
DTSTAMP:20260423T133357
CREATED:20260208T140012Z
LAST-MODIFIED:20260208T140012Z
UID:2923-1772755200-1772841599@amiciaa.org
SUMMARY:ESSERE GIUSTI
DESCRIPTION:“Il nostro primo obiettivo sarà lo sviluppo dell’autocontrollo\, il che ha la priorità assoluta su ogni altra cosa. Quando parliamo o agiamo in modo avventato o impulsivo\, la nostra capacità di essere imparziali e tolleranti svanisce all’istante.” \nTratto da: “Come la vede Bill” pag.113
URL:https://amiciaa.org/event/essere-giusti-6/
LOCATION:skipe amiciaa
CATEGORIES:Calendario
END:VEVENT
BEGIN:VEVENT
DTSTART;VALUE=DATE:20260308
DTEND;VALUE=DATE:20260309
DTSTAMP:20260423T133357
CREATED:20260208T140202Z
LAST-MODIFIED:20260208T140202Z
UID:2925-1772928000-1773014399@amiciaa.org
SUMMARY:TERZA TRADIZIONE
DESCRIPTION:Questa Tradizione è carica di significato. Perché A.A. in effetti dice a chiunque abbia problemi con l’alcol: “Sei un membro di A.A. se sei tu a dirlo. Tu puoi dichiarare di far parte di A.A. e nessuno può tenertene fuori. Non importa chi sei\, non importa quanto tu sia caduto in basso\, non importa quanto siano gravi le tue complicazioni emotive\, perfino i tuoi crimini: comunque sia\, non possiamo negarti A.A. Non vogliamo tenertene fuori.  \nTratto da: “Dodici Passi Dodici Tradizioni”  pag.210
URL:https://amiciaa.org/event/terza-tradizione-6/
LOCATION:skipe amiciaa
CATEGORIES:Calendario
ORGANIZER;CN="gruppo on line AmiciAA":MAILTO:info@amiciaa.org
END:VEVENT
BEGIN:VEVENT
DTSTART;VALUE=DATE:20260309
DTEND;VALUE=DATE:20260310
DTSTAMP:20260423T133357
CREATED:20260208T140408Z
LAST-MODIFIED:20260208T140408Z
UID:2927-1773014400-1773100799@amiciaa.org
SUMMARY:ESSERE ATTIVI
DESCRIPTION:“È molto difficile sedersi e basta cercando di non fare una certa cosa o addirittura di non pensarci. È molto più facile divenire attivi e fare qualcosa d’ altro\, diverso da quello che stiamo cercando di evitare.Così è con il bere. Cercare di evitare un bicchiere (o di non pensarci) sembra non essere sufficiente. Più pensiamo al bicchiere che stiamo cercando di non prendere\, più questo pensiero occupa naturalmente la nostra mente. E questo non va bene. \nTratto da: “Vivere Sobri” pag.25
URL:https://amiciaa.org/event/essere-attivi-8/
LOCATION:skipe amiciaa
CATEGORIES:Calendario
ORGANIZER;CN="gruppo on line AmiciAA":MAILTO:info@amiciaa.org
END:VEVENT
BEGIN:VEVENT
DTSTART;VALUE=DATE:20260311
DTEND;VALUE=DATE:20260312
DTSTAMP:20260423T133357
CREATED:20260208T140804Z
LAST-MODIFIED:20260208T140804Z
UID:2929-1773187200-1773273599@amiciaa.org
SUMMARY:A cosa dovremmo applicare questa nuova capacita’ di affidamento?
DESCRIPTION:“Ogni volta che ci si sente nell’impossibilità di governare qualcosa\, si può sentire pronto l’aiuto di Qualcuno che regala il Suo amore. Il primo campo a cui è possibile applicare questa nuova fiducia e questo affidamento è la propria vita dipendente dall’alcol. Ammettere di essere vinti e chiedere aiuto sono il presupposto per una vittoria definitiva.” \nTratto da:  “Il compagno di viaggio” pag.40
URL:https://amiciaa.org/event/a-cosa-dovremmo-applicare-questa-nuova-capacita-di-affidamento-2/
LOCATION:skipe amiciaa
CATEGORIES:Calendario
ORGANIZER;CN="gruppo on line AmiciAA":MAILTO:info@amiciaa.org
END:VEVENT
BEGIN:VEVENT
DTSTART;VALUE=DATE:20260313
DTEND;VALUE=DATE:20260314
DTSTAMP:20260423T133357
CREATED:20260208T141006Z
LAST-MODIFIED:20260208T141006Z
UID:2931-1773360000-1773446399@amiciaa.org
SUMMARY:LA SIGNORA PER BENE
DESCRIPTION:“Una piccola birra\, cosa sarà mai una piccola birra?Fu cosi che ripresi a bere. Ero stata brava\, mi dicevo:«Non bevo da tanto e dato che sono riuscita a starne lontana così a lungo\, posso bere un po’ e basta. Ora so come stanno le cose\, riuscirò a fermarmi”. Per qualche giorno andò tuto bene\, tanto che aumentai la dose. Subii però degli scompensi cardiaci. Non assunsi più l’antabuse. In pochissimo tempo stavo peggio di prima. \nTratto da: “Alcolisti Anonimi” pag.243
URL:https://amiciaa.org/event/la-signora-per-bene-2/
LOCATION:skipe amiciaa
CATEGORIES:Calendario
ORGANIZER;CN="gruppo on line AmiciAA":MAILTO:info@amiciaa.org
END:VEVENT
BEGIN:VEVENT
DTSTART;VALUE=DATE:20260315
DTEND;VALUE=DATE:20260316
DTSTAMP:20260423T133357
CREATED:20260208T141109Z
LAST-MODIFIED:20260208T141109Z
UID:2933-1773532800-1773619199@amiciaa.org
SUMMARY:TERZO CONCETTO
DESCRIPTION:“Il terzo Concetto cerca di chiarire quale sia l’autorità e la capacità di decidere di un qualsiasi Servitore\, per il bene di A.A. nel suo insieme\, a tutti i livelli di Servizio\, dal Gruppo alla Conferenza ai Servizi Generali. Tutti gli incarichi di Servizio dovrebbero essere basati sulla fiducia ed ogni Servitore dovrebbe agire con la coscienza volta al necessario benessere di A.A..” \nTratto da: “Il compagno di viaggio” pag.201
URL:https://amiciaa.org/event/terzo-concetto-3/
LOCATION:skipe amiciaa
CATEGORIES:Calendario
ORGANIZER;CN="gruppo on line AmiciAA":MAILTO:info@amiciaa.org
END:VEVENT
BEGIN:VEVENT
DTSTART;VALUE=DATE:20260316
DTEND;VALUE=DATE:20260317
DTSTAMP:20260423T133357
CREATED:20260208T141319Z
LAST-MODIFIED:20260208T141319Z
UID:2935-1773619200-1773705599@amiciaa.org
SUMMARY:GLI IDEALI DELUSI
DESCRIPTION:” Ero sì\, razionalmente appagato perché avevo capito la funzione dell’alcol nella mia vita: un meccanismo di difesa contro la sofferenza dalle delusioni di tutti gli ideali. Potevo vivere la mia angoscia\, elaborare la mia realtà\, assumere l’amarezza di tutti gli ideali delusi\, potevo sì\, bevendo come alcolista”. \nTratto da: “Alcolisti Anonimi” pag. 255
URL:https://amiciaa.org/event/gli-ideali-delusi-3/
LOCATION:skipe amiciaa
CATEGORIES:Calendario
ORGANIZER;CN="gruppo on line AmiciAA":MAILTO:info@amiciaa.org
END:VEVENT
BEGIN:VEVENT
DTSTART;VALUE=DATE:20260318
DTEND;VALUE=DATE:20260319
DTSTAMP:20260423T133357
CREATED:20260208T141444Z
LAST-MODIFIED:20260208T141444Z
UID:2937-1773792000-1773878399@amiciaa.org
SUMMARY:PERCHE’ NON “EX ALCOLISTI”
DESCRIPTION:“Gli A.A.dichiarano di essere alcolisti oggi \,anche se non bevono da molti anni.Essi non affermano di essere “guariti” perche’ sanno che \,dal momento che hanno perso la capacita’ di controllarsi nel bere è accertato il loro tipo di reazione al consumo dell’alcol\, non potranno mai piu’ essere sicuri di poter tornare alla bottiglia senza pericolo o\,\,in altre parole \,non potranno mai diventare “bevitori sociali”o “ex alcolisti”.In A.A.pero’\,possono diventare alcolisti sobri\, alcolisti “recuperati”. \ntratto da “Conoscere A.A.”  pag 6
URL:https://amiciaa.org/event/perche-non-ex-alcolisti-3/
LOCATION:skipe amiciaa
CATEGORIES:Calendario
ORGANIZER;CN="gruppo on line AmiciAA":MAILTO:info@amiciaa.org
END:VEVENT
BEGIN:VEVENT
DTSTART;VALUE=DATE:20260320
DTEND;VALUE=DATE:20260321
DTSTAMP:20260423T133357
CREATED:20260208T141934Z
LAST-MODIFIED:20260208T141934Z
UID:2940-1773964800-1774051199@amiciaa.org
SUMMARY:ONESTA’
DESCRIPTION:“Dobbiamo essere sempre certi di non assurgere al ruolo di predicatori dal pulpito. Perciò è saggio porci queste domande: “Comprendiamo veramente le persone coinvolte in questa situazione? Siamo certi di sapere tutto dei fatti? E’ veramente necessaria da parte nostra una qualsiasi iniziativa o critica? Siamo davvero sicuri che non abbiamo paura né siamo in collera?”. Soltanto se eseguiamo un esame del genere\, possiamo essere certi di agire con quel prudente discernimento e con quello spirito amorevole che ci serviranno sempre a mantenere la nostra integrità morale.” \nTratto da “Il meglio di Bill“\, pag. 33
URL:https://amiciaa.org/event/onesta-4/
LOCATION:skipe amiciaa
CATEGORIES:Calendario
ORGANIZER;CN="gruppo on line AmiciAA":MAILTO:info@amiciaa.org
END:VEVENT
BEGIN:VEVENT
DTSTART;VALUE=DATE:20260322
DTEND;VALUE=DATE:20260323
DTSTAMP:20260423T133357
CREATED:20260208T142050Z
LAST-MODIFIED:20260208T142050Z
UID:2942-1774137600-1774223999@amiciaa.org
SUMMARY:IL DISEGNO DIVINO
DESCRIPTION:“Non siamo sempre arrivati più vicino alla saggezza grazie alle nostre virtù; la nostra migliorata capacità di comprendere trova le sue radici nelle nostre follie precedenti. Poiché questa è stata l’essenza della nostra esperienza individuale\, lo è stata anche della nostra esperienza come associazione.” \nTratto da: “Come la vede Bill” pag.31
URL:https://amiciaa.org/event/il-disegno-divino-2/
LOCATION:skipe amiciaa
CATEGORIES:Calendario
ORGANIZER;CN="gruppo on line AmiciAA":MAILTO:info@amiciaa.org
END:VEVENT
BEGIN:VEVENT
DTSTART;VALUE=DATE:20260323
DTEND;VALUE=DATE:20260324
DTSTAMP:20260423T133357
CREATED:20260208T142154Z
LAST-MODIFIED:20260208T142154Z
UID:2944-1774224000-1774310399@amiciaa.org
SUMMARY:TERZA TRADIZIONE
DESCRIPTION:“Nel corso del tempo Alcolisti Anonimi è giunta alla decisione di portare all ‘estrem limite il non – giudizio :non siamo noi ad ammettere un nuovo venuto\, e’ lui stesso a dichiararsi A.A.\,con una qualsiasi forma di desiderio di smettere di bere. \nTratto da: “Il compagno di viaggio” pag.125
URL:https://amiciaa.org/event/terza-tradizione-7/
LOCATION:skipe amiciaa
CATEGORIES:Calendario
ORGANIZER;CN="gruppo on line AmiciAA":MAILTO:info@amiciaa.org
END:VEVENT
BEGIN:VEVENT
DTSTART;VALUE=DATE:20260325
DTEND;VALUE=DATE:20260326
DTSTAMP:20260423T133357
CREATED:20260208T142310Z
LAST-MODIFIED:20260208T142310Z
UID:2946-1774396800-1774483199@amiciaa.org
SUMMARY:CHE COSA VUOLE ESATTAMENTE DIRE “AFFIDARSI”?
DESCRIPTION:“Vuol dire avere la saggezza di distinguere ciò che non può essere cambiato con le proprie forze\, in modo da abbandonarsi e lasciarlo alle cure di chi può trovare una soluzione efficace.” \nTratto da: “Il compagno di viaggio” pag.42
URL:https://amiciaa.org/event/che-cosa-vuole-esattamente-dire-affidarsi-2/
LOCATION:skipe amiciaa
CATEGORIES:Calendario
ORGANIZER;CN="gruppo on line AmiciAA":MAILTO:info@amiciaa.org
END:VEVENT
BEGIN:VEVENT
DTSTART;VALUE=DATE:20260327
DTEND;VALUE=DATE:20260328
DTSTAMP:20260423T133357
CREATED:20260208T142415Z
LAST-MODIFIED:20260208T142415Z
UID:2948-1774569600-1774655999@amiciaa.org
SUMMARY:PERCHE’ UN ALCOLISTA SEMBRA NON AVERE FORZA DI VOLONTA’ ?
DESCRIPTION:“Molti alcolisti giungono ad A.A. convinti di non avere sufficiente forza di volonta’ per opporsi con successo al “vizio” dell’alcol e perche’ non sanno prendere in mano le redini della propria vita. In questo Passo Bill\, invece\,mostra che a combinare simili disastri non fu la mancanza della forza di volonta bensi’ un suo uso scorretto. L’alcolista cerca vie di fuga da se stesso ed applica cosi tutta la propria volonta’ ottenendo danni ancora peggiori \, anziche’ cercare un rimedio alla causa principale. \nTratto da: “Il compagno di viaggio” pag. 41
URL:https://amiciaa.org/event/perche-un-alcolista-sembra-non-avere-forza-di-volonta-3/
LOCATION:skipe amiciaa
CATEGORIES:Calendario
ORGANIZER;CN="gruppo on line AmiciAA":MAILTO:info@amiciaa.org
END:VEVENT
BEGIN:VEVENT
DTSTART;VALUE=DATE:20260329
DTEND;VALUE=DATE:20260330
DTSTAMP:20260423T133357
CREATED:20260208T142529Z
LAST-MODIFIED:20260208T142529Z
UID:2950-1774742400-1774828799@amiciaa.org
SUMMARY:TERZO PASSO
DESCRIPTION:“Ma come\, di preciso\, una persona ben disposta può continuare ad affidare la propria volontà e la propria vita a un Potere Superiore? Abbiamo visto che ha iniziato a farlo dal momento in cui si è affidata ad A.A. per risolvere il suo problema con l’alcol. A questo punto\, però\, è probabile che si sia convinta di avere altri problemi oltre al bere e che non riesca nel modo più assoluto a risolverli con la semplice determinazione e con tutto il coraggio che può raccogliere.” \nTratto da: “Dodici Passi Dodici Tradizioni” pag.52
URL:https://amiciaa.org/event/terzo-passo-7/
LOCATION:skipe amiciaa
CATEGORIES:Calendario
ORGANIZER;CN="gruppo on line AmiciAA":MAILTO:info@amiciaa.org
END:VEVENT
BEGIN:VEVENT
DTSTART;VALUE=DATE:20260330
DTEND;VALUE=DATE:20260331
DTSTAMP:20260423T133357
CREATED:20260208T142700Z
LAST-MODIFIED:20260208T142700Z
UID:2952-1774828800-1774915199@amiciaa.org
SUMMARY:FAI LE COSE CON CALMA\, MA FALLE!
DESCRIPTION:“Siamo riusciti a mettere a confronto molti bevitori-problema con questa terribile alternativa: “Noi A.A. facciamo così\, altrimenti moriamo”. Una volta ancorata fermamente quest’idea nella mente di una persona\, il continuare a bere non fa che stringere il cappio più strettamente.” \nTratto da: “Come la vede Bill” pag.322
URL:https://amiciaa.org/event/fai-le-cose-con-calma-ma-falle-2/
LOCATION:skipe amiciaa
CATEGORIES:Calendario
ORGANIZER;CN="gruppo on line AmiciAA":MAILTO:info@amiciaa.org
END:VEVENT
END:VCALENDAR