BEGIN:VCALENDAR
VERSION:2.0
PRODID:-//AmiciAA Alcolisti Anonimi - ECPv6.15.20//NONSGML v1.0//EN
CALSCALE:GREGORIAN
METHOD:PUBLISH
X-ORIGINAL-URL:https://amiciaa.org
X-WR-CALDESC:Eventi per AmiciAA Alcolisti Anonimi
REFRESH-INTERVAL;VALUE=DURATION:PT1H
X-Robots-Tag:noindex
X-PUBLISHED-TTL:PT1H
BEGIN:VTIMEZONE
TZID:Europe/Rome
BEGIN:DAYLIGHT
TZOFFSETFROM:+0100
TZOFFSETTO:+0200
TZNAME:CEST
DTSTART:20240331T010000
END:DAYLIGHT
BEGIN:STANDARD
TZOFFSETFROM:+0200
TZOFFSETTO:+0100
TZNAME:CET
DTSTART:20241027T010000
END:STANDARD
BEGIN:DAYLIGHT
TZOFFSETFROM:+0100
TZOFFSETTO:+0200
TZNAME:CEST
DTSTART:20250330T010000
END:DAYLIGHT
BEGIN:STANDARD
TZOFFSETFROM:+0200
TZOFFSETTO:+0100
TZNAME:CET
DTSTART:20251026T010000
END:STANDARD
BEGIN:DAYLIGHT
TZOFFSETFROM:+0100
TZOFFSETTO:+0200
TZNAME:CEST
DTSTART:20260329T010000
END:DAYLIGHT
BEGIN:STANDARD
TZOFFSETFROM:+0200
TZOFFSETTO:+0100
TZNAME:CET
DTSTART:20261025T010000
END:STANDARD
BEGIN:DAYLIGHT
TZOFFSETFROM:+0100
TZOFFSETTO:+0200
TZNAME:CEST
DTSTART:20270328T010000
END:DAYLIGHT
BEGIN:STANDARD
TZOFFSETFROM:+0200
TZOFFSETTO:+0100
TZNAME:CET
DTSTART:20271031T010000
END:STANDARD
END:VTIMEZONE
BEGIN:VEVENT
DTSTART;VALUE=DATE:20251212
DTEND;VALUE=DATE:20251213
DTSTAMP:20260423T121612
CREATED:20251123T204606Z
LAST-MODIFIED:20251123T204606Z
UID:2820-1765497600-1765583999@amiciaa.org
SUMMARY:IL DONO CONDIVISO
DESCRIPTION:Descrizione: “A.A. è molto di più di una serie di princípi: è un’associazione di alcolisti in azione. Dobbiamo portare il messaggio\, altrimenti noi stessi possiamo inaridire e quelli cui non è stata data la verità possono morire.” \nTratto da: “Come la vede Bill” pag.13
URL:https://amiciaa.org/event/il-dono-condiviso-2/
LOCATION:skipe amiciaa
CATEGORIES:Calendario
ORGANIZER;CN="gruppo on line AmiciAA":MAILTO:info@amiciaa.org
END:VEVENT
BEGIN:VEVENT
DTSTART;VALUE=DATE:20251214
DTEND;VALUE=DATE:20251215
DTSTAMP:20260423T121612
CREATED:20251123T204720Z
LAST-MODIFIED:20251123T204720Z
UID:2822-1765670400-1765756799@amiciaa.org
SUMMARY:DODICESIMO CONCETT0
DESCRIPTION:Descrizione:”Questo Concetto ribadisce in modo inequivocabile che le strutture di A.A. sono al servizio dei Gruppi e non hanno alcun potere spirituale su di loro\, che in A.A. l’importante è il confronto\, l’ascolto attento di chi si prende in carico il benessere altrui\, la cancellazione di ogni forma di punizione o prevaricazione.” \nTratto da: “Il compagno di viaggio” pag.263
URL:https://amiciaa.org/event/dodicesimo-concett0-2/
LOCATION:skipe amiciaa
CATEGORIES:Calendario
ORGANIZER;CN="gruppo on line AmiciAA":MAILTO:info@amiciaa.org
END:VEVENT
BEGIN:VEVENT
DTSTART;VALUE=DATE:20251215
DTEND;VALUE=DATE:20251216
DTSTAMP:20260423T121612
CREATED:20251123T204819Z
LAST-MODIFIED:20251123T204819Z
UID:2824-1765756800-1765843199@amiciaa.org
SUMMARY:ESSERE GRATI
DESCRIPTION:Descrizione: “Dal momento che tanta parte dei nostri pensieri era spesso strettamente associata con il nostro stile di vita di alcolisti\, abbiamo scoperto che vale la pena di considerare attentamente le nostre abitudini mentali e trovare altri e migliori modi di utilizzare la nostra mente.” \nTratto da: “Vivere Sobri” pag. 72
URL:https://amiciaa.org/event/essere-grati-2/
LOCATION:skipe amiciaa
CATEGORIES:Calendario
ORGANIZER;CN="gruppo on line AmiciAA":MAILTO:info@amiciaa.org
END:VEVENT
BEGIN:VEVENT
DTSTART;VALUE=DATE:20251217
DTEND;VALUE=DATE:20251218
DTSTAMP:20260423T121612
CREATED:20251123T204934Z
LAST-MODIFIED:20251123T204934Z
UID:2826-1765929600-1766015999@amiciaa.org
SUMMARY:LAVORARE CON GLI ALTRI
DESCRIPTION:Descrizione:”Per il tipo di alcolista capace e desideroso di ristabilirsi occorre ed è auspicabile un po di carità\, nel senso comune del termine. Quelli che implorano denaro e protezione prima di debellare l’alcol sono su una strada sbagliata. Tuttavia facciamo l’impossibile per procurarci a vicenda queste cose\, quando ne abbiamo davvero bisogno. Ciò può sembrare incoerente\, ma noi non lo riteniamo tale.” \nTratto da: “Alcolisti Anonimi” pag.97
URL:https://amiciaa.org/event/lavorare-con-gli-altri-13/
LOCATION:skipe amiciaa
CATEGORIES:Calendario
ORGANIZER;CN="gruppo on line AmiciAA":MAILTO:info@amiciaa.org
END:VEVENT
BEGIN:VEVENT
DTSTART;VALUE=DATE:20251219
DTEND;VALUE=DATE:20251220
DTSTAMP:20260423T121612
CREATED:20251123T205042Z
LAST-MODIFIED:20251123T205042Z
UID:2828-1766102400-1766188799@amiciaa.org
SUMMARY:COSA SI INTENDE PER “RISVEGLIO SPIRITUALE”?
DESCRIPTION:Descrizione:”Pur essendoci moltissime definizioni\, una che può essere proposta è questa: cominciare (o ricominciare) a pensare che tutti i propri comportamenti debbano essere ispirati non a un improbabile tornaconto ma a dei principi validi per tutti. Il risultato immediato del risveglio spirituale è l’inizio del cammino verso la serenità e la sobrietà emotiva.” \nTratto da: “Il compagno di viaggio” pag.106
URL:https://amiciaa.org/event/cosa-si-intende-per-risveglio-spirituale-2/
LOCATION:skipe amiciaa
CATEGORIES:Calendario
ORGANIZER;CN="gruppo on line AmiciAA":MAILTO:info@amiciaa.org
END:VEVENT
BEGIN:VEVENT
DTSTART;VALUE=DATE:20251221
DTEND;VALUE=DATE:20251222
DTSTAMP:20260423T121612
CREATED:20251123T205147Z
LAST-MODIFIED:20251123T205147Z
UID:2830-1766275200-1766361599@amiciaa.org
SUMMARY:DI NUOVO CITTADINI
DESCRIPTION:Descrizione:”Comunque\, prima o poi\, ognuno di noi deve affrontare altri doveri: verso la famiglia\, gli amici\, il Paese. Come ricorderai\, lo stesso Dodicesimo Passo suggerisce “di mettere in pratica questi princípi in tutti i campi della nostra vita”. Penso\, quindi\, che spetti a ciascuno decidere\, secondo la propria coscienza\, di fare o meno quel particolare lavoro da Dodicesimo Passo. Nessuno può dirti con certezza cosa fare e quando farlo.” \nTratto da: “Come la vede Bill” pag.21
URL:https://amiciaa.org/event/di-nuovo-cittadini-2/
LOCATION:skipe amiciaa
CATEGORIES:Calendario
ORGANIZER;CN="gruppo on line AmiciAA":MAILTO:info@amiciaa.org
END:VEVENT
BEGIN:VEVENT
DTSTART;VALUE=DATE:20251222
DTEND;VALUE=DATE:20251223
DTSTAMP:20260423T121612
CREATED:20251123T205400Z
LAST-MODIFIED:20251123T205400Z
UID:2832-1766361600-1766447999@amiciaa.org
SUMMARY:DODICESIMO PASSO
DESCRIPTION:Descrizione:”Persino l’ultimo dei nuovi venuti trova compensi mai sognati quando cerca di aiutare un fratello alcolista\, qualcuno che è ancora più cieco di lui. Questo è davvero il genere di dare che non chiede veramente nulla in cambio. Egli non si aspetta che il fratello che soffre lo ripaghi e neppure che lo ami.” \nTratto da: “Dodici Passi Dodici Tradizioni” pag.160
URL:https://amiciaa.org/event/dodicesimo-passo-6/
LOCATION:skipe amiciaa
CATEGORIES:Calendario
ORGANIZER;CN="gruppo on line AmiciAA":MAILTO:info@amiciaa.org
END:VEVENT
BEGIN:VEVENT
DTSTART;VALUE=DATE:20251224
DTEND;VALUE=DATE:20251225
DTSTAMP:20260423T121612
CREATED:20251123T205507Z
LAST-MODIFIED:20251123T205507Z
UID:2834-1766534400-1766620799@amiciaa.org
SUMMARY:CHE COSA SIGNIFICA “PORTARE IL MESSAGGIO?”
DESCRIPTION:Descrizione:”Spesso costituisce la prima forma di approccio con una persona che beve. Si tratta di mostrare che è possibile smettere con l’aiuto di altri che hanno lo stesso problema\, evidenziando il miglioramento della qualità della vita\, portato non solo dall’astinenza ma dal tentare di vivere in un altro modo.” \nTratto da:”Il compagno di viaggio” pag.103
URL:https://amiciaa.org/event/che-cosa-significa-portare-il-messaggio-2/
LOCATION:skipe amiciaa
CATEGORIES:Calendario
ORGANIZER;CN="gruppo on line AmiciAA":MAILTO:info@amiciaa.org
END:VEVENT
BEGIN:VEVENT
DTSTART;VALUE=DATE:20251226
DTEND;VALUE=DATE:20251227
DTSTAMP:20260423T121612
CREATED:20251123T205610Z
LAST-MODIFIED:20251123T205610Z
UID:2836-1766707200-1766793599@amiciaa.org
SUMMARY:VERSO LA MATURITA’
DESCRIPTION:Descrizione:”Credo che molti A.A. anziani\, che hanno sottoposto la nostra “terapia contro l’alcol” a prove difficili ma coronate dal successo\, si rendano conto che ancora manca loro la sobrietà emotiva. Probabilmente saranno la punta di diamante per il prossimo grande sviluppo di A.A.: lo sviluppo di una maturità ancora più grande e sincera\, e di un maggiore equilibrio\, vale a dire umiltà\, nei rapporti con noi stessi\, con i nostri simili e con Dio.” \nTratto da:”Come la vede Bill” pag.244
URL:https://amiciaa.org/event/verso-la-maturita-2/
LOCATION:skipe amiciaa
CATEGORIES:Calendario
ORGANIZER;CN="gruppo on line AmiciAA":MAILTO:info@amiciaa.org
END:VEVENT
BEGIN:VEVENT
DTSTART;VALUE=DATE:20251228
DTEND;VALUE=DATE:20251229
DTSTAMP:20260423T121612
CREATED:20251123T205942Z
LAST-MODIFIED:20251123T205942Z
UID:2840-1766880000-1766966399@amiciaa.org
SUMMARY:DIFFIDARE DELLA SICUREZZA
DESCRIPTION:Descrizione:”Alcuni di noi ripetutamente scoprono\, anche\, d’aver spesso fatto il passo più lungo della gamba. Probabilmente potremmo imparare molto\, riguardo a questo argomento\, da certi malati di cuore ormai guariti. Molti di essi si danno da fare per essere vigorosamente e produttivamente attivi in modo misurato\, evitando il sovraffaticamento e la frenetica schiavitù dell’orologio.” \nTratto da:”Vivere Sobri” pag.69
URL:https://amiciaa.org/event/diffidare-della-sicurezza-2/
LOCATION:skipe amiciaa
CATEGORIES:Calendario
ORGANIZER;CN="gruppo on line AmiciAA":MAILTO:info@amiciaa.org
END:VEVENT
BEGIN:VEVENT
DTSTART;VALUE=DATE:20251229
DTEND;VALUE=DATE:20251230
DTSTAMP:20260423T121612
CREATED:20251123T210115Z
LAST-MODIFIED:20251123T210115Z
UID:2842-1766966400-1767052799@amiciaa.org
SUMMARY:PERCHÉ NON BERE?
DESCRIPTION:Descrizione: L’alcol oltre a dare la dipendenza ha anche un effetto psicologico che modifica il pensiero e la ragione. Un bicchiere può cambiare il pensiero di un alcolista che così ritiene di poterne tollerare un secondo e poi un altro e un altro… L’alcolista può imparare a controllare completamente la sua malattia\, ma il male non può essere curato in modo che egli possa ritornare all’alcol senza conseguenze dannose. \nTratto da : Vivere sobri pag. 7.
URL:https://amiciaa.org/event/perche-non-bere-3/
LOCATION:skipe amiciaa
CATEGORIES:Calendario
ORGANIZER;CN="gruppo on line AmiciAA":MAILTO:info@amiciaa.org
END:VEVENT
BEGIN:VEVENT
DTSTART;VALUE=DATE:20251231
DTEND;VALUE=DATE:20260101
DTSTAMP:20260423T121612
CREATED:20251123T210247Z
LAST-MODIFIED:20251123T210247Z
UID:2844-1767139200-1767225599@amiciaa.org
SUMMARY:LA FORZA DI VOLONTA’ E LA SCELTA
DESCRIPTION:Descrizione:”Noi di A.A. sappiamo quanto sia inutile cercare di spezzare l’ossessione di bere con la sola forza di volontà. Sappiamo anche che ci vuole una gran buona volontà per adottare i Dodici Passi di A.A. come stile di vita che possa restituirci la ragione.” \nTratto da: “Come la vede Bill” pag.88
URL:https://amiciaa.org/event/la-forza-di-volonta-e-la-scelta-3/
LOCATION:skipe amiciaa
CATEGORIES:Calendario
ORGANIZER;CN="gruppo on line AmiciAA":MAILTO:info@amiciaa.org
END:VEVENT
BEGIN:VEVENT
DTSTART;VALUE=DATE:20260102
DTEND;VALUE=DATE:20260103
DTSTAMP:20260423T121612
CREATED:20251212T182000Z
LAST-MODIFIED:20251212T182000Z
UID:2846-1767312000-1767398399@amiciaa.org
SUMMARY:PRIMO PASSO
DESCRIPTION:“Abbiamo ammesso di essere impotenti di fronte all’alcol e che le nostre vite erano divenute incontrollabili.” Chi è disposto ad ammettere una completa sconfitta? Praticamente nessuno\, è ovvio. Tutti gli istinti naturali si ribellano all’idea di un’impotenza personale. E’ veramente terribile ammettere che\, bicchiere alla mano\, abbiamo distorto le nostre menti sino ad arrivare a una tale ossessione per un modo di bere distruttivo che soltanto un atto della Provvidenza può liberarcene. \nTratto da : “Dodici Passi Dodici Tradizioni”  pag.25
URL:https://amiciaa.org/event/primo-passo-7/
LOCATION:skipe amiciaa
CATEGORIES:Calendario
ORGANIZER;CN="gruppo on line AmiciAA":MAILTO:info@amiciaa.org
END:VEVENT
BEGIN:VEVENT
DTSTART;VALUE=DATE:20260104
DTEND;VALUE=DATE:20260105
DTSTAMP:20260423T121612
CREATED:20251212T182219Z
LAST-MODIFIED:20251212T182219Z
UID:2848-1767484800-1767571199@amiciaa.org
SUMMARY:CAMBIAMENTO DI PERSONALITA’
DESCRIPTION:Spesso si è detto che noi\, alcolisti anonimi\, siamo interessati solo all’alcolismo. Non è vero. Per sopravvivere\, dobbiamo smettere di bere. Ma chiunque conosca da vicino la personalità dell’alcolista sa che un vero bevitore non smetterà mai di bere in modo permanente senza un cambiamento profondo della sua personalità. \nTratto da: “Come la vede Bill” pag. 1
URL:https://amiciaa.org/event/cambiamento-di-personalita-2/
LOCATION:skipe amiciaa
CATEGORIES:Calendario
ORGANIZER;CN="gruppo on line AmiciAA":MAILTO:info@amiciaa.org
END:VEVENT
BEGIN:VEVENT
DTSTART;VALUE=DATE:20260105
DTEND;VALUE=DATE:20260106
DTSTAMP:20260423T121612
CREATED:20251212T182318Z
LAST-MODIFIED:20251212T182318Z
UID:2850-1767571200-1767657599@amiciaa.org
SUMMARY:VIVI E LASCIA VIVERE
DESCRIPTION:Quando abbiamo smesso di bere\, all’inizio\, è stato un sollievo scoprire che le persone che incontravamo in A.A. – alcolisti recuperati – sembravano molto diverse. Esse reagivano a noi non con un atteggiamento critico e sospettoso\, ma con comprensione e interessamento. \nTratto da: “Vivere Sobri” pag. 23
URL:https://amiciaa.org/event/vivi-e-lascia-vivere-5/
LOCATION:skipe amiciaa
CATEGORIES:Calendario
ORGANIZER;CN="gruppo on line AmiciAA":MAILTO:info@amiciaa.org
END:VEVENT
BEGIN:VEVENT
DTSTART;VALUE=DATE:20260107
DTEND;VALUE=DATE:20260108
DTSTAMP:20260423T121612
CREATED:20251212T182420Z
LAST-MODIFIED:20251212T182420Z
UID:2852-1767744000-1767830399@amiciaa.org
SUMMARY:CHE COSA PROPONE IL PRIMO PASSO
DESCRIPTION:Per giungere ad ammettere e ad accettare la propria impotenza di fronte all’alcol occorrono una resa incondizionata e un abbandono totale. Solo così si possono superare le più radicate riserve mentali\, la fondamentale negazione del problema\, e ci si può convincere che non si potrà mai controllare il proprio bere. Per questo il primo Passo richiede un’azione basilare:riconoscere ed accettare il proprio problema senza riserve. \nTratto da: “Il compagno di viaggio” pag.23
URL:https://amiciaa.org/event/che-cosa-propone-il-primo-passo-3/
LOCATION:skipe amiciaa
CATEGORIES:Calendario
ORGANIZER;CN="gruppo on line AmiciAA":MAILTO:info@amiciaa.org
END:VEVENT
BEGIN:VEVENT
DTSTART;VALUE=DATE:20260109
DTEND;VALUE=DATE:20260110
DTSTAMP:20260423T121612
CREATED:20251212T182538Z
LAST-MODIFIED:20251212T182538Z
UID:2854-1767916800-1768003199@amiciaa.org
SUMMARY:CI PENSERO’ DOMANI
DESCRIPTION:Ho ingaggiato la mia battaglia contro le mie ossessioni nel momento in cui in A.A. ho accettato di abbandonare la bottiglia\, ho accettato di imparare a crescere\, ho accettato di chiedere aiuto\, ho accettato di permettere agli altri\, gli amici del gruppo\, di aiutarmi a demolire le barricate che avevo costruito. \nTratto da: “Alcolisti Anonimi” pag.323
URL:https://amiciaa.org/event/ci-pensero-domani-2/
LOCATION:skipe amiciaa
CATEGORIES:Calendario
ORGANIZER;CN="gruppo on line AmiciAA":MAILTO:info@amiciaa.org
END:VEVENT
BEGIN:VEVENT
DTSTART;VALUE=DATE:20260111
DTEND;VALUE=DATE:20260112
DTSTAMP:20260423T121612
CREATED:20251212T182643Z
LAST-MODIFIED:20251212T182643Z
UID:2856-1768089600-1768175999@amiciaa.org
SUMMARY:CHE COSA E’ LA “ACCETTAZIONE”?
DESCRIPTION:Accettare vuol dire non respingere\, smettere di lottare e di prendersi gioco di se stessi\, mettere da parte la filosofia dell’autosufficienza e superare la negazione del problema\, “acconsentendo ad accogliere” sin nel profondo dell’animo le verità sul proprio alcolismo\, la progressività della propria “malattia” e la pressoché assoluta impossibilità di sconfiggere l’alcol con i soli mezzi individuali.   \nTratto da: “Il compagno di viaggio” pag.24
URL:https://amiciaa.org/event/che-cosa-e-la-accettazione-2/
LOCATION:skipe amiciaa
CATEGORIES:Calendario
ORGANIZER;CN="gruppo on line AmiciAA":MAILTO:info@amiciaa.org
END:VEVENT
BEGIN:VEVENT
DTSTART;VALUE=DATE:20260112
DTEND;VALUE=DATE:20260113
DTSTAMP:20260423T121612
CREATED:20251212T182754Z
LAST-MODIFIED:20251212T182754Z
UID:2858-1768176000-1768262399@amiciaa.org
SUMMARY:PRIMA TRADIZIONE
DESCRIPTION:L’unità di Alcolisti Anonimi è la qualità che la nostra associazione ha più cara. Le nostre vite\, le vite di tutti quelli che verranno\, dipendono direttamente da essa. O restiamo uniti o A.A. muore. Senza unità\, il cuore di A. A cesserebbe di battere; le nostre arterie mondiali non porterebbero più la grazia vivificante di Dio; il dono che Egli ci ha fatto verrebbe sprecato inutilmente.  \nTratto da: “Dodici Passi Dodici Tradizioni” pag.187
URL:https://amiciaa.org/event/prima-tradizione-5/
LOCATION:skipe amiciaa
CATEGORIES:Calendario
ORGANIZER;CN="gruppo on line AmiciAA":MAILTO:info@amiciaa.org
END:VEVENT
BEGIN:VEVENT
DTSTART;VALUE=DATE:20260114
DTEND;VALUE=DATE:20260115
DTSTAMP:20260423T121612
CREATED:20251212T182914Z
LAST-MODIFIED:20251212T182914Z
UID:2860-1768348800-1768435199@amiciaa.org
SUMMARY:IL PROBLEMA E’ NELLA NOSTRA MENTE
DESCRIPTION:Sappiamo che se l’alcolista non si mette a bere\, come può fare per mesi e anni\, le sue reazioni sono simili a quelle degli altri uomini. Sappiamo ugualmente che se beve dell’alcol\, non importa sotto quale forma\, accade qualcosa nel suo corpo e nella sua mente che gli impedisce virtualmente di fermarsi. L’esperienza di ogni alcolista può confermare abbondantemente tutto ciò. \nTratto da: “Come la vede Bill” pag. 130
URL:https://amiciaa.org/event/il-problema-e-nella-nostra-mente-2/
LOCATION:skipe amiciaa
CATEGORIES:Calendario
ORGANIZER;CN="gruppo on line AmiciAA":MAILTO:info@amiciaa.org
END:VEVENT
BEGIN:VEVENT
DTSTART;VALUE=DATE:20260116
DTEND;VALUE=DATE:20260117
DTSTAMP:20260423T121612
CREATED:20251212T183019Z
LAST-MODIFIED:20251212T183019Z
UID:2862-1768521600-1768607999@amiciaa.org
SUMMARY:DIFFIDARE DALLA SICUREZZA
DESCRIPTION:Molti bevitori (alcolisti e non) mutano uno stato interiore di sconforto con uno di benessere mediante il semplice atto del bere.Questo modo di passare dal dolore al piacere è stato descritto come “la fuga nel bicchiere”. Ma migliaia e migliaia di noi sanno che spesso erano già in un stato di felicità quando assumevano alcol. Infatti\, quando rivedono attentamente i propri ricordi di alcolisti\, molti di noi si accorgono che spesso bevevano per intensificare un già esistente stato di esaltazione.Da ciò nasce un ulteriore suggerimento: siate particolarmente cauti nei momenti di maggiore contentezza o nei momenti in cui vi sentite particolarmente bene. \nTratto da: “Vivere sobri” pag.66
URL:https://amiciaa.org/event/diffidare-dalla-sicurezza-6/
LOCATION:skipe amiciaa
CATEGORIES:Calendario
ORGANIZER;CN="gruppo on line AmiciAA":MAILTO:info@amiciaa.org
END:VEVENT
BEGIN:VEVENT
DTSTART;VALUE=DATE:20260117
DTEND;VALUE=DATE:20260118
DTSTAMP:20260423T121612
CREATED:20260117T141841Z
LAST-MODIFIED:20260129T192002Z
UID:2907-1768608000-1768694399@amiciaa.org
SUMMARY:NON TEMERE LA VITA
DESCRIPTION:Descrizione: ” Il secondo Passo\, ci tengo a sottolinearlo\, non dice che ci farà smettere di bere\, ma che ci riporterà alla ragione. Tutti i nostri guai\, in buona sostanza\, si tratti del bere o della difficoltà a vivere\, dipendono da un limite insito in noi\, un grosso limite che investe la sfera mentale e quella spirituale. .” \nTratto da: “Rivista insieme\, n.1 del 2023\, pag. 37
URL:https://amiciaa.org/event/non-temere-la-vita-3/
LOCATION:skipe amiciaa
CATEGORIES:Calendario
ORGANIZER;CN="gruppo on line AmiciAA":MAILTO:info@amiciaa.org
END:VEVENT
BEGIN:VEVENT
DTSTART;VALUE=DATE:20260117
DTEND;VALUE=DATE:20260118
DTSTAMP:20260423T121612
CREATED:20260117T141936Z
LAST-MODIFIED:20260129T192133Z
UID:2909-1768608000-1768694399@amiciaa.org
SUMMARY:“FA COME FACCIO IO…..”
DESCRIPTION:Descrizioni: Nei primi anni di A.A. non ho fatto altro che rovinare tutto il mio lavoro con gli alcolisti con questa specie di inconsapevole arroganza. Dio\, come io Lo concepivo\, doveva essere valido per tutti. Talvolta la mia aggressività era sottile\, altre volte rude. Ma in entrambi i modi era dannosa\, forse addirittura fatale\, per i numerosi non credenti. \nTratto da: “Come la vede Bill” pag.146
URL:https://amiciaa.org/event/fa-come-faccio-io-2/
LOCATION:skipe amiciaa
CATEGORIES:Calendario
ORGANIZER;CN="gruppo on line AmiciAA":MAILTO:info@amiciaa.org
END:VEVENT
BEGIN:VEVENT
DTSTART;VALUE=DATE:20260118
DTEND;VALUE=DATE:20260119
DTSTAMP:20260423T121612
CREATED:20251212T183149Z
LAST-MODIFIED:20251212T183149Z
UID:2864-1768694400-1768780799@amiciaa.org
SUMMARY:PRIMO PASSO
DESCRIPTION:Perché tanta insistenza sul fatto che ogni A.A. deve per prima cosa toccare il proprio fondo? La risposta è che ben poche persone cercheranno di mettere in pratica sinceramente il Programma di A.A. se prima non l’hanno toccato. Perché mettere in pratica i rimanenti undici Passi significa adottare modi di pensare e di agire che quasi nessun alcolista che ancora beve può sognarsi di seguire. \nTratto da: “Dodici passi dodici tradizioni” pag.29
URL:https://amiciaa.org/event/primo-passo-8/
LOCATION:skipe amiciaa
CATEGORIES:Calendario
ORGANIZER;CN="gruppo on line AmiciAA":MAILTO:info@amiciaa.org
END:VEVENT
BEGIN:VEVENT
DTSTART;VALUE=DATE:20260119
DTEND;VALUE=DATE:20260120
DTSTAMP:20260423T121612
CREATED:20251212T183301Z
LAST-MODIFIED:20251212T183301Z
UID:2866-1768780800-1768867199@amiciaa.org
SUMMARY:UNA PROSPETTIVA PER VOI
DESCRIPTION:Per la maggior parte della gente normale\, il bere significa giovialità\, socievolezza\, stimolo all’immaginazione. Significa lasciare da parte per un po’ preoccupazioni\, seccature e guai. E lieta intimità con amici e la sensazione che la vita è bella. Ma così non era per noi in quegli ultimi giorni in cui si beveva forte. L’antico senso di piacere era sparito\, non era più che un ricordo. Non potevamo mai ritrovare i momenti felici di un tempo.  \nTratto da: “Alcolisti Anonimi” pag.151
URL:https://amiciaa.org/event/una-prospettiva-per-voi-8/
LOCATION:skipe amiciaa
CATEGORIES:Calendario
ORGANIZER;CN="gruppo on line AmiciAA":MAILTO:info@amiciaa.org
END:VEVENT
BEGIN:VEVENT
DTSTART;VALUE=DATE:20260121
DTEND;VALUE=DATE:20260122
DTSTAMP:20260423T121612
CREATED:20251212T183404Z
LAST-MODIFIED:20251212T183404Z
UID:2868-1768953600-1769039999@amiciaa.org
SUMMARY:PRIMO CONCETTO
DESCRIPTION:Il Primo Concetto afferma che i Gruppi sono responsabili della sopravvivenza di A.A. e del Servizio in A.A.; quindi\, hanno il diritto di dire l’ultima parola sul funzionamento dell’Associazione. La struttura di A.A. è dunque una piramide rovesciata\, in cima alla quale ci sono i Gruppi. Questo Concetto pone quindi in atto la differenza tra autorità conferita e spirito di servizio. \nTratto da: “Il compagno di viaggio” pag.187
URL:https://amiciaa.org/event/primo-concetto-3/
LOCATION:skipe amiciaa
CATEGORIES:Calendario
ORGANIZER;CN="gruppo on line AmiciAA":MAILTO:info@amiciaa.org
END:VEVENT
BEGIN:VEVENT
DTSTART;VALUE=DATE:20260123
DTEND;VALUE=DATE:20260124
DTSTAMP:20260423T121612
CREATED:20251212T183619Z
LAST-MODIFIED:20251212T183619Z
UID:2870-1769126400-1769212799@amiciaa.org
SUMMARY:BENEFICI E MISTERI
DESCRIPTION:L’importanza che gli A.A. attribuiscono alla sobrietà è talvolta fraintesa. Per alcuni questa virtù sembra essere il solo beneficio da trarre dalla nostra associazione. Siamo considerati degli ubriaconi astinenti che per il resto sono migliorati di poco\, se non per niente. Tale supposizione è ben lontana dalla realtà. Sappiamo che nessuno può raggiungere una sobrietà permanente senza un cambiamento totalmente rivoluzionario della sua vita e del suo modo di vedere le cose\, attraverso un risveglio spirituale che riesce a scacciare il desiderio di bere. \nTratto da: “Come la vede Bill” pag. 171
URL:https://amiciaa.org/event/benefici-e-misteri-2/
LOCATION:skipe amiciaa
CATEGORIES:Calendario
ORGANIZER;CN="gruppo on line AmiciAA":MAILTO:info@amiciaa.org
END:VEVENT
BEGIN:VEVENT
DTSTART;VALUE=DATE:20260125
DTEND;VALUE=DATE:20260126
DTSTAMP:20260423T121612
CREATED:20251212T183749Z
LAST-MODIFIED:20251212T183749Z
UID:2872-1769299200-1769385599@amiciaa.org
SUMMARY:RESPONSABILITA’ MORALE
DESCRIPTION:Alcuni si oppongono con forza alla posizione di AA che sostiene che l’alcolismo è una malattia. A loro avviso questo concetto solleva gli alcolisti dalla loro responsabilità morale. Ogni AA sa che questo non è vero. Non usiamo il concetto di malattia per assolvere i nostri membri dalla loro responsabilità. Al contrario\, sottolineiamo la gravità di questa malattia per vincolare colui che ne è affetto a un obbligo morale be più pesante: l’obbligo morale di ricorrere ai Dodici Passi di AA per ristabilirsi.” \nTratto da: “Come la vede Bill” pag. 32
URL:https://amiciaa.org/event/responsabilita-morale-3/
LOCATION:skipe amiciaa
CATEGORIES:Calendario
ORGANIZER;CN="gruppo on line AmiciAA":MAILTO:info@amiciaa.org
END:VEVENT
BEGIN:VEVENT
DTSTART;VALUE=DATE:20260126
DTEND;VALUE=DATE:20260127
DTSTAMP:20260423T121612
CREATED:20251212T202610Z
LAST-MODIFIED:20251212T202610Z
UID:2874-1769385600-1769471999@amiciaa.org
SUMMARY:PRIMO PASSO
DESCRIPTION:Un attacco frontale contro il desiderio di bere non funziona quasi mai. Bisogna riconoscere che una vera e propria follia non può essere vinta dalla pura e semplice “forza di volontà” o dalle sole risorse individuali. Ognuno ha tentato in tutti i modi possibili di fare proprio questo ed ha fallito.  \nTratto da: ” Il compagno di viaggio” pag.26
URL:https://amiciaa.org/event/primo-passo-9/
LOCATION:skipe amiciaa
CATEGORIES:Calendario
ORGANIZER;CN="gruppo on line AmiciAA":MAILTO:info@amiciaa.org
END:VEVENT
BEGIN:VEVENT
DTSTART;VALUE=DATE:20260128
DTEND;VALUE=DATE:20260129
DTSTAMP:20260423T121612
CREATED:20251123T205801Z
LAST-MODIFIED:20251123T205801Z
UID:2838-1769558400-1769644799@amiciaa.org
SUMMARY:UNA SOLUZIONE ESISTE
DESCRIPTION:Descrizione:”Noi\, di Alcolisti Anonimi\, conosciamo moltissime persone d’ambo i sessi che si sono trovate\, a un certo momento della loro esistenza\, così disperate come si trovò Bill. Si sono salvate quasi tutte. Hanno infatti trovato una soluzione al problema dell’alcol.Siamo dei comunissimi cittadini. Tutti i livelli sociali del nostro Paese e la maggior parte dei mestieri e delle professioni sono rappresentati nella nostra associazione\, così pure tutti i gruppi politici\, economici\, sociali e religiosi. Gente che\, di solito\, non si mischia. Ma tra di noi esiste un senso di fratellanza\, di amicizia e di comprensione così meraviglioso che non si può descrivere.” \nTratto da: “Alcolisti Anonimi” pag.17
URL:https://amiciaa.org/event/una-soluzione-esiste-3/
LOCATION:skipe amiciaa
CATEGORIES:Calendario
ORGANIZER;CN="gruppo on line AmiciAA":MAILTO:info@amiciaa.org
END:VEVENT
END:VCALENDAR