BEGIN:VCALENDAR
VERSION:2.0
PRODID:-//AmiciAA Alcolisti Anonimi - ECPv6.15.20//NONSGML v1.0//EN
CALSCALE:GREGORIAN
METHOD:PUBLISH
X-ORIGINAL-URL:https://amiciaa.org
X-WR-CALDESC:Eventi per AmiciAA Alcolisti Anonimi
REFRESH-INTERVAL;VALUE=DURATION:PT1H
X-Robots-Tag:noindex
X-PUBLISHED-TTL:PT1H
BEGIN:VTIMEZONE
TZID:Europe/Rome
BEGIN:DAYLIGHT
TZOFFSETFROM:+0100
TZOFFSETTO:+0200
TZNAME:CEST
DTSTART:20240331T010000
END:DAYLIGHT
BEGIN:STANDARD
TZOFFSETFROM:+0200
TZOFFSETTO:+0100
TZNAME:CET
DTSTART:20241027T010000
END:STANDARD
BEGIN:DAYLIGHT
TZOFFSETFROM:+0100
TZOFFSETTO:+0200
TZNAME:CEST
DTSTART:20250330T010000
END:DAYLIGHT
BEGIN:STANDARD
TZOFFSETFROM:+0200
TZOFFSETTO:+0100
TZNAME:CET
DTSTART:20251026T010000
END:STANDARD
BEGIN:DAYLIGHT
TZOFFSETFROM:+0100
TZOFFSETTO:+0200
TZNAME:CEST
DTSTART:20260329T010000
END:DAYLIGHT
BEGIN:STANDARD
TZOFFSETFROM:+0200
TZOFFSETTO:+0100
TZNAME:CET
DTSTART:20261025T010000
END:STANDARD
END:VTIMEZONE
BEGIN:VEVENT
DTSTART;VALUE=DATE:20250420
DTEND;VALUE=DATE:20250421
DTSTAMP:20260423T192856
CREATED:20250322T093500Z
LAST-MODIFIED:20250322T093500Z
UID:2439-1745107200-1745193599@amiciaa.org
SUMMARY:RICORDARE CHE L’ALCOLISMO È UNA MALATTIA INGUARIBILE\, PROGRESSIVA E MORTALE.
DESCRIPTION:Descrizione:” Naturalmente\, anche se ci possiamo sentire defraudati\, non è saggio ignorare la nostra costituzione fisiologica. Se ignoriamo i nostri limiti possono insorgere grossi scompensi e malattie. Per essere sani e ragionevolmente felici\, dobbiamo imparare a vivere con il corpo che abbiamo. Una delle nuove abitudini mentali che un alcolista in via di recupero può cercare di sviluppare consiste nel considerarsi\, con tranquillità\, come una persona che debba evitare sostanze chimiche (alcol e altre droghe che possano sostituirlo)\, sempre che voglia mantenersi in buona salute”. \nTratto da: Vivere Sobri pag. 18.
URL:https://amiciaa.org/event/ricordare-che-lalcolismo-e-una-malattia-inguaribile-progressiva-e-mortale-2/
LOCATION:skipe amiciaa
CATEGORIES:Calendario
ORGANIZER;CN="gruppo on line AmiciAA":MAILTO:info@amiciaa.org
END:VEVENT
BEGIN:VEVENT
DTSTART;VALUE=DATE:20250421
DTEND;VALUE=DATE:20250422
DTSTAMP:20260423T192856
CREATED:20250322T093720Z
LAST-MODIFIED:20250322T093720Z
UID:2441-1745193600-1745279999@amiciaa.org
SUMMARY:ABBANDONARE LE VECCHIE IDEE
DESCRIPTION:Descrizione: “Le idee che si sono cosi profondamente radicate in noi durante il periodo in cui bevevamo non scompaiono tutte improvvisamente come per magia il giorno in cui cominciamo a mettere il tappo alla bottiglia. I giorni del vino e delle “sagre dell’uva”  possono essersene andati\, ma la malattia persiste. Cosi’ abbiamo scoperto che e’ terapeutico eliminare molte vecchie idee che cominciano a riaffiorare\, e continuano a farlo ancora e ancora.” \nTratto da “Vivere sobri” pag. 104
URL:https://amiciaa.org/event/abbandonare-le-vecchie-idee-2/
LOCATION:skipe amiciaa
CATEGORIES:Calendario
ORGANIZER;CN="gruppo on line AmiciAA":MAILTO:info@amiciaa.org
END:VEVENT
BEGIN:VEVENT
DTSTART;VALUE=DATE:20250423
DTEND;VALUE=DATE:20250424
DTSTAMP:20260423T192856
CREATED:20250322T094039Z
LAST-MODIFIED:20250322T094039Z
UID:2443-1745366400-1745452799@amiciaa.org
SUMMARY:CHE E COSA SI PUO’ FARE PER CORREGGERE LE MANCANZE INDIVIDUATE COL QUARTO PASSO?
DESCRIPTION:Descrizione: “E’ continuare con il Programma ( e\, in particolare \, col sesto e settimo Passo ) che consente di agire sui difetti di carattere che di fatto costituiscono un blocco \, riportando ciascuno sempre al passato o creando paura per il futuro e non permettendo di vivere serenamente il presente. \nTratto da “Il compagno di viaggio” pag. 48
URL:https://amiciaa.org/event/che-e-cosa-si-puo-fare-per-correggere-le-mancanze-individuate-col-quarto-passo/
LOCATION:skipe amiciaa
CATEGORIES:Calendario
ORGANIZER;CN="gruppo on line AmiciAA":MAILTO:info@amiciaa.org
END:VEVENT
BEGIN:VEVENT
DTSTART;VALUE=DATE:20250425
DTEND;VALUE=DATE:20250426
DTSTAMP:20260423T192856
CREATED:20250322T094235Z
LAST-MODIFIED:20250322T094235Z
UID:2445-1745539200-1745625599@amiciaa.org
SUMMARY:VIVI E LASCIA VIVERE
DESCRIPTION:Descrizione: “Ci siamo sentiti spesso arrabbiati e timorosi anche verso persone che non ci criticavano. La nostra colpa ci aveva reso ultrasensibili alle persone intorno a noi e covavamo rancore. A volte cambiavamo bar\, posto di lavoro o casa solo per allontanarci da determinate persone. Cosi moltissima gente oltre a noi veniva coinvolta in qualche modo e in una certa misura dal fatto che bevevamo. \nTratto da  “Vivere Sobri” pag.22
URL:https://amiciaa.org/event/vivi-e-lascia-vivere-4/
LOCATION:skipe amiciaa
CATEGORIES:Calendario
ORGANIZER;CN="gruppo on line AmiciAA":MAILTO:info@amiciaa.org
END:VEVENT
BEGIN:VEVENT
DTSTART;VALUE=DATE:20250427
DTEND;VALUE=DATE:20250428
DTSTAMP:20260423T192856
CREATED:20250322T094419Z
LAST-MODIFIED:20250322T094419Z
UID:2447-1745712000-1745798399@amiciaa.org
SUMMARY:QUANDO INZIARE IL IV PASSO?
DESCRIPTION:Descrizione:” Bill mette sull’avviso riguardo a ciò che può trattenere dall’iniziare subito il IV Passo\, soprattutto la paura e l’orgoglio. L’esperienza mostra che non è possibile alcun cammino di recupero fintanto che non si sia presa coscienza dell’esigenza di una pulizia interiore per procedere sulla strada intrapresa. Pur tuttavia\, è necessario iniziare il prima possibile questo Passo\, proprio combattendo paura e orgoglio\, al fine di potersi incamminare sulla via del recupero”. \nTratto da: Il Compagno di Viaggio pag.46.
URL:https://amiciaa.org/event/quando-inziare-il-iv-passo-2/
LOCATION:skipe amiciaa
CATEGORIES:Calendario
ORGANIZER;CN="gruppo on line AmiciAA":MAILTO:info@amiciaa.org
END:VEVENT
BEGIN:VEVENT
DTSTART;VALUE=DATE:20250428
DTEND;VALUE=DATE:20250429
DTSTAMP:20260423T192856
CREATED:20250322T094725Z
LAST-MODIFIED:20250322T094725Z
UID:2449-1745798400-1745884799@amiciaa.org
SUMMARY:IL NOSTRO METODO
DESCRIPTION:Descrizione:” A tal fine abbiamo cominciato a fare un inventario personale. Era il Quarto Passo. Un negoziante che non fa mai l’inventario della merce\, di solito fallisce. Una volta fatto l’inventario\, scopre ciò che manca e cerca le cause del deperimento di qualche articolo. Qualora rilevasse che ha uno stock di merce invendibile oppure guasta\, per salvare ilo suo esercizio lo toglierà di mezzo senza risarcimento. Se il negoziante è interessato al successo non può ingannarsi su quanto ha in magazzino. Abbiamo fatto un simile inventario delle nostre vite e lo abbiamo fatto onestamente”. \nTratto da: Alcolisti Anonimi pag. 63.
URL:https://amiciaa.org/event/il-nostro-metodo-6/
LOCATION:skipe amiciaa
CATEGORIES:Calendario
ORGANIZER;CN="gruppo on line AmiciAA":MAILTO:info@amiciaa.org
END:VEVENT
BEGIN:VEVENT
DTSTART;VALUE=DATE:20250430
DTEND;VALUE=DATE:20250501
DTSTAMP:20260423T192856
CREATED:20250322T095224Z
LAST-MODIFIED:20250322T095224Z
UID:2451-1745971200-1746057599@amiciaa.org
SUMMARY:PERCHE A.A. SUGGERISCE L'INVENTARIO ATTRAVERSO IL QUARTO PASSO?
DESCRIPTION:Per scoprire le cose danneggiate o del tutto inefficienti. Se un negoziante non fa mai l’inventario della merce\, di solito\, fallisce. Una volta fatto l’inventario\, scopre ciò che manca e cerca le cause del deperimento di qualche articolo. Qualora rilevasse che ha uno stock di merce invendibile oppure guasta\, per salvare il suo esercizio lo toglierà di mezzo senza rincrescimento. Se il negoziante è interessato al successo non può ingannarsi su quanto ha in magazzino. \nTratto da: “Il compagno di viaggio” pag. 47
URL:https://amiciaa.org/event/perche-a-a-suggerisce-linventario-attraverso-il-quarto-passo/
LOCATION:skipe amiciaa
CATEGORIES:Calendario
ORGANIZER;CN="gruppo on line AmiciAA":MAILTO:info@amiciaa.org
END:VEVENT
BEGIN:VEVENT
DTSTART;VALUE=DATE:20250502
DTEND;VALUE=DATE:20250503
DTSTAMP:20260423T192856
CREATED:20250421T102957Z
LAST-MODIFIED:20250421T102957Z
UID:2527-1746144000-1746230399@amiciaa.org
SUMMARY:QUINTO PASSO
DESCRIPTION:” Abbiamo ammesso di fronte a Dio\, a noi stessi e ad un altro essere umano\, l’esatta natura dei nostri torti.” \nI Dodici Passi sgonfiano l’Io. Il Quinto Passo è difficile ma è indispensabile alla sobrietà e alla serenità. La confessione è un’antica disciplina. Senza una coraggiosa ammissione dei propri difetti pochi potrebbero restare sobri. Che cosa riceviamo dal Quinto Passo? Il principio di una vera affinità con l’uomo e con Dio. Liberarsi dal senso di isolamento\, riceve perdono e darlo\, apprendere l’umiltà\, raggiungere l’onestà e una visione realistica di noi stessi. Necessità di una completa onestà. Pericoli della razionalizzazione. Come scegliere la persona con la quale confidarsi. I risultati sono la tranquillità e la consapevolezza di Dio. Sentirsi all’unisono con Dio e con il nostro prossimi ci prepara ai Passi successivi.” \n  \nTratto da: 12 Passi e 12 Tradizioni         pag.5
URL:https://amiciaa.org/event/quinto-passo-3/
LOCATION:skipe amiciaa
CATEGORIES:Calendario
ORGANIZER;CN="gruppo on line AmiciAA":MAILTO:info@amiciaa.org
END:VEVENT
BEGIN:VEVENT
DTSTART;VALUE=DATE:20250504
DTEND;VALUE=DATE:20250505
DTSTAMP:20260423T192856
CREATED:20250421T103430Z
LAST-MODIFIED:20250421T103430Z
UID:2529-1746316800-1746403199@amiciaa.org
SUMMARY:COME SCELGO LA PERSONA A CUI RACCONTARE DI ME? PUO’ ESSERE UN NON A.A.?
DESCRIPTION:Descrizione: “Non c’e’ nessuna opposizione teorica a un simile evento\, anzi\, magari un sacerdote o uno psicologo possono essere piu’ abituati e\, quindi\, piu efficaci riguardo al recepire aperture spirituali di questo tipo. C’e’ pero’ una cosa da tener bene presente: un A.A.\, magari con una certa esperienza\, riuscirà’ ad inquadrare le difficolta alla luce del Programma\, abituando cosi l’individuo a vedere tutto nell’ambito del cammino che cerca di fare. \nTratto da “Il compagno di viaggio” pag.53
URL:https://amiciaa.org/event/come-scelgo-la-persona-a-cui-raccontare-di-me-puo-essere-un-non-a-a-2/
LOCATION:skipe amiciaa
CATEGORIES:Calendario
ORGANIZER;CN="gruppo on line AmiciAA":MAILTO:info@amiciaa.org
END:VEVENT
BEGIN:VEVENT
DTSTART;VALUE=DATE:20250505
DTEND;VALUE=DATE:20250506
DTSTAMP:20260423T192856
CREATED:20250421T103642Z
LAST-MODIFIED:20250421T103642Z
UID:2531-1746403200-1746489599@amiciaa.org
SUMMARY:RIPOSARE MOLTO
DESCRIPTION:Descrizione: “Dopo che abbiamo smesso di bere\, possono perdurare per un certo periodo sintomi di agitazione che provcano nervosismo e insonnia. Opppure possiamo improvvisamente renderci conto della nostra stanchezza e sentirci quindi sfiniti e in uno stato letargico o\, ancora\, le due condizioni possono alternarsi. Entrambe sono reazioni normali che migliaia di noi hanno avuto nei primi tempi della sobrietà\, in una misura determinata da quanto bevevamo prima e dal nostro stato di salute. In ogni caso\, prima o poi svaniscono e non devono causare preoccupazioni”. \nTratto da: Vivere sobri pag. 49
URL:https://amiciaa.org/event/riposare-molto-3/
LOCATION:skipe amiciaa
CATEGORIES:Calendario
ORGANIZER;CN="gruppo on line AmiciAA":MAILTO:info@amiciaa.org
END:VEVENT
BEGIN:VEVENT
DTSTART;VALUE=DATE:20250507
DTEND;VALUE=DATE:20250508
DTSTAMP:20260423T192856
CREATED:20250421T103819Z
LAST-MODIFIED:20250421T103819Z
UID:2533-1746576000-1746662399@amiciaa.org
SUMMARY:QUINTA TRADIZIONE
DESCRIPTION:Descrizione: “Gli Alcolisti Anonimi sono vincolati dallo stesso rigoroso dovere\, perchè hanno dimostrato di poter aiutare chi ha problemi con l’alcol come raramente altri sono in grado di fare. La capacità veramente unica di ogni A.A. di identificarsi con il nuovo venuto e di portarlo a recuperarsi non dipende in nessun modo dalla sua cultura\, dalla sua eloquenza né da qualche altra abilità personale”. \nTratto da: Dodici Passi e Dodici Tradizioni pag. 218.
URL:https://amiciaa.org/event/quinta-tradizione-5/
LOCATION:skipe amiciaa
CATEGORIES:Calendario
ORGANIZER;CN="gruppo on line AmiciAA":MAILTO:info@amiciaa.org
END:VEVENT
BEGIN:VEVENT
DTSTART;VALUE=DATE:20250509
DTEND;VALUE=DATE:20250510
DTSTAMP:20260423T192856
CREATED:20250421T103942Z
LAST-MODIFIED:20250421T103942Z
UID:2535-1746748800-1746835199@amiciaa.org
SUMMARY:QUINTO PASSO
DESCRIPTION:Bisogna liberarsi dei fantasmi del passato senza mai dimenticare le proprie esperienze che sono la ricchezza di ognuno. Il senso di liberazione che si prova dopo essersi lasciati andare sinceramente\, spesso per la prima volta \, e’ meraviglioso. \nTratto da “Il compagno di viaggio” pag. 56
URL:https://amiciaa.org/event/quinto-passo-4/
LOCATION:skipe amiciaa
CATEGORIES:Calendario
ORGANIZER;CN="gruppo on line AmiciAA":MAILTO:info@amiciaa.org
END:VEVENT
BEGIN:VEVENT
DTSTART;VALUE=DATE:20250511
DTEND;VALUE=DATE:20250512
DTSTAMP:20260423T192856
CREATED:20250421T104108Z
LAST-MODIFIED:20250421T104108Z
UID:2537-1746921600-1747007999@amiciaa.org
SUMMARY:FARE USO DELLA “TERAPIA DEL TELEFONO”
DESCRIPTION:Quando dicevamo la verità’ su come ci sentivamo\, su che cosa stavamo facendo e cosa volevamo fare\, eravamo compresi benissimo; ricevevamo una comprensione totale\, non solo simpatia. Chiunque chiamassimo\, teniamolo a mente\, era stato nella nostra stessa barca e lui per primo lo ricordava vividamente. Il piu delle volte\, bastavano pochi minuti di conversazione perche’ si dileguasse il pensiero del bere. A volte ricevevamo suggerimenti di ordine pratico\, talvolta un consiglio diretto e dato col cuore. A volte ci sorprendevamo a ridere. \nTratto da “Vivere sobri” pag. 41
URL:https://amiciaa.org/event/fare-uso-della-terapia-del-telefono-2/
LOCATION:skipe amiciaa
CATEGORIES:Calendario
ORGANIZER;CN="gruppo on line AmiciAA":MAILTO:info@amiciaa.org
END:VEVENT
BEGIN:VEVENT
DTSTART;VALUE=DATE:20250512
DTEND;VALUE=DATE:20250513
DTSTAMP:20260423T192856
CREATED:20250421T104249Z
LAST-MODIFIED:20250421T104249Z
UID:2539-1747008000-1747094399@amiciaa.org
SUMMARY:CAMBIARE LE VECCHIE ABITUDINI
DESCRIPTION:Descrizione: “Alcuni orari prestabiliti \, luoghi familiari e attività’ regolari associate col bere sono state parte integrante della nostra vita. Tutte queste vecchie abitudini  – come la fatica\, la fame\, la solitudine \, la rabbia e le troppe relazioni – possono divenire delle trappole che costituiscono un pericolo per la nostra sobrietà’. \nTratto da “Vivere sobri” pag 34
URL:https://amiciaa.org/event/cambiare-le-vecchie-abitudini-2/
LOCATION:skipe amiciaa
CATEGORIES:Calendario
ORGANIZER;CN="gruppo on line AmiciAA":MAILTO:info@amiciaa.org
END:VEVENT
BEGIN:VEVENT
DTSTART;VALUE=DATE:20250514
DTEND;VALUE=DATE:20250515
DTSTAMP:20260423T192856
CREATED:20250421T104756Z
LAST-MODIFIED:20250421T104756Z
UID:2541-1747180800-1747267199@amiciaa.org
SUMMARY:QUINTO PASSO
DESCRIPTION:Era pertanto più che evidente che una solitaria autovalutazione e l’ammissione dei nostri difetti basata solo su di essa non sarebbero affatto bastate. Dovevamo avere un aiuto esterno\, per essere sicuri di conoscere e ammettere la verità su noi stessi: l’aiuto di Dio e di un altro essere umano. \nTratto da: “Dodici Passi Dodici Tradizioni” pag. 82
URL:https://amiciaa.org/event/quinto-passo-5/
LOCATION:skipe amiciaa
CATEGORIES:Calendario
ORGANIZER;CN="gruppo on line AmiciAA":MAILTO:info@amiciaa.org
END:VEVENT
BEGIN:VEVENT
DTSTART;VALUE=DATE:20250516
DTEND;VALUE=DATE:20250517
DTSTAMP:20260423T192856
CREATED:20250421T105042Z
LAST-MODIFIED:20250421T105042Z
UID:2543-1747353600-1747439999@amiciaa.org
SUMMARY:QUINTO CONCETTO
DESCRIPTION:Riconosciamo che le minoranze possono avere spesso ragione; che\, anche quando sono parzialmente o completamente in errore\, esse adempiono comunque un valido servizio perché obbligano a un approfondito dibattito su materie importanti. \nTratto da: “Il compagno di viaggio” pag.213
URL:https://amiciaa.org/event/quinto-concetto/
LOCATION:skipe amiciaa
CATEGORIES:Calendario
ORGANIZER;CN="gruppo on line AmiciAA":MAILTO:info@amiciaa.org
END:VEVENT
BEGIN:VEVENT
DTSTART;VALUE=DATE:20250518
DTEND;VALUE=DATE:20250519
DTSTAMP:20260423T192856
CREATED:20250421T105518Z
LAST-MODIFIED:20250421T105518Z
UID:2545-1747526400-1747612799@amiciaa.org
SUMMARY:GLI OSTACOLI SUL NOSTRO CAMMINO
DESCRIPTION:Viviamo in un mondo pieno di invidia. Ne siamo più o meno contagiati tutti. Da questo difetto dobbiamo pur trarre una contorta\, eppure chiara\, soddisfazione. Altrimenti perché sprecheremmo tanto di quel tempo a desiderare ciò che non abbiamo anziché darci da fare per ottenerlo\, oppure a cercare rabbiosamente delle qualità che non avremo mai\, invece di adattarci alla realtà e accettarla? \nTratto da: “Come la vede Bill” pag.131
URL:https://amiciaa.org/event/gli-ostacoli-sul-nostro-cammino/
LOCATION:skipe amiciaa
CATEGORIES:Calendario
ORGANIZER;CN="gruppo on line AmiciAA":MAILTO:info@amiciaa.org
END:VEVENT
BEGIN:VEVENT
DTSTART;VALUE=DATE:20250519
DTEND;VALUE=DATE:20250520
DTSTAMP:20260423T192856
CREATED:20250421T110049Z
LAST-MODIFIED:20250421T110049Z
UID:2549-1747612800-1747699199@amiciaa.org
SUMMARY:QUINTO PASSO
DESCRIPTION:Quante volte abbiamo sentito delle persone affermare in buona fede di essere guidate da Dio\, mentre era più che evidente che si sbagliavano di grosso. Mancando sia di esperienza che di umilta’\, avevano ingannato se stesse e potevano giustificare anche la più grande delle sciocchezze sostenendo che era ciò che Dio aveva detto loro. \nTratto da: “Dodici Passi Dodici Tradizioni” pag.85
URL:https://amiciaa.org/event/quinto-passo-6/
LOCATION:skipe amiciaa
CATEGORIES:Calendario
ORGANIZER;CN="gruppo on line AmiciAA":MAILTO:info@amiciaa.org
END:VEVENT
BEGIN:VEVENT
DTSTART;VALUE=DATE:20250521
DTEND;VALUE=DATE:20250522
DTSTAMP:20260423T192856
CREATED:20250421T105629Z
LAST-MODIFIED:20250421T110723Z
UID:2547-1747785600-1747871999@amiciaa.org
SUMMARY:RESPINGERE L’IRA E IL RANCORE
DESCRIPTION:Descrizione:” Ostillità\, risentimento\, rabbia\, qualsiasi parola vogliate usare per descrivere questo sentimento\, esso sembra avere una stretta connessione con l’intossicazione e forse una ancora più profonda con l’alcolismo. Per esempio\, alcuni medici hanno chiesto a un esteso numero di alcolisti perchè si ubriacassero\, e hanno riscontrato che una delle risposte più frequenti era:” Così posso dire a qualcuno di togliersi dai piedi”. In altre parole\, se erano ubriachi si sentivano capaci e liberi di esprimere la loro rabbia\, cosa che non potevano fare se erano sobri. Qualcuno ha suggerito l’ipotesi che ci possa essere un sottile\, indeterminato rapporto biochimico tra l’alcol e il tipo di cambiamenti fisici che accompagnano l’ira”. \nTratto da: Vivere sobri pag. 58.
URL:https://amiciaa.org/event/respingere-lira-e-il-rancore-4/
LOCATION:skipe amiciaa
CATEGORIES:Calendario
ORGANIZER;CN="gruppo on line AmiciAA":MAILTO:info@amiciaa.org
END:VEVENT
BEGIN:VEVENT
DTSTART;VALUE=DATE:20250523
DTEND;VALUE=DATE:20250524
DTSTAMP:20260423T192856
CREATED:20250421T110603Z
LAST-MODIFIED:20250421T110603Z
UID:2551-1747958400-1748044799@amiciaa.org
SUMMARY:PERCHE' E' NECESSARIO AVER FATTO IL SECONDO E IL TERZO PASSO PER POTER AFFRONTARE IL QUINTO?
DESCRIPTION:Il secondo e terzo Passo inducono a credere nell’aiuto che si può ricevere dagli altri e dal Potere Superiore (se si applica la propria buona volontà). Per persone chiuse come gli alcolisti che tendono a nascondere tutto anche a se stessi questo è un presupposto essenziale. Se non si è convinti che l’altro è lì per dare aiuto le difficoltà ad aprirsi aumentano in maniera smisurata. \nTratto da: “Il compagno di viaggio” pag.54
URL:https://amiciaa.org/event/perche-e-necessario-aver-fatto-il-secondo-e-il-terzo-passo-per-poter-affrontare-il-quinto/
LOCATION:skipe amiciaa
CATEGORIES:Calendario
ORGANIZER;CN="gruppo on line AmiciAA":MAILTO:info@amiciaa.org
END:VEVENT
BEGIN:VEVENT
DTSTART;VALUE=DATE:20250525
DTEND;VALUE=DATE:20250526
DTSTAMP:20260423T192856
CREATED:20250421T111217Z
LAST-MODIFIED:20250421T111217Z
UID:2553-1748131200-1748217599@amiciaa.org
SUMMARY:ATTIVITA' AL DI FUORI DI A.A.
DESCRIPTION:Il secondo e terzo Passo inducono a credere nell’aiuto che si può ricevere dagli altri e dal Potere Superiore (se si applica la propria buona volontà). Per persone chiuse come gli alcolisti che tendono a nascondere tutto anche a se stessi questo è un presupposto essenziale. Se non si è convinti che l’altro è lì per dare aiuto le difficoltà ad aprirsi aumentano in maniera smisurata. \nTratto da: “Vivere Sobri” pag.29
URL:https://amiciaa.org/event/attivita-al-di-fuori-di-a-a-2/
LOCATION:skipe amiciaa
CATEGORIES:Calendario
ORGANIZER;CN="gruppo on line AmiciAA":MAILTO:info@amiciaa.org
END:VEVENT
BEGIN:VEVENT
DTSTART;VALUE=DATE:20250526
DTEND;VALUE=DATE:20250527
DTSTAMP:20260423T192856
CREATED:20250421T111649Z
LAST-MODIFIED:20250421T111649Z
UID:2555-1748217600-1748303999@amiciaa.org
SUMMARY:RECUPERARSI DONANDO
DESCRIPTION:Nei primi sei mesi della mia sobrietà ho lavorato sodo con molti alcolisti. Nessuno fu ricettivo. Tuttavia questo lavoro mi mantenne sobrio. Non si trattava del fatto che quegli alcolisti mi dessero qualcosa. La mia stabilità veniva dal cercare di dare\, non dal chiedere per ricevere. \nTratto da: “Come la vede Bill” pag.275
URL:https://amiciaa.org/event/recuperarsi-donando/
LOCATION:skipe amiciaa
CATEGORIES:Calendario
ORGANIZER;CN="gruppo on line AmiciAA":MAILTO:info@amiciaa.org
END:VEVENT
BEGIN:VEVENT
DTSTART;VALUE=DATE:20250528
DTEND;VALUE=DATE:20250529
DTSTAMP:20260423T192856
CREATED:20250421T112238Z
LAST-MODIFIED:20250421T112508Z
UID:2557-1748390400-1748476799@amiciaa.org
SUMMARY:USARE IL PIANO DELLE 24 ORE
DESCRIPTION:Per prima cosa cerchiamo di vivere nel momento presente proprio per rimanere sobri\, e funziona. Una volta che quest’idea è diventata parte del nostro modo di pensare scopriamo che vivere la vita in segmenti di 24 ore è un modo efficace e soddisfacente per affrontare anche molti altri problemi. \nTratto da: “Vivere Sobri” pag.17
URL:https://amiciaa.org/event/usare-il-piano-delle-24-ore-3/
LOCATION:skipe amiciaa
CATEGORIES:Calendario
ORGANIZER;CN="gruppo on line AmiciAA":MAILTO:info@amiciaa.org
END:VEVENT
BEGIN:VEVENT
DTSTART;VALUE=DATE:20250530
DTEND;VALUE=DATE:20250531
DTSTAMP:20260423T192856
CREATED:20250421T112534Z
LAST-MODIFIED:20250421T112623Z
UID:2559-1748563200-1748649599@amiciaa.org
SUMMARY:QUINTA TRADIZIONE
DESCRIPTION:Descrizione: “Sarebbe stato davvero pericoloso se avessimo cominciato a chiamare “antiproibizionisti” o “proibizionisti” certi gruppi\, altri ancora “cattolici o “protestanti” . Il gruppo A.A. doveva mantenersi strettamente fedele al suo scopo per non perdersi irrimediabilmente . Il suo unico obbiettivo doveva essere la sobrietà’ . In tutti gli altri campi c’era assoluta libertà di decisione e di azione. Ogni gruppo aveva il diritto di sbagliare. \nTratto da “Dodici passi dodici tradizioni” pag.212
URL:https://amiciaa.org/event/quinta-tradizione-6/
LOCATION:skipe amiciaa
CATEGORIES:Calendario
ORGANIZER;CN="gruppo on line AmiciAA":MAILTO:info@amiciaa.org
END:VEVENT
BEGIN:VEVENT
DTSTART;VALUE=DATE:20250601
DTEND;VALUE=DATE:20250602
DTSTAMP:20260423T192856
CREATED:20250531T175010Z
LAST-MODIFIED:20250531T175010Z
UID:2568-1748736000-1748822399@amiciaa.org
SUMMARY:SESTO PASSO
DESCRIPTION:Descrizione:” Eravamo completamente pronti ad accettare che Dio eliminasse tutti questi difetti di carattere“. “Questo è il Passo che separa gli uomini dai fanciulli”. Così afferma un ecclesiastico a noi molto caro\, che è anche uno dei più grandi amici di A.A.. Prosegue spiegando che qualsiasi persona munita di sufficiente forza di volontà e onestà nel tentare di mettere ripetutatmente in pratica il SESTO PASSO su tutti i propri difetti –senza alcuna riserva– ha veramente percorso un lungo cammino spirituale\, e ha quindi diritto a essere definito un uomo che sta cercando sinceramente di crescere a immagine e somiglianza del suo Creatore. \nTratta da : Dodici Passi e Dodici Tradizioni pag. 89.
URL:https://amiciaa.org/event/sesto-passo-4/
LOCATION:skipe amiciaa
CATEGORIES:Calendario
ORGANIZER;CN="gruppo on line AmiciAA":MAILTO:info@amiciaa.org
END:VEVENT
BEGIN:VEVENT
DTSTART;VALUE=DATE:20250602
DTEND;VALUE=DATE:20250603
DTSTAMP:20260423T192856
CREATED:20250531T175137Z
LAST-MODIFIED:20250531T175137Z
UID:2570-1748822400-1748908799@amiciaa.org
SUMMARY:QUAL E’ L’ARGOMENTO DEL SESTO PASSO?
DESCRIPTION:Questo Programma parte dalla considerazione che l’alcolismo\, anziché essere una vera e propria malattia\, e’ soprattutto un sintomo di essa. Questa ha avuto origine in certi aspetti del carattere che hanno determinato la difficolta’ a stare in mezzo agli altri.Percio’\, e’ necessario modificare\, certo non il carattere\, ma alcuni comportamenti che “non funzionano”\, che\, per comodita’\, si possono chiamare difetti.Col quarto e quinto Passo ognuno ha cercato con onesta’ (e con l’aiuto di un altro) di vederli \, adesso col sesto bisognerebbe essere pronti a modificarli. \nTratto da “Il compagno di viaggio” pag.58
URL:https://amiciaa.org/event/qual-e-largomento-del-sesto-passo-2/
LOCATION:skipe amiciaa
CATEGORIES:Calendario
ORGANIZER;CN="gruppo on line AmiciAA":MAILTO:info@amiciaa.org
END:VEVENT
BEGIN:VEVENT
DTSTART;VALUE=DATE:20250604
DTEND;VALUE=DATE:20250605
DTSTAMP:20260423T192856
CREATED:20250531T175330Z
LAST-MODIFIED:20250531T175330Z
UID:2572-1748995200-1749081599@amiciaa.org
SUMMARY:UNA PROSPETTIVA PER VOI
DESCRIPTION:Descrizione:” La disperazione era scritta a grandi lettere sul volto dell’uomo mentre rispondeva:” Oh\, tutto inutile. Nulla potrebbe guarirmi. Sono spacciato. Le ultime tre volte\, mi sono ubriacato nel rientrare a casa da qui. Ho paura di varcare la porta. Non ci capisco niente”. Per un’ora i due amici gli raccontarono la loro esperienza di bevitori. Lui ripeteva continuamente:”Lo stesso è accaduto anche a me. Anche io bevevo così”. All’uomo sdraiato nel letto fu spiegato che soffriva di una forma di avvelenamento che stava mettendo in crisi il suo corpo e distruggeva la sua mente. Si parlò a lungo dello stato d’animo che precedeva il primo bicchiere. “Sì\, sì\, è accaduto anche a me”\, disse l’uomo ammalato\, “esattamente come voi”. Non c’è dubbio che voi\, amici\, conosciate a fondo questo problema \, ma non vedo proprio come potreste aiutarmi!”. A questo punto\, i due visitatori si misero a ridere. Il futuro alcolista anonimo commentò:”Mi pare che ci sia ben poco da ridere”. I due amici parlarono dell’esperienza spirituale e gli spiegarono che cosa cercavano di fargli capire. \nTratto da: Alcolisti Anonimi pa. 157.
URL:https://amiciaa.org/event/una-prospettiva-per-voi-6/
LOCATION:skipe amiciaa
CATEGORIES:Calendario
ORGANIZER;CN="gruppo on line AmiciAA":MAILTO:info@amiciaa.org
END:VEVENT
BEGIN:VEVENT
DTSTART;VALUE=DATE:20250606
DTEND;VALUE=DATE:20250607
DTSTAMP:20260423T192856
CREATED:20250531T175436Z
LAST-MODIFIED:20250531T175436Z
UID:2574-1749168000-1749254399@amiciaa.org
SUMMARY:LAVORARE CON GLI ALTRI
DESCRIPTION:Descrizione :”L’esperienza di tutti i giorni dimostra che nulla e’ piu efficace a garantire la nostra astinenza dal bere quanto un intenso lavoro con gli altri alcolisti. Cio’ funziona anche la dove altre attivita’ non riescono. Questo e’il nostro “Dodicesimo Suggerimento”: portare questo messaggio ad altri alcolisti! Potete essere d’aiuto quando nessun altro lo puo’. Potete acquistare la vostra fiducia quando gli altri non possono. Ricordate che gli alcolisti sono seriamente malati. \n  \nTratto da “Alcolisti Anonimi” pag.89
URL:https://amiciaa.org/event/lavorare-con-gli-altri-8/
LOCATION:skipe amiciaa
CATEGORIES:Calendario
ORGANIZER;CN="gruppo on line AmiciAA":MAILTO:info@amiciaa.org
END:VEVENT
BEGIN:VEVENT
DTSTART;VALUE=DATE:20250608
DTEND;VALUE=DATE:20250609
DTSTAMP:20260423T192856
CREATED:20250531T175544Z
LAST-MODIFIED:20250531T175544Z
UID:2576-1749340800-1749427199@amiciaa.org
SUMMARY:SESTA TRADIZIONE
DESCRIPTION:Descrizione:” Un gruppo A.A. non dovrebbe mai avvallare\, finanziare o prestare il nome di A.A. ad alcuna istituzione similare od organizzazione esterna\, per evitare che problemi di denaro\, di proprietà e di prestigio possano distarci dal nostro scopo primario”. \nTratto da: Dodici Passi e Dodici Tradizioni pag. 223.
URL:https://amiciaa.org/event/sesta-tradizione-4/
LOCATION:skipe amiciaa
CATEGORIES:Calendario
ORGANIZER;CN="gruppo on line AmiciAA":MAILTO:info@amiciaa.org
END:VEVENT
BEGIN:VEVENT
DTSTART;VALUE=DATE:20250609
DTEND;VALUE=DATE:20250610
DTSTAMP:20260423T192856
CREATED:20250531T175704Z
LAST-MODIFIED:20250531T175704Z
UID:2578-1749427200-1749513599@amiciaa.org
SUMMARY:QUALI DIFETTI DI CARATTERE DOVREMMO PRENDERE IN ESAME?
DESCRIPTION:Descrizione: “Tutti quelli che sono stati individuati col Quarto e Quinto passo. Bill e’ molto chiaro\, non e’ possibile tralasciarne nessuno. Cosi come il rimanere dipendenti su qualsiasi cosa porterebbe\, prima o poi \, a riprendere la dipendenza dell’alcol \, se non si e’ pronti ad abbandonare tutti i propri comportamenti sbagliati si rischia che quelli trascurati \, prima o poi\, riportino indietro.” \nTratto da: “Vivere Sobri” pag.59
URL:https://amiciaa.org/event/quali-difetti-di-carattere-dovremmo-prendere-in-esame-2/
LOCATION:skipe amiciaa
CATEGORIES:Calendario
ORGANIZER;CN="gruppo on line AmiciAA":MAILTO:info@amiciaa.org
END:VEVENT
END:VCALENDAR