BEGIN:VCALENDAR
VERSION:2.0
PRODID:-//AmiciAA Alcolisti Anonimi - ECPv6.15.20//NONSGML v1.0//EN
CALSCALE:GREGORIAN
METHOD:PUBLISH
X-ORIGINAL-URL:https://amiciaa.org
X-WR-CALDESC:Eventi per AmiciAA Alcolisti Anonimi
REFRESH-INTERVAL;VALUE=DURATION:PT1H
X-Robots-Tag:noindex
X-PUBLISHED-TTL:PT1H
BEGIN:VTIMEZONE
TZID:Europe/Rome
BEGIN:DAYLIGHT
TZOFFSETFROM:+0100
TZOFFSETTO:+0200
TZNAME:CEST
DTSTART:20240331T010000
END:DAYLIGHT
BEGIN:STANDARD
TZOFFSETFROM:+0200
TZOFFSETTO:+0100
TZNAME:CET
DTSTART:20241027T010000
END:STANDARD
BEGIN:DAYLIGHT
TZOFFSETFROM:+0100
TZOFFSETTO:+0200
TZNAME:CEST
DTSTART:20250330T010000
END:DAYLIGHT
BEGIN:STANDARD
TZOFFSETFROM:+0200
TZOFFSETTO:+0100
TZNAME:CET
DTSTART:20251026T010000
END:STANDARD
BEGIN:DAYLIGHT
TZOFFSETFROM:+0100
TZOFFSETTO:+0200
TZNAME:CEST
DTSTART:20260329T010000
END:DAYLIGHT
BEGIN:STANDARD
TZOFFSETFROM:+0200
TZOFFSETTO:+0100
TZNAME:CET
DTSTART:20261025T010000
END:STANDARD
END:VTIMEZONE
BEGIN:VEVENT
DTSTART;VALUE=DATE:20250730
DTEND;VALUE=DATE:20250731
DTSTAMP:20260423T133150
CREATED:20250628T160559Z
LAST-MODIFIED:20250628T160559Z
UID:2646-1753833600-1753919999@amiciaa.org
SUMMARY:SETTIMO PASSO
DESCRIPTION:Descrizione:”Quando abbiamo finalmente ammesso senza riserve di essere impotenti di fronte all’alcol\, possiamo tirare un sospiro di sollievo\, e dire: “Bene\, grazie a Dio è finita! Su quello\, non dovrò tornarci sopra mai più!”. Poi impariamo\, spesso con costernazione\, che quella è soltanto la prima pietra miliare della nuova strada su cui ci siamo incamminati. Spinti ancora dalla pura necessità\, con riluttanza veniamo alle prese con quei gravi difetti di carattere che sono stati la causa principale che ha fatto di noi dei bevi-tori-problema\, difetti che devono essere affrontati per prevenire una nuova ricaduta nell’alcolismo.” \nTratto da:”Dodici Passi Dodici Tradizioni” pag.103
URL:https://amiciaa.org/event/settimo-passo-10/
LOCATION:skipe amiciaa
CATEGORIES:Calendario
ORGANIZER;CN="gruppo on line AmiciAA":MAILTO:info@amiciaa.org
END:VEVENT
BEGIN:VEVENT
DTSTART;VALUE=DATE:20250801
DTEND;VALUE=DATE:20250802
DTSTAMP:20260423T133150
CREATED:20250721T171850Z
LAST-MODIFIED:20250721T171850Z
UID:2650-1754006400-1754092799@amiciaa.org
SUMMARY:OTTAVO PASSO
DESCRIPTION:Descrizione:”L’Ottavo e il Nono Passo si occupano delle relazioni personali. Come prima cosa\, diamo uno sguardo al nostro passato e cerchiamo di scoprire dove abbiamo sbagliato; poi\, facciamo un energico sforzo per rimediare al danno che abbiamo causato; in terzo luogo\, dopo aver così spazzato via le macerie del passato consideriamo come\, alla luce dell’appena ritrovata conoscenza di noi stessi\, possiamo sviluppare le migliori relazioni possibili con ogni essere umano che conosciamo.Si tratta di un’impresa molto difficile.” \nTratto da:”Dodici Passi Dodici Tradizioni” pag.111
URL:https://amiciaa.org/event/ottavo-passo-7/
LOCATION:skipe amiciaa
CATEGORIES:Calendario
ORGANIZER;CN="gruppo on line AmiciAA":MAILTO:info@amiciaa.org
END:VEVENT
BEGIN:VEVENT
DTSTART;VALUE=DATE:20250803
DTEND;VALUE=DATE:20250804
DTSTAMP:20260423T133150
CREATED:20250721T172006Z
LAST-MODIFIED:20250721T172006Z
UID:2652-1754179200-1754265599@amiciaa.org
SUMMARY:ELIMINARE L’AUTOCOMMISERAZIONE
DESCRIPTION:Descrizione:”Questo sentimento è così vile che nessuno in possesso delle proprie facoltà mentali vuole ammettere di provarlo. Persino da sobri\, molti di noi mantengono la capacità di nascondere a se stessi che si stanno perdendo in un mare di autocommiserazione. A noi non piace affatto che ci dicano che si vede\, e siamo decisi nel replicare che stiamo provando qualche altra emozione\, e non quella disgustosa autocompassione.” \nTratto da:”Vivere sobri” pag.84
URL:https://amiciaa.org/event/eliminare-lautocommiserazione-2/
LOCATION:skipe amiciaa
CATEGORIES:Calendario
ORGANIZER;CN="gruppo on line AmiciAA":MAILTO:info@amiciaa.org
END:VEVENT
BEGIN:VEVENT
DTSTART;VALUE=DATE:20250804
DTEND;VALUE=DATE:20250805
DTSTAMP:20260423T133150
CREATED:20250721T172118Z
LAST-MODIFIED:20250721T172118Z
UID:2654-1754265600-1754351999@amiciaa.org
SUMMARY:OTTAVO PASSO
DESCRIPTION:Descrizione:”Questo riaprire ferite emotive\, alcune vecchie\, altre forse dimenticate e altre ancora dolorosamente infette\, sembrerà a prima vista un inutile e sciocco intervento chirurgico. Ma se si inizia con buona volontà\, allora i grandi vantaggi di questo modo di agire si manifesteranno così rapidamente che il dolore diminuirà insieme allo svanire di un ostacolo dopo l’altro.” \nTratto da:”Dodici Passi Dodici Tradizioni” pag.112
URL:https://amiciaa.org/event/ottavo-passo-8/
LOCATION:skipe amiciaa
CATEGORIES:Calendario
ORGANIZER;CN="gruppo on line AmiciAA":MAILTO:info@amiciaa.org
END:VEVENT
BEGIN:VEVENT
DTSTART;VALUE=DATE:20250806
DTEND;VALUE=DATE:20250807
DTSTAMP:20260423T133150
CREATED:20250721T172243Z
LAST-MODIFIED:20250721T172243Z
UID:2656-1754438400-1754524799@amiciaa.org
SUMMARY:USARE IL PIANO DELLE 24 ORE
DESCRIPTION:Descrizione:”Sebbene ci rendiamo conto che l’alcolismo sia una condizione permanente e irreversibile la nostra esperienza ci ha insegnato a non fare promesse di sobrietà a lungo termine. Pensiamo sia più realistico e abbia maggiore successo dire: “Non bevo solo per oggi”.” \nTratto da: “Vivere sobri” pag.16
URL:https://amiciaa.org/event/usare-il-piano-delle-24-ore-4/
LOCATION:skipe amiciaa
CATEGORIES:Calendario
ORGANIZER;CN="gruppo on line AmiciAA":MAILTO:info@amiciaa.org
END:VEVENT
BEGIN:VEVENT
DTSTART;VALUE=DATE:20250808
DTEND;VALUE=DATE:20250809
DTSTAMP:20260423T133150
CREATED:20250721T172406Z
LAST-MODIFIED:20250721T172406Z
UID:2658-1754611200-1754697599@amiciaa.org
SUMMARY:PERCHE’ UN ALCOLISTA SEMBRA NON AVERE FPRZA DI VOLONTA’?
DESCRIPTION:Descrizione:”Molti alcolisti giungono ad A.A. convinti di non avere sufficiente forza di volontà per opporsi con successo al “vizio” dell’alcol e perché non sanno prendere in mano le redini del – la propria vita. In questo Passo Bill\, invece\, mostra che a combinare simili disastri non fu la mancanza della forza di volontà\, bensì un suo uso scorretto. L’alcolista cerca vie di fuga da se stesso ed applica così tutta la propria volontà ottenendo danni ancora peggiori\, anziché cercare un rimedio alla causa principale.” \nTratto da:”Il compagno di viaggio” pag.41
URL:https://amiciaa.org/event/perche-un-alcolista-sembra-non-avere-fprza-di-volonta-2/
LOCATION:skipe amiciaa
CATEGORIES:Calendario
ORGANIZER;CN="gruppo on line AmiciAA":MAILTO:info@amiciaa.org
END:VEVENT
BEGIN:VEVENT
DTSTART;VALUE=DATE:20250810
DTEND;VALUE=DATE:20250811
DTSTAMP:20260423T133150
CREATED:20250721T172523Z
LAST-MODIFIED:20250721T172523Z
UID:2660-1754784000-1754870399@amiciaa.org
SUMMARY:L’OPINIONE DEL MEDICO STATUNITENSE
DESCRIPTION:Descrizione:”Pur basando la nostra soluzione su un piano che è assieme spirituale e altruistico\, siamo favorevoli al ricovero per l’alcolista in crisi e malridotto. Spesso è essenziale che la persona abbia la mente lucida prima di essere avvicinata; infatti è più probabile che così riesca a comprendere e accettare ciò che abbiamo da offrirgli.” \nTratto da:”Alcolisti Anonimi” pag.26
URL:https://amiciaa.org/event/lopinione-del-medico-statunitense-2/
LOCATION:skipe amiciaa
CATEGORIES:Calendario
ORGANIZER;CN="gruppo on line AmiciAA":MAILTO:info@amiciaa.org
END:VEVENT
BEGIN:VEVENT
DTSTART;VALUE=DATE:20250811
DTEND;VALUE=DATE:20250812
DTSTAMP:20260423T133150
CREATED:20250721T172647Z
LAST-MODIFIED:20250721T172647Z
UID:2662-1754870400-1754956799@amiciaa.org
SUMMARY:OTTAVA TRADIZIONE
DESCRIPTION:Descrizione:”Alcolisti Anonimi non avrà mai una categoria di professionisti. Abbiamo fatto nostra una certa comprensione dell’antico detto: “Liberamente hai ricevuto\, liberamente dai”. Abbiamo scoperto che sul piano del professionismo il denaro e la spiritualità non si fondono. Quasi nessun recupero dall’alcolismo è stato mai ottenuto tramite i migliori professionisti del mondo\, medici o religiosi che fossero. \nTratto da:”Dodici Passi Dodici Tradizioni” pag.241
URL:https://amiciaa.org/event/ottava-tradizione-4/
LOCATION:skipe amiciaa
CATEGORIES:Calendario
ORGANIZER;CN="gruppo on line AmiciAA":MAILTO:info@amiciaa.org
END:VEVENT
BEGIN:VEVENT
DTSTART;VALUE=DATE:20250813
DTEND;VALUE=DATE:20250814
DTSTAMP:20260423T133150
CREATED:20250721T172810Z
LAST-MODIFIED:20250721T172810Z
UID:2664-1755043200-1755129599@amiciaa.org
SUMMARY:POSSIAMO SCEGLIERE?
DESCRIPTION:Descrizione:”Non dobbiamo mai lasciarci accecare dalla vana filosofia di essere semplicemente le sfortunate vittime di quanto abbiamo ereditato\, della nostra esperienza di vita e del nostro ambiente\, e che queste siano le uniche forze a decidere per noi. Questa non è la strada verso la libertà. Dobbiamo essere convinti di poter scegliere davvero. \nTratto da: “Come la vede Bill” pag.4
URL:https://amiciaa.org/event/possiamo-scegliere-2/
LOCATION:skipe amiciaa
CATEGORIES:Calendario
ORGANIZER;CN="gruppo on line AmiciAA":MAILTO:info@amiciaa.org
END:VEVENT
BEGIN:VEVENT
DTSTART;VALUE=DATE:20250815
DTEND;VALUE=DATE:20250816
DTSTAMP:20260423T133150
CREATED:20250721T172946Z
LAST-MODIFIED:20250721T172946Z
UID:2666-1755216000-1755302399@amiciaa.org
SUMMARY:RICORDARE CHE L’ALCOLISMO E’ UNA MALATTIA INGUARIBILE \,PROGRESSIVA E MORTALE
DESCRIPTION:Descrizione:”Riassumendo: noi ci ricordiamo di avere un disturbo inguaribile e potenzialmente mortale chiamato alcolismo. E invece di insistere a bere preferiamo cercare\, e seguire\, piacevoli modi di vivere senza alcol. Non dobbiamo vergognarci di avere una malattia\, non è una disgrazia. Nessuno sa esattamente perché alcune persone diventano alcoliste e altre no. Non è colpa nostra. Non abbiamo voluto divenire alcolisti. Non abbiamo cercato di avere questa malattia. \nTratto da :”Vivere Sobri” pag.20
URL:https://amiciaa.org/event/ricordare-che-lalcolismo-e-una-malattia-inguaribile-progressiva-e-mortale-3/
LOCATION:skipe amiciaa
CATEGORIES:Calendario
ORGANIZER;CN="gruppo on line AmiciAA":MAILTO:info@amiciaa.org
END:VEVENT
BEGIN:VEVENT
DTSTART;VALUE=DATE:20250817
DTEND;VALUE=DATE:20250818
DTSTAMP:20260423T133150
CREATED:20250721T173135Z
LAST-MODIFIED:20250721T173135Z
UID:2668-1755388800-1755475199@amiciaa.org
SUMMARY:IL GRUPPO E LA COMUNITA’ MONDIALE
DESCRIPTION:Descrizione:”Da solo sul mare\, o in guerra in una terra lontana\, ogni A.A. sa di appartenere alla comunità mondiale di Alcolisti Anonimi. Sa che suo è solo un isolamento fisico e che i suoi compagni gli sono vicini\, ad attenderlo al prossimo scalo. Soprattutto\, egli è certo che la grazia di Dio lo accompagna\, in alto mare o in avamposti lontani\, allo stesso modo che a casa sua. \nTratto da:”Come la vede Bill” pag.9
URL:https://amiciaa.org/event/il-gruppo-e-la-comunita-mondiale-3/
LOCATION:skipe amiciaa
CATEGORIES:Calendario
ORGANIZER;CN="gruppo on line AmiciAA":MAILTO:info@amiciaa.org
END:VEVENT
BEGIN:VEVENT
DTSTART;VALUE=DATE:20250818
DTEND;VALUE=DATE:20250819
DTSTAMP:20260423T133150
CREATED:20250721T173303Z
LAST-MODIFIED:20250721T173303Z
UID:2670-1755475200-1755561599@amiciaa.org
SUMMARY:OTTAVO CONCETTO
DESCRIPTION:Descrizione:”I Fiduciari non possono svolgere tutto il lavoro del loro Servizio\, per cui nominano i responsabili dei Comitati\, dell’Ufficio dei Servizi Generali\, di Insieme\, ecc. e delegano a loro parte del lavoro da svolgere. Tutto il Servizio di Alcolisti Anonimi si basa sulla delega di fiducia. Gli stessi Fiduciari devono delegare ad altri l’operatività di molte funzioni di Servizio.” \nTratto da:”Il compagno di viaggio” pag.232
URL:https://amiciaa.org/event/ottavo-concetto-2/
LOCATION:skipe amiciaa
CATEGORIES:Calendario
END:VEVENT
BEGIN:VEVENT
DTSTART;VALUE=DATE:20250820
DTEND;VALUE=DATE:20250821
DTSTAMP:20260423T133150
CREATED:20250721T173415Z
LAST-MODIFIED:20250721T173415Z
UID:2672-1755648000-1755734399@amiciaa.org
SUMMARY:LAVORARE CON GLI ALTRI
DESCRIPTION:Descrizione:”Se ci fosse un divorzio o una separazione\, non sarebbe opportuno avere una fretta eccessiva di riunire la coppia. L’uomo dovrebbe essere sicuro di essersi ristabilito. La moglie dovrebbe avere pienamente capito il suo nuovo modo di vivere. Se la loro antica convivenza deve essere ripresa\, è necessario che lo sia su una base migliore di quella precedente che non ha funzionato. E cioè con uno spirito e un atteggiamento nuovi da parte di entrambi.  \nTratto da:”Alcolisti Anonimi” pag.99
URL:https://amiciaa.org/event/lavorare-con-gli-altri-10/
LOCATION:skipe amiciaa
CATEGORIES:Calendario
ORGANIZER;CN="gruppo on line AmiciAA":MAILTO:info@amiciaa.org
END:VEVENT
BEGIN:VEVENT
DTSTART;VALUE=DATE:20250822
DTEND;VALUE=DATE:20250823
DTSTAMP:20260423T133150
CREATED:20250721T173533Z
LAST-MODIFIED:20250721T173533Z
UID:2674-1755820800-1755907199@amiciaa.org
SUMMARY:OTTAVA TRADIZIONE
DESCRIPTION:Descrizione:”Forse nel cuore di ogni A.A. si anniderà sempre il timore che un giorno il nostro nome possa essere sfruttato da qualcuno per trarne un vantaggio economico. Anche il solo accenno a una cosa del genere non manca mai di scatenare un uragano\, e noi abbiamo scoperto che gli uragani si abbattono con la stessa violenza sia sul giusto che sull’ingiusto.” \nTratto da:”Dodici Passi Dodici Tradizioni” pag.246
URL:https://amiciaa.org/event/ottava-tradizione-5/
LOCATION:skipe amiciaa
CATEGORIES:Calendario
ORGANIZER;CN="gruppo on line AmiciAA":MAILTO:info@amiciaa.org
END:VEVENT
BEGIN:VEVENT
DTSTART;VALUE=DATE:20250824
DTEND;VALUE=DATE:20250825
DTSTAMP:20260423T133150
CREATED:20250721T173708Z
LAST-MODIFIED:20250721T173708Z
UID:2676-1755993600-1756079999@amiciaa.org
SUMMARY:ESSERE ATTIVI
DESCRIPTION:Descrizione:”È molto difficile sedersi e basta cercando di non fare una certa cosa o addirittura di non pensarci. E molto più facile divenire attivi e fare qualcosa d’ altro\, diverso da quello che stiamo cercando di evitare. Così è con il bere. Cercare di evitare un bicchiere (o di non pensarci) sembra non essere sufficiente. Più pensiamo al bicchiere che stiamo cercando di non prendere\, più questo pensiero occupa naturalmente la nostra mente. E questo non va bene. È meglio occuparci in qualche modo\, qualsiasi modo\, che prenda la nostra mente e indirizzi la nostra energia verso qualcosa di salutare. \nTratto da:”Vivere Sobri” pag. 25
URL:https://amiciaa.org/event/essere-attivi-5/
LOCATION:skipe amiciaa
CATEGORIES:Calendario
ORGANIZER;CN="gruppo on line AmiciAA":MAILTO:info@amiciaa.org
END:VEVENT
BEGIN:VEVENT
DTSTART;VALUE=DATE:20250825
DTEND;VALUE=DATE:20250826
DTSTAMP:20260423T133150
CREATED:20250721T173831Z
LAST-MODIFIED:20250721T173831Z
UID:2678-1756080000-1756166399@amiciaa.org
SUMMARY:FUORI DAL BUIO
DESCRIPTION:Descrizione:”Quando apriamo gli occhi una chiara luce sembra scendere su tutti noi. Poiché sono i nostri difetti a renderci ciechi\, dobbiamo imparare a conoscerli in profondità. Una meditazione costruttiva è il primo requisito per ogni nuovo passo nella nostra crescita spirituale.” \nTratto da:”Come la vede Bill” pag.10
URL:https://amiciaa.org/event/fuori-dal-buio-2/
LOCATION:skipe amiciaa
CATEGORIES:Calendario
ORGANIZER;CN="gruppo on line AmiciAA":MAILTO:info@amiciaa.org
END:VEVENT
BEGIN:VEVENT
DTSTART;VALUE=DATE:20250827
DTEND;VALUE=DATE:20250828
DTSTAMP:20260423T133150
CREATED:20250721T173955Z
LAST-MODIFIED:20250721T173955Z
UID:2680-1756252800-1756339199@amiciaa.org
SUMMARY:OTTAVO PASSO
DESCRIPTION:Descrizione:”Dovremo attenerci al principio di ammettere le cose che noi abbiamo fatto\, e di perdonare nello stesso tempo i torti reali o immaginari subiti. Dovremo evitare giudizi drastici tanto su noi stessi che sulle altre persone coinvolte. Non dobbiamo esagerare i nostri difetti o i loro. Nostro costante proposito sarà una valutazione serena e obiettiva.” \nTratto da:”Dodici Passi Dodici Tradizioni” pag.118
URL:https://amiciaa.org/event/ottavo-passo-9/
LOCATION:skipe amiciaa
CATEGORIES:Calendario
ORGANIZER;CN="gruppo on line AmiciAA":MAILTO:info@amiciaa.org
END:VEVENT
BEGIN:VEVENT
DTSTART;VALUE=DATE:20250829
DTEND;VALUE=DATE:20250830
DTSTAMP:20260423T133150
CREATED:20250721T174107Z
LAST-MODIFIED:20250721T174107Z
UID:2682-1756425600-1756511999@amiciaa.org
SUMMARY:I SUCCESSIVI RAPPORTI FAMILIARI
DESCRIPTION:Descrizione:”Molti alcolisti sono degli entusiasti. Passano da un estremo all’altro. All’inizio del suo recupero un uomo prendera’ di solito una di queste due direzioni: o potrà gettarsi nel tentativo frenetico di tornare a consolidare la sua posizione economica\, o potrà essere talmente incantato dalla sua nuova vita da non parlare e pensare quasi ad altro. In entrambi i casi si presenteranno determinati problemi familiari. Ne abbiamo fatto tutti un’abbondante esperienza.” \nTratto da:”Alcolisti Anonimi” pag.126
URL:https://amiciaa.org/event/i-successivi-rapporti-familiari-3/
LOCATION:skipe amiciaa
CATEGORIES:Calendario
ORGANIZER;CN="gruppo on line AmiciAA":MAILTO:info@amiciaa.org
END:VEVENT
BEGIN:VEVENT
DTSTART;VALUE=DATE:20250831
DTEND;VALUE=DATE:20250901
DTSTAMP:20260423T133150
CREATED:20250721T174758Z
LAST-MODIFIED:20250721T174758Z
UID:2684-1756598400-1756684799@amiciaa.org
SUMMARY:UN'ALTRA PORTA GIREVOLE
DESCRIPTION:A tutti quelli che desiderano uscire da A.A. rivolgiamo un sereno invito a fare come vogliono. Se riescono a fare meglio con altri mezzi\, non possiamo che esserne contenti. Se dopo aver provato non riescono nel loro intento\, sappiamo che si troveranno davanti a una scelta: impazzire\, morire\, oppure tornare ad Alcolisti Anonimi. La decisione compete solo a loro (sta di fatto che la maggior parte di loro ritorna. \nTratto da: “Come la vede Bill” pag.62
URL:https://amiciaa.org/event/unaltra-porta-girevole-3/
LOCATION:skipe amiciaa
CATEGORIES:Calendario
ORGANIZER;CN="gruppo on line AmiciAA":MAILTO:info@amiciaa.org
END:VEVENT
BEGIN:VEVENT
DTSTART;VALUE=DATE:20250901
DTEND;VALUE=DATE:20250902
DTSTAMP:20260423T133150
CREATED:20250822T070230Z
LAST-MODIFIED:20250822T070230Z
UID:2686-1756684800-1756771199@amiciaa.org
SUMMARY:NONO PASSO
DESCRIPTION:Descrizione:”Abbiamo fatto direttamente ammenda verso tali persone\, laddove possibile\, tranne quando\, così facendo\, avremmo potuto recare danno a loro oppure ad altri.” Buona capacità di giudizio\, un’attenta scelta del momento giusto\, coraggio e prudenza: sono queste le qualità di cui avremo bisogno nell’intraprendere il Nono Passo. \nTratto da:”Dodici passi Dodici Tradizioni” pag.119
URL:https://amiciaa.org/event/nono-passo-6/
LOCATION:skipe amiciaa
CATEGORIES:Calendario
ORGANIZER;CN="gruppo on line AmiciAA":MAILTO:info@amiciaa.org
END:VEVENT
BEGIN:VEVENT
DTSTART;VALUE=DATE:20250903
DTEND;VALUE=DATE:20250904
DTSTAMP:20260423T133150
CREATED:20250822T070429Z
LAST-MODIFIED:20250822T070429Z
UID:2688-1756857600-1756943999@amiciaa.org
SUMMARY:QUANTITA’ O QUALITA’
DESCRIPTION:Descrizione:”A proposito di ricadute\, non bisogna scoraggiarsi troppo. Penso che tu stia soffrendo molto per un senso di colpa che non ha ragione di essere. Per un motivo o per un altro\, il Signore riserva ad alcuni di noi dei percorsi difficili e credo che tu sia impegnato in uno di questi. Dio non ci chiede di riuscire\, ci chiede solo di provare. Questo tu sicuramente lo hai fatto e stai continuando a farlo. Quindi io non permetterei mai che un sentimento di scoraggiamento o di vergogna mi allontanasse da A.A.. \nTratto da:”Come la vede Bill” pag.11
URL:https://amiciaa.org/event/quantita-o-qualita-2/
LOCATION:skipe amiciaa
CATEGORIES:Calendario
ORGANIZER;CN="gruppo on line AmiciAA":MAILTO:info@amiciaa.org
END:VEVENT
BEGIN:VEVENT
DTSTART;VALUE=DATE:20250905
DTEND;VALUE=DATE:20250906
DTSTAMP:20260423T133150
CREATED:20250822T070929Z
LAST-MODIFIED:20250822T070929Z
UID:2690-1757030400-1757116799@amiciaa.org
SUMMARY:QUAL E’ L’ARGOMENTO DEL NONO PASSO?
DESCRIPTION:Descrizione:”Il nono Passo chiede a ognuno di riparare\, per quanto possibile\, ai danni fatti ad altri col proprio comportamento. Si tratta di un complemento del quarto Passo: ciascuno ha visto quali sono le sue deficienze\, ora esamina quanto esse siano state dannose per gli altri\, e cerca di riparare al male fatto. Questo riporterà l’individuo in sintonia col mondo\, lo sgraverà dei sensi di colpa e gli porterà molta della serenità cui aspira.” \nTratto da:”Il compagno di viaggio” pag.82
URL:https://amiciaa.org/event/qual-e-largomento-del-nono-passo-2/
LOCATION:skipe amiciaa
CATEGORIES:Calendario
ORGANIZER;CN="gruppo on line AmiciAA":MAILTO:info@amiciaa.org
END:VEVENT
BEGIN:VEVENT
DTSTART;VALUE=DATE:20250907
DTEND;VALUE=DATE:20250908
DTSTAMP:20260423T133150
CREATED:20250822T071541Z
LAST-MODIFIED:20250822T071541Z
UID:2692-1757203200-1757289599@amiciaa.org
SUMMARY:PROBLEMI CON I NUOVI VENUTI
DESCRIPTION:Descrizione:”Ci viene la tentazione di diventare piuttosto possessivi nei confronti dei nuovi venuti: forse proviamo a dar loro consigli sulle loro faccende personali\, consigli che non siamo in grado di dare o che non dovremmo dare affatto. Poi\, se il consiglio viene rifiutato o è accettato e genera una confusione ancora maggiore\, ci sentiamo offesi e disorientati.” \nTratto da: “Come la vede Bill” pag.14
URL:https://amiciaa.org/event/problemi-con-i-nuovi-venuti-2/
LOCATION:skipe amiciaa
CATEGORIES:Calendario
ORGANIZER;CN="gruppo on line AmiciAA":MAILTO:info@amiciaa.org
END:VEVENT
BEGIN:VEVENT
DTSTART;VALUE=DATE:20250908
DTEND;VALUE=DATE:20250909
DTSTAMP:20260423T133150
CREATED:20250822T071656Z
LAST-MODIFIED:20250822T071656Z
UID:2694-1757289600-1757375999@amiciaa.org
SUMMARY:NONA TRADIZIONE
DESCRIPTION:Descrizione:”A meno che non segua al meglio delle sue capacità i Dodici Passi suggeriti per il recupero\, ogni A.A. di sicuro firma la propria condanna a morte. L’ubriachezza e l’annientamento non sono punizioni inflittegli da una qualche autorità\, sono il risultato della sua personale disobbedienza a dei principi spirituali.” \nTratto da:”Dodici Passi Dodici Tradizioni” pag. 252
URL:https://amiciaa.org/event/nona-tradizione-4/
LOCATION:skipe amiciaa
CATEGORIES:Calendario
ORGANIZER;CN="gruppo on line AmiciAA":MAILTO:info@amiciaa.org
END:VEVENT
BEGIN:VEVENT
DTSTART;TZID=Europe/Rome:20250910T080000
DTEND;TZID=Europe/Rome:20250910T170000
DTSTAMP:20260423T133150
CREATED:20250822T071840Z
LAST-MODIFIED:20250822T071840Z
UID:2696-1757491200-1757523600@amiciaa.org
SUMMARY:LAVORARE CON GLI ALTRI
DESCRIPTION:Descrizione:”Noi crediamo che qualunque sistema per combattere l’alcolismo che si proponga di mettere il malato al sicuro dalla tentazione è votato al fallimento. Se l’alcolista tenta di mettersi al riparo\, può riuscirvi per un certo tempo\, ma generalmente va incontro a un’esplosione alcolica più violenta che mai. Abbiamo provato questi metodi. Questi tentativi di realizzare l’impossibile sono sempre falliti.” \nTratto da: “Alcolisti Anonimi” pag.101
URL:https://amiciaa.org/event/lavorare-con-gli-altri-11/
LOCATION:skipe amiciaa
CATEGORIES:Calendario
ORGANIZER;CN="gruppo on line AmiciAA":MAILTO:info@amiciaa.org
END:VEVENT
BEGIN:VEVENT
DTSTART;VALUE=DATE:20250912
DTEND;VALUE=DATE:20250913
DTSTAMP:20260423T133150
CREATED:20250822T072021Z
LAST-MODIFIED:20250822T072021Z
UID:2698-1757635200-1757721599@amiciaa.org
SUMMARY:NONO PASSO
DESCRIPTION:Descrizione:”Il nono Passo chiede a ognuno di riparare\, per quanto possibile\, ai danni fatti ad altri col proprio comportamento. Si tratta di un complemento del quarto Passo: ciascuno ha visto quali sono le sue deficienze\, ora esamina quanto esse siano state dannose per gli altri\, e cerca di riparare al male.” \nTratto da:”Il compagno di viaggio” pag.82
URL:https://amiciaa.org/event/nono-passo-7/
LOCATION:skipe amiciaa
CATEGORIES:Calendario
ORGANIZER;CN="gruppo on line AmiciAA":MAILTO:info@amiciaa.org
END:VEVENT
BEGIN:VEVENT
DTSTART;VALUE=DATE:20250914
DTEND;VALUE=DATE:20250915
DTSTAMP:20260423T133150
CREATED:20250822T072138Z
LAST-MODIFIED:20250822T072138Z
UID:2700-1757808000-1757894399@amiciaa.org
SUMMARY:VERSO L’ONESTA’
DESCRIPTION:Descrizione:”Questo perverso desiderio di nascondere un motivo cattivo dietro uno buono\, permea tutte le vicende umane da cima a fondo. Tale subdolo ed elusivo genere d’ipocrisia può nascondersi sotto le nostre azioni o pensieri più insignificanti.” \nTratto da: “Come la vede Bill” pag.17
URL:https://amiciaa.org/event/verso-lonesta-4/
LOCATION:skipe amiciaa
CATEGORIES:Calendario
ORGANIZER;CN="gruppo on line AmiciAA":MAILTO:info@amiciaa.org
END:VEVENT
BEGIN:VEVENT
DTSTART;VALUE=DATE:20250915
DTEND;VALUE=DATE:20250916
DTSTAMP:20260423T133150
CREATED:20250822T072244Z
LAST-MODIFIED:20250822T072244Z
UID:2702-1757894400-1757980799@amiciaa.org
SUMMARY:ESSERE ATTIVI
DESCRIPTION:Descrizione:”Migliaia di noi si sono chiesti che cosa avrebbero fatto una volta smesso di bere\, con tutto il tempo a disposizione. È infatti vero che quando abbiamo smesso di bere\, tutte quelle ore che un tempo passavamo a programmare i nostri bicchieri\, a procurarceli\, a bere e a riprenderci dagli effetti del bere\, si sono improvvisamente trasformati in grandi e vuoti spazi di tempo che in qualche modo dovevano essere colmati.” \nTratto da: “Vivere Sobri” pag. 25
URL:https://amiciaa.org/event/essere-attivi-6/
LOCATION:skipe amiciaa
CATEGORIES:Calendario
ORGANIZER;CN="gruppo on line AmiciAA":MAILTO:info@amiciaa.org
END:VEVENT
BEGIN:VEVENT
DTSTART;VALUE=DATE:20250917
DTEND;VALUE=DATE:20250918
DTSTAMP:20260423T133150
CREATED:20250822T073705Z
LAST-MODIFIED:20250822T073705Z
UID:2704-1758067200-1758153599@amiciaa.org
SUMMARY:NONO PASSO
DESCRIPTION:Descrizione:”Al ritorno dalla nostra prima riunione\, o forse dopo aver finito di leggere il libro Alcolisti Anonimi\, di solito sentiamo il bisogno di sederci con qualcuno della famiglia e di ammettere subito i danni che abbiamo provocato con il nostro alcolismo. Quasi sempre desideriamo andare oltre e ammettere altri difetti che hanno reso difficile convivere con noi. Questa sarà una situazione molto diversa e in netto contrasto con quelle mattinate afflitte dai postumi di una sbornia\, quando alternavamo gli insulti a noi stessi alle accuse ai nostri cari (o a chiunque altro) per i nostri guai.” \nTratto da:”Dodici Passi Dodici Tradizioni” pag.120
URL:https://amiciaa.org/event/nono-passo-8/
LOCATION:skipe amiciaa
CATEGORIES:Calendario
ORGANIZER;CN="gruppo on line AmiciAA":MAILTO:info@amiciaa.org
END:VEVENT
BEGIN:VEVENT
DTSTART;TZID=Europe/Rome:20250919T080000
DTEND;TZID=Europe/Rome:20250919T170000
DTSTAMP:20260423T133150
CREATED:20250822T073914Z
LAST-MODIFIED:20250822T073914Z
UID:2706-1758268800-1758301200@amiciaa.org
SUMMARY:NONO CONCETTO
DESCRIPTION:Descrizione:”Questo Concetto cerca di individuare il modo in cui rafforzare l’efficienza dei Servitori. La Leadership è un fatto spirituale importantissimo in A.A.; qui\, non ci sono regole\, non c’è autorità\, non c’è comando\, quindi\, per poter applicare il diritto di Decisione\, c’è solo la leadership che dovrebbe essere propria di qualsiasi Servitore a qualsiasi livello. E’ la capacità di guidare senza necessità di comandare\, di ascoltare tutti e prendere decisione.” \nTratto da:”Il compagno di viaggio” pag.239
URL:https://amiciaa.org/event/nono-concetto-3/
LOCATION:skipe amiciaa
CATEGORIES:Calendario
ORGANIZER;CN="gruppo on line AmiciAA":MAILTO:info@amiciaa.org
END:VEVENT
END:VCALENDAR