BEGIN:VCALENDAR
VERSION:2.0
PRODID:-//AmiciAA Alcolisti Anonimi - ECPv6.15.20//NONSGML v1.0//EN
CALSCALE:GREGORIAN
METHOD:PUBLISH
X-WR-CALNAME:AmiciAA Alcolisti Anonimi
X-ORIGINAL-URL:https://amiciaa.org
X-WR-CALDESC:Eventi per AmiciAA Alcolisti Anonimi
REFRESH-INTERVAL;VALUE=DURATION:PT1H
X-Robots-Tag:noindex
X-PUBLISHED-TTL:PT1H
BEGIN:VTIMEZONE
TZID:Europe/Rome
BEGIN:DAYLIGHT
TZOFFSETFROM:+0100
TZOFFSETTO:+0200
TZNAME:CEST
DTSTART:20240331T010000
END:DAYLIGHT
BEGIN:STANDARD
TZOFFSETFROM:+0200
TZOFFSETTO:+0100
TZNAME:CET
DTSTART:20241027T010000
END:STANDARD
BEGIN:DAYLIGHT
TZOFFSETFROM:+0100
TZOFFSETTO:+0200
TZNAME:CEST
DTSTART:20250330T010000
END:DAYLIGHT
BEGIN:STANDARD
TZOFFSETFROM:+0200
TZOFFSETTO:+0100
TZNAME:CET
DTSTART:20251026T010000
END:STANDARD
BEGIN:DAYLIGHT
TZOFFSETFROM:+0100
TZOFFSETTO:+0200
TZNAME:CEST
DTSTART:20260329T010000
END:DAYLIGHT
BEGIN:STANDARD
TZOFFSETFROM:+0200
TZOFFSETTO:+0100
TZNAME:CET
DTSTART:20261025T010000
END:STANDARD
END:VTIMEZONE
BEGIN:VEVENT
DTSTART;VALUE=DATE:20250912
DTEND;VALUE=DATE:20250913
DTSTAMP:20260423T115714
CREATED:20250822T072021Z
LAST-MODIFIED:20250822T072021Z
UID:2698-1757635200-1757721599@amiciaa.org
SUMMARY:NONO PASSO
DESCRIPTION:Descrizione:”Il nono Passo chiede a ognuno di riparare\, per quanto possibile\, ai danni fatti ad altri col proprio comportamento. Si tratta di un complemento del quarto Passo: ciascuno ha visto quali sono le sue deficienze\, ora esamina quanto esse siano state dannose per gli altri\, e cerca di riparare al male.” \nTratto da:”Il compagno di viaggio” pag.82
URL:https://amiciaa.org/event/nono-passo-7/
LOCATION:skipe amiciaa
CATEGORIES:Calendario
ORGANIZER;CN="gruppo on line AmiciAA":MAILTO:info@amiciaa.org
END:VEVENT
BEGIN:VEVENT
DTSTART;VALUE=DATE:20250914
DTEND;VALUE=DATE:20250915
DTSTAMP:20260423T115714
CREATED:20250822T072138Z
LAST-MODIFIED:20250822T072138Z
UID:2700-1757808000-1757894399@amiciaa.org
SUMMARY:VERSO L’ONESTA’
DESCRIPTION:Descrizione:”Questo perverso desiderio di nascondere un motivo cattivo dietro uno buono\, permea tutte le vicende umane da cima a fondo. Tale subdolo ed elusivo genere d’ipocrisia può nascondersi sotto le nostre azioni o pensieri più insignificanti.” \nTratto da: “Come la vede Bill” pag.17
URL:https://amiciaa.org/event/verso-lonesta-4/
LOCATION:skipe amiciaa
CATEGORIES:Calendario
ORGANIZER;CN="gruppo on line AmiciAA":MAILTO:info@amiciaa.org
END:VEVENT
BEGIN:VEVENT
DTSTART;VALUE=DATE:20250915
DTEND;VALUE=DATE:20250916
DTSTAMP:20260423T115714
CREATED:20250822T072244Z
LAST-MODIFIED:20250822T072244Z
UID:2702-1757894400-1757980799@amiciaa.org
SUMMARY:ESSERE ATTIVI
DESCRIPTION:Descrizione:”Migliaia di noi si sono chiesti che cosa avrebbero fatto una volta smesso di bere\, con tutto il tempo a disposizione. È infatti vero che quando abbiamo smesso di bere\, tutte quelle ore che un tempo passavamo a programmare i nostri bicchieri\, a procurarceli\, a bere e a riprenderci dagli effetti del bere\, si sono improvvisamente trasformati in grandi e vuoti spazi di tempo che in qualche modo dovevano essere colmati.” \nTratto da: “Vivere Sobri” pag. 25
URL:https://amiciaa.org/event/essere-attivi-6/
LOCATION:skipe amiciaa
CATEGORIES:Calendario
ORGANIZER;CN="gruppo on line AmiciAA":MAILTO:info@amiciaa.org
END:VEVENT
BEGIN:VEVENT
DTSTART;VALUE=DATE:20250917
DTEND;VALUE=DATE:20250918
DTSTAMP:20260423T115714
CREATED:20250822T073705Z
LAST-MODIFIED:20250822T073705Z
UID:2704-1758067200-1758153599@amiciaa.org
SUMMARY:NONO PASSO
DESCRIPTION:Descrizione:”Al ritorno dalla nostra prima riunione\, o forse dopo aver finito di leggere il libro Alcolisti Anonimi\, di solito sentiamo il bisogno di sederci con qualcuno della famiglia e di ammettere subito i danni che abbiamo provocato con il nostro alcolismo. Quasi sempre desideriamo andare oltre e ammettere altri difetti che hanno reso difficile convivere con noi. Questa sarà una situazione molto diversa e in netto contrasto con quelle mattinate afflitte dai postumi di una sbornia\, quando alternavamo gli insulti a noi stessi alle accuse ai nostri cari (o a chiunque altro) per i nostri guai.” \nTratto da:”Dodici Passi Dodici Tradizioni” pag.120
URL:https://amiciaa.org/event/nono-passo-8/
LOCATION:skipe amiciaa
CATEGORIES:Calendario
ORGANIZER;CN="gruppo on line AmiciAA":MAILTO:info@amiciaa.org
END:VEVENT
BEGIN:VEVENT
DTSTART;TZID=Europe/Rome:20250919T080000
DTEND;TZID=Europe/Rome:20250919T170000
DTSTAMP:20260423T115714
CREATED:20250822T073914Z
LAST-MODIFIED:20250822T073914Z
UID:2706-1758268800-1758301200@amiciaa.org
SUMMARY:NONO CONCETTO
DESCRIPTION:Descrizione:”Questo Concetto cerca di individuare il modo in cui rafforzare l’efficienza dei Servitori. La Leadership è un fatto spirituale importantissimo in A.A.; qui\, non ci sono regole\, non c’è autorità\, non c’è comando\, quindi\, per poter applicare il diritto di Decisione\, c’è solo la leadership che dovrebbe essere propria di qualsiasi Servitore a qualsiasi livello. E’ la capacità di guidare senza necessità di comandare\, di ascoltare tutti e prendere decisione.” \nTratto da:”Il compagno di viaggio” pag.239
URL:https://amiciaa.org/event/nono-concetto-3/
LOCATION:skipe amiciaa
CATEGORIES:Calendario
ORGANIZER;CN="gruppo on line AmiciAA":MAILTO:info@amiciaa.org
END:VEVENT
BEGIN:VEVENT
DTSTART;VALUE=DATE:20250921
DTEND;VALUE=DATE:20250922
DTSTAMP:20260423T115714
CREATED:20250822T074045Z
LAST-MODIFIED:20250822T074045Z
UID:2708-1758412800-1758499199@amiciaa.org
SUMMARY:LA TRADIZIONE DI A.A.
DESCRIPTION:Descrizione:”Per tutti coloro che sono arrivati in A.A.\, Alcolisti Anonimi ha fatto la differenza fra la sofferenza e la sobrietà e\, molto spesso\, la differenza fra la vita e la morte. A.A. può\, ovviamente\, avere lo stesso significato per gli innumerevoli alcolisti che ancora non abbiamo raggiunto. Perciò mai nessuna associazione di uomini e donne ha avuto più urgente bisogno di continua capacità di funzionare in permanente unità. Noi alcolisti ci siamo resi conto che bisogna lavorare assieme e stare uniti\, altrimenti molti di noi alla fine moriranno da soli.” \nTratto da:”Alcolisti Anonimi” pag.383
URL:https://amiciaa.org/event/la-tradizione-di-a-a-2/
LOCATION:skipe amiciaa
CATEGORIES:Calendario
ORGANIZER;CN="gruppo on line AmiciAA":MAILTO:info@amiciaa.org
END:VEVENT
BEGIN:VEVENT
DTSTART;VALUE=DATE:20250922
DTEND;VALUE=DATE:20250923
DTSTAMP:20260423T115714
CREATED:20250822T074226Z
LAST-MODIFIED:20250822T074226Z
UID:2710-1758499200-1758585599@amiciaa.org
SUMMARY:IL VINO DEL SUCCESSO
DESCRIPTION:Descrizione:”I problemi spiacevoli o inaspettati non sono i soli che richiedono autocontrollo. Dobbiamo stare ugualmente attenti anche quando cominciamo a ottenere un po’ d’importanza o di successo materiale. Perché nessuno ha mai amato i trionfi personali più di quanto li abbiamo amati noi: abbiamo bevuto il successo come un vino che non mancava mai di farci sentire euforici.” \nTratto da:”Come la vede Bill” pag.19
URL:https://amiciaa.org/event/il-vino-del-successo-2/
LOCATION:skipe amiciaa
CATEGORIES:Calendario
ORGANIZER;CN="gruppo on line AmiciAA":MAILTO:info@amiciaa.org
END:VEVENT
BEGIN:VEVENT
DTSTART;VALUE=DATE:20250924
DTEND;VALUE=DATE:20250925
DTSTAMP:20260423T115714
CREATED:20250822T074343Z
LAST-MODIFIED:20250822T074343Z
UID:2712-1758672000-1758758399@amiciaa.org
SUMMARY:QUANDO FARE IL NONO PASSO?
DESCRIPTION:Descrizione:”Bisognerebbe fare questo Passo il prima possibile\, ma senza affrettare i tempi. Da una parte esso è urgente per far sentire ognuno in sintonia col mondo sapendo che proprio la separazione da esso è stata una delle cause dell’alcolismo; dall’altro\, non ci si può affrettare troppo\, perché la materia è estremamente delicata e si rischia\, con troppa fretta\, di fare altri danni.” \nTratto da:”Il compagno di viaggio” pag. 83
URL:https://amiciaa.org/event/quando-fare-il-nono-passo-2/
LOCATION:skipe amiciaa
CATEGORIES:Calendario
ORGANIZER;CN="gruppo on line AmiciAA":MAILTO:info@amiciaa.org
END:VEVENT
BEGIN:VEVENT
DTSTART;VALUE=DATE:20250926
DTEND;VALUE=DATE:20250927
DTSTAMP:20260423T115714
CREATED:20250822T074603Z
LAST-MODIFIED:20250822T074603Z
UID:2716-1758844800-1758931199@amiciaa.org
SUMMARY:NONO PASSO
DESCRIPTION:Descrizione:”Può esserci solo un’unica considerazione tale da frenare il nostro desiderio di rivelare completamente il male che abbiamo fatto: si presenterà nella situazione particolare in cui il fare una completa rivelazione recherebbe un serio danno alla persona verso la quale stiamo facendo ammenda\, oppure – ed è altrettanto importante – danneggerebbe altre persone.” \nTratto da:”Dodici Passi Dodici Tradizioni” pag.123
URL:https://amiciaa.org/event/nono-passo-9/
LOCATION:skipe amiciaa
CATEGORIES:Calendario
ORGANIZER;CN="gruppo on line AmiciAA":MAILTO:info@amiciaa.org
END:VEVENT
BEGIN:VEVENT
DTSTART;VALUE=DATE:20250928
DTEND;VALUE=DATE:20250929
DTSTAMP:20260423T115714
CREATED:20250822T074456Z
LAST-MODIFIED:20250822T074716Z
UID:2714-1759017600-1759103999@amiciaa.org
SUMMARY:ESSERE ATTIVI
DESCRIPTION:Descrizione:”La paura può\, all’inizio\, avere spinto alcuni di noi a riconoscere che forse avevano problemi connessi al bere. E dopo un breve periodo\, solo la paura può aiutare alcuni di noi a rimanere lontani dal bere.Ma l’avere paura non è uno stato felice o rilassato che possa durare a lungo. Dobbiamo perciò sviluppare in noi un salutare rispetto verso il potere dell’alcol invece di temerlo\, proprio come la gente rispetta il cianuro\, lo iodio o qualsiasi altro veleno.” \nTratto da:”Vivere Sobri” pag.26
URL:https://amiciaa.org/event/essere-attivi-7/
LOCATION:skipe amiciaa
CATEGORIES:Calendario
ORGANIZER;CN="gruppo on line AmiciAA":MAILTO:info@amiciaa.org
END:VEVENT
BEGIN:VEVENT
DTSTART;VALUE=DATE:20250929
DTEND;VALUE=DATE:20250930
DTSTAMP:20260423T115714
CREATED:20250822T074900Z
LAST-MODIFIED:20250822T074900Z
UID:2718-1759104000-1759190399@amiciaa.org
SUMMARY:NON POSSIAMO FERMARCI
DESCRIPTION:Descrizione:”Quanti di noi avrebbero la presunzione di dichiarare:”Bene\, sono sobrio e felice. Che altro posso volere o fare? Sto bene così come sto”. Sappiamo che il prezzo di un autocompiacimento di questo genere sarebbe un’inevitabile scivolata all’indietro\, segnata a un certo punto da un risveglio molto brusco. Dobbiamo crescere\, altrimenti peggioreremo. \nTratto da:”Come la vede Bill” pag.25
URL:https://amiciaa.org/event/non-possiamo-fermarci-2/
LOCATION:skipe amiciaa
CATEGORIES:Calendario
ORGANIZER;CN="gruppo on line AmiciAA":MAILTO:info@amiciaa.org
END:VEVENT
BEGIN:VEVENT
DTSTART;VALUE=DATE:20251001
DTEND;VALUE=DATE:20251002
DTSTAMP:20260423T115714
CREATED:20250922T190250Z
LAST-MODIFIED:20250922T190250Z
UID:2732-1759276800-1759363199@amiciaa.org
SUMMARY:DECIMO PASSO
DESCRIPTION:Descrizione: “Questo Passo propone di analizzare onestamente quali siano QUI ED ORA le proprie qualità e i propri difetti\, e i comportamenti che si adottano nella quotidianità. Quando si conseguirà qualche successo bisogna evitare di esaltarsi\, consapevoli della reale possibilità di una ricaduta emotiva. Quando si sbaglierà si cercherà di non abbattersi\, ma ci si riproporrà di correggere gli errori\, e si ammetteranno immediatamente i propri torti. E’ un ottimo metodo per raggiungere un buon equilibrio.” \nTratto da: “Il compagno di viaggio” pag.88
URL:https://amiciaa.org/event/decimo-passo-10/
LOCATION:skipe amiciaa
CATEGORIES:Calendario
ORGANIZER;CN="gruppo on line AmiciAA":MAILTO:info@amiciaa.org
END:VEVENT
BEGIN:VEVENT
DTSTART;VALUE=DATE:20251003
DTEND;VALUE=DATE:20251004
DTSTAMP:20260423T115714
CREATED:20250922T190340Z
LAST-MODIFIED:20250922T190340Z
UID:2734-1759449600-1759535999@amiciaa.org
SUMMARY:VEDERE LA SOLITUDINE SVANIRE
DESCRIPTION:Descrizione: “Quasi senza eccezione\, gli alcolisti sono tormentati dalla solitudine. Anche prima che il nostro bere peggiorasse e la gente cominciasse a rompere i rapporti con noi\, quasi tutti abbiamo sofferto della sensazione di non appartenere a niente e a nessuno. O eravamo timidi e non avevamo il coraggio di avvicinare gli altri\, oppure avevamo la tendenza a essere degli allegri e chiassosi compagnoni ansiosi di ottenere attenzione e compagnia\, ma riuscendoci solo di rado.” \nTratto da: “Come la vede Bill” pag. 90
URL:https://amiciaa.org/event/vedere-la-solitudine-svanire-2/
LOCATION:skipe amiciaa
CATEGORIES:Calendario
ORGANIZER;CN="gruppo on line AmiciAA":MAILTO:info@amiciaa.org
END:VEVENT
BEGIN:VEVENT
DTSTART;VALUE=DATE:20251005
DTEND;VALUE=DATE:20251006
DTSTAMP:20260423T115714
CREATED:20250922T190442Z
LAST-MODIFIED:20250922T190442Z
UID:2736-1759622400-1759708799@amiciaa.org
SUMMARY:ESSERE BUONI CON SE STESSI
DESCRIPTION:Descrizione: “Nei tempi passati la gente spesso credeva che coloro che cercavano di guarire da certe malattie meritavano di soffrire dal momento che avevano causato essi stessi\, deliberatamente\, la loro malattia. Siccome l’alcolismo è ancora visto come una colpa e un’infamia dalla gente che ignora la natura di questa malattia inclusi noi (prima che fossimo informati bene)\, molti di noi non erano un granché gentili con se stessi durante i postumi di una bevuta. Abbiamo sofferto e ci siamo considerati individui che dovevano scontare la necessaria pena per i propri misfatti. \nTratto da: “Vivere Sobri” pag. 63
URL:https://amiciaa.org/event/essere-buoni-con-se-stessi-3/
LOCATION:skipe amiciaa
CATEGORIES:Calendario
ORGANIZER;CN="gruppo on line AmiciAA":MAILTO:info@amiciaa.org
END:VEVENT
BEGIN:VEVENT
DTSTART;VALUE=DATE:20251006
DTEND;VALUE=DATE:20251007
DTSTAMP:20260423T115714
CREATED:20250922T190604Z
LAST-MODIFIED:20250922T190604Z
UID:2738-1759708800-1759795199@amiciaa.org
SUMMARY:DECIMO PASSO
DESCRIPTION:Descrizione: “Quando lavoriamo sui primi nove Passi\, ci prepariamo all’avventura di una nuova vita. Ma quando ci accingiamo a fare il Decimo Passo\, cominciamo a mettere in pratica il nostro stile di vita A.A. giorno per giorno\, nel bello e nel cattivo tempo. Arriva dunque il momento della prova del fuoco: siamo in grado di restare sobri\, di mantenere il nostro equilibrio emotivo e di vivere in modo soddisfacente in qualsiasi situazione?” \nTratto da: “Dodici Passi Dodici Tradizioni”  pag. 127
URL:https://amiciaa.org/event/decimo-passo-11/
LOCATION:skipe amiciaa
CATEGORIES:Calendario
ORGANIZER;CN="gruppo on line AmiciAA":MAILTO:info@amiciaa.org
END:VEVENT
BEGIN:VEVENT
DTSTART;VALUE=DATE:20251008
DTEND;VALUE=DATE:20251009
DTSTAMP:20260423T115714
CREATED:20250922T190709Z
LAST-MODIFIED:20250922T190709Z
UID:2740-1759881600-1759967999@amiciaa.org
SUMMARY:DECIMA TRADIZIONE
DESCRIPTION:Descrizione: “Alcolisti Anonimi è impegnata in una grande missione: aiutare gli alcolisti a risolvere il loro problema con l’alcol e a recuperare la loro vita e la loro dignità. Per raggiungere questo scopo deve evitare ogni tipo di contrapposizione sia al suo interno\, perché metterebbe in serio pericolo la sua unità\, sia nei rapporti con il mondo esterno per non far nascere contrasti che isolerebbero A.A. dal contesto nel quale vive e opera.” \nTratto da: “Il compagno di viaggio” pag.171
URL:https://amiciaa.org/event/decima-tradizione-3/
LOCATION:skipe amiciaa
CATEGORIES:Calendario
ORGANIZER;CN="gruppo on line AmiciAA":MAILTO:info@amiciaa.org
END:VEVENT
BEGIN:VEVENT
DTSTART;VALUE=DATE:20251010
DTEND;VALUE=DATE:20251011
DTSTAMP:20260423T115714
CREATED:20250922T190935Z
LAST-MODIFIED:20250922T190935Z
UID:2743-1760054400-1760140799@amiciaa.org
SUMMARY:ATTIVITA’ AL DI FUORI DI A.A.
DESCRIPTION:Descrizione: “Quando non vi è più la necessità di dare a noi stessi delle ragioni per bere\, sembra spesso che le nostre menti vogliano scioperare. Alcuni di noi non riescono a pensare a cose da fare che non siano connesse con il bere! Forse è solo perché ne abbiamo perso l’abitudine. O forse la mente ha bisogno di un periodo di tranquilla convalescenza una volta cessata la fase dell’alcolismo attivo. In ambedue i casi questa ottusità è destinata a scomparire.” \nTratto da : “Vivere Sobri” pag. 29
URL:https://amiciaa.org/event/attivita-al-di-fuori-di-a-a-3/
LOCATION:skipe amiciaa
CATEGORIES:Calendario
ORGANIZER;CN="gruppo on line AmiciAA":MAILTO:info@amiciaa.org
END:VEVENT
BEGIN:VEVENT
DTSTART;VALUE=DATE:20251012
DTEND;VALUE=DATE:20251013
DTSTAMP:20260423T115714
CREATED:20250922T191044Z
LAST-MODIFIED:20250922T191044Z
UID:2745-1760227200-1760313599@amiciaa.org
SUMMARY:L’INVENTARIO DI CHI?
DESCRIPTION:Descrizione: “Un costante esame dei nostri pregi e dei nostri difetti e un sincero desiderio di imparare e crescere in questo modo sono per noi indispensabili. Noi alcolisti l’abbiamo imparato a una dura scuola. Certo\, gente con maggiore esperienza ha praticato\, in ogni tempo e parte del mondo\, una rigorosa autoanalisi e autocritica.” \nTratto da: “Come la vede Bill” pag.161
URL:https://amiciaa.org/event/linventario-di-chi-2/
LOCATION:skipe amiciaa
CATEGORIES:Calendario
ORGANIZER;CN="gruppo on line AmiciAA":MAILTO:info@amiciaa.org
END:VEVENT
BEGIN:VEVENT
DTSTART;VALUE=DATE:20251013
DTEND;VALUE=DATE:20251014
DTSTAMP:20260423T115714
CREATED:20250922T191145Z
LAST-MODIFIED:20250922T191145Z
UID:2747-1760313600-1760399999@amiciaa.org
SUMMARY:ALL’OPERA
DESCRIPTION:Descrizione: “L’alcolista\, più di tutti gli altri\, vive una doppia vita. È come un attore. Al mondo esterno presenta l’aspetto da palcoscenico e desidera che chi lo frequenta lo veda così. Vuole godere presso di loro di una certa reputazione\, ma nel suo cuore sa di non meritarla. La contraddizione è ancora più grave a causa di ciò che combina durante le sue sbronze. Una volta ritornato in sé\, si vergogna di certi episodi che ricorda vagamente. Questi ricordi diventano un incubo. “ \nTratto da: “Alcolisti Anonimi” pag.72
URL:https://amiciaa.org/event/allopera-4/
LOCATION:skipe amiciaa
CATEGORIES:Calendario
ORGANIZER;CN="gruppo on line AmiciAA":MAILTO:info@amiciaa.org
END:VEVENT
BEGIN:VEVENT
DTSTART;VALUE=DATE:20251015
DTEND;VALUE=DATE:20251016
DTSTAMP:20260423T115714
CREATED:20250922T191257Z
LAST-MODIFIED:20250922T191257Z
UID:2749-1760486400-1760572799@amiciaa.org
SUMMARY:DECIMO CONCETTO
DESCRIPTION:Descrizione: “Questo Concetto è valido per tutti i livelli di Servizio\, quindi anche per i Servitori del Gruppo. Ovunque ci sia un’elezione e\, quindi\, una delega di fiducia\, ci dovrebbe essere chiarezza nei compiti che il Servitore è chiamato\, sia pure a modo suo\, a svolgere. Ogni Servitore\, anche di Gruppo\, ha la sua autorità ben delimitata\, il suo diritto di decisione\, il dovere di ascoltare tutte le opinioni\, la responsabilità verso chi lo ha eletto.” \nTratto da: “Il compagno di viaggio” pag.247
URL:https://amiciaa.org/event/decimo-concetto-4/
LOCATION:skipe amiciaa
CATEGORIES:Calendario
ORGANIZER;CN="gruppo on line AmiciAA":MAILTO:info@amiciaa.org
END:VEVENT
BEGIN:VEVENT
DTSTART;VALUE=DATE:20251017
DTEND;VALUE=DATE:20251018
DTSTAMP:20260423T115714
CREATED:20250922T191424Z
LAST-MODIFIED:20250922T191424Z
UID:2751-1760659200-1760745599@amiciaa.org
SUMMARY:DECIMO PASSO
DESCRIPTION:Descrizione: “Alla fine cominciamo a renderci conto che tutti gli esseri umani\, noi inclusi\, sono in qualche misura emotivamente malati\, come pure che spesso sbaglia-no: solo allora ci avviciniamo alla vera tolleranza e comprendiamo ciò che effettivamente significhi l’autentico amore per i nostri simili. Progredendo così nel nostro cammino\, diverrà sempre più evidente che non ha senso arrabbiarsi o offendersi con persone che\, come noi\, soffrono le pene del crescere.” \nTratto da: “Dodici Passi Dodici Tradizioni” pag 133
URL:https://amiciaa.org/event/decimo-passo-12/
LOCATION:skipe amiciaa
CATEGORIES:Calendario
ORGANIZER;CN="gruppo on line AmiciAA":MAILTO:info@amiciaa.org
END:VEVENT
BEGIN:VEVENT
DTSTART;VALUE=DATE:20251019
DTEND;VALUE=DATE:20251020
DTSTAMP:20260423T115714
CREATED:20250922T191537Z
LAST-MODIFIED:20250922T191537Z
UID:2753-1760832000-1760918399@amiciaa.org
SUMMARY:FARSI AIUTARE DA UNO SPONSOR
DESCRIPTION:Descrizione: “Qualcuno ha detto che gli alcolisti sono persone che non dovrebbero mai serbare segreti che li riguardino\, specialmente quelli che procurano sensi di colpa. Essere aperti su se stessi aiuta a prevenire tutto questo e può essere un buon antidoto per chi tende a preoccuparsi di sé e a studiare se stesso in modo esasperato. Un buono sponsor è qualcuno di cui ci possiamo fidare\, con il quale possiamo parlare a cuore aperto.” \nTratto da: “Vivere Sobri” pag. 45
URL:https://amiciaa.org/event/farsi-aiutare-da-uno-sponsor-2/
LOCATION:skipe amiciaa
CATEGORIES:Calendario
ORGANIZER;CN="gruppo on line AmiciAA":MAILTO:info@amiciaa.org
END:VEVENT
BEGIN:VEVENT
DTSTART;TZID=Europe/Rome:20251020T080000
DTEND;TZID=Europe/Rome:20251020T170000
DTSTAMP:20260423T115714
CREATED:20250922T191642Z
LAST-MODIFIED:20250922T191642Z
UID:2755-1760947200-1760979600@amiciaa.org
SUMMARY:ACCETTAZIONE QUOTIDIANA
DESCRIPTION:Descrizione: “Ho passato una parte troppo grande della mia vita a soffermarmi sulle colpe degli altri. Questa è una delle più sottili e perverse forme di soddisfazione personale\, che ci permette di ignorare comodamente i nostri difetti. Troppo spesso ci hanno sentito dire: “Se non fosse per lui (o per lei)\, come sarei felice!” \nTratto da: “Come la vede Bill” pag.44
URL:https://amiciaa.org/event/accettazione-quotidiana-2/
LOCATION:skipe amiciaa
CATEGORIES:Calendario
ORGANIZER;CN="gruppo on line AmiciAA":MAILTO:info@amiciaa.org
END:VEVENT
BEGIN:VEVENT
DTSTART;VALUE=DATE:20251022
DTEND;VALUE=DATE:20251023
DTSTAMP:20260423T115714
CREATED:20250922T191755Z
LAST-MODIFIED:20250922T191755Z
UID:2757-1761091200-1761177599@amiciaa.org
SUMMARY:CI SONO SOLO COSE NEGATIVE?
DESCRIPTION:Descrizione: “Generalmente ognuno è portato a considerare solo\, o in modo prevalente\, gli aspetti negativi dei propri comportamenti e delle proprie azioni\, ma questo è sbagliato; è importante valutare anche i lati positivi del carattere ed i risultati concreti del proprio lavoro\, questo oltre che gratificare rafforza nell’impegno a crescere: se non va bene oggi\, domani andrà meglio.” \nTratto da: “Il compagno di viaggio” pag. 91
URL:https://amiciaa.org/event/ci-sono-solo-cose-negative-2/
LOCATION:skipe amiciaa
CATEGORIES:Calendario
ORGANIZER;CN="gruppo on line AmiciAA":MAILTO:info@amiciaa.org
END:VEVENT
BEGIN:VEVENT
DTSTART;VALUE=DATE:20251024
DTEND;VALUE=DATE:20251025
DTSTAMP:20260423T115714
CREATED:20250922T191904Z
LAST-MODIFIED:20250922T191904Z
UID:2759-1761264000-1761350399@amiciaa.org
SUMMARY:USCIRE DALLA TRAPPOLA DEL SE’
DESCRIPTION:Descrizione: “Più volte abbiamo riscontrato che non possiamo restare sobri a lungo per amore d’una moglie\, d’un marito\, dei figli\, d’un fidanzato\, dei genitori o d’un altro parente o amico\, e neppure nell’interesse del lavoro né per fare piacere al principale (o al dottore o al giudice o al creditore) né per alcun altro al di fuori di noi stessi. Legare la nostra sobrietà a qualsiasi persona (anche a un altro alcolista recuperato) o a qualsiasi circostanza è sciocco e pericoloso.” \nTratto da: “Vivere Sobri” pag. 95
URL:https://amiciaa.org/event/uscire-dalla-trappola-del-se-3/
LOCATION:skipe amiciaa
CATEGORIES:Calendario
ORGANIZER;CN="gruppo on line AmiciAA":MAILTO:info@amiciaa.org
END:VEVENT
BEGIN:VEVENT
DTSTART;VALUE=DATE:20251026
DTEND;VALUE=DATE:20251027
DTSTAMP:20260423T115714
CREATED:20250922T191957Z
LAST-MODIFIED:20250922T191957Z
UID:2761-1761436800-1761523199@amiciaa.org
SUMMARY:LAVORARE CON GLI ALTRI
DESCRIPTION:Descrizione: “Noi badiamo a non mostrare mai intolleranza o avversione verso il bere come fatto sociale. L’esperienza dimostra come questo atteggiamento non è utile a nessuno. Ogni nuovo alcolista cerca questo modo di pensare tra noi e prova un immenso sollievo quando si accorge che non siamo cacciatori di streghe. Uno spirito di intolleranza potrebbe respingere alcolisti le cui vite si sarebbero potute salvare\, se non fosse stato per tale ottusità.” \nTratto da: “Alcolisti Anonimi” pag 102
URL:https://amiciaa.org/event/lavorare-con-gli-altri-12/
LOCATION:skipe amiciaa
CATEGORIES:Calendario
ORGANIZER;CN="gruppo on line AmiciAA":MAILTO:info@amiciaa.org
END:VEVENT
BEGIN:VEVENT
DTSTART;VALUE=DATE:20251027
DTEND;VALUE=DATE:20251028
DTSTAMP:20260423T115714
CREATED:20250922T192110Z
LAST-MODIFIED:20250922T192110Z
UID:2763-1761523200-1761609599@amiciaa.org
SUMMARY:“NON AFFILIATA AD ALCUNA SETTA”
DESCRIPTION:Descrizione: “Alcolisti Anonimi ha riportato migliaia di cristiani infelici alle loro chiese e ha trasformato in credenti molti atei e agnostici. E non solo\, essa ha trasformato in buoni A.A. anche molti appartenenti alle fedi buddista\, musulmana ed ebraica. Si discute molto\, per esempio\, se gli A.A. buddisti del Giappone sarebbero mai entrati in Alcolisti Anonimi se questa si fosse definita un movimento strettamente cristiano.” \nTratto da: “Come la vede Bill” pag.34
URL:https://amiciaa.org/event/non-affiliata-ad-alcuna-setta-3/
LOCATION:skipe amiciaa
CATEGORIES:Calendario
ORGANIZER;CN="gruppo on line AmiciAA":MAILTO:info@amiciaa.org
END:VEVENT
BEGIN:VEVENT
DTSTART;TZID=Europe/Rome:20251029T080000
DTEND;TZID=Europe/Rome:20251029T170000
DTSTAMP:20260423T115714
CREATED:20250922T192213Z
LAST-MODIFIED:20250922T192213Z
UID:2765-1761724800-1761757200@amiciaa.org
SUMMARY:DECIMO PASSO
DESCRIPTION:Descrizione: “Adesso che siamo in A.A. e siamo sobri\, e abbiamo riconquistato la fiducia dei nostri amici e dei nostri colleghi di lavoro\, ci accorgiamo che abbiamo ancora bisogno di esercitare una particolare vigilanza. Per garantirci contro il “superomismo”\, possiamo darci spesso una controllata ricordando a noi stessi che oggi siamo sobri unicamente per grazia di Dio\, e che qualunque sia il successo che riusciamo a ottenere\, è un successo molto più Suo che nostro.” \nTratto da: “Dodici Passi Dodici Tradizioni ” pag. 133
URL:https://amiciaa.org/event/decimo-passo-13/
LOCATION:skipe amiciaa
CATEGORIES:Calendario
ORGANIZER;CN="gruppo on line AmiciAA":MAILTO:info@amiciaa.org
END:VEVENT
BEGIN:VEVENT
DTSTART;VALUE=DATE:20251031
DTEND;VALUE=DATE:20251101
DTSTAMP:20260423T115714
CREATED:20250922T192337Z
LAST-MODIFIED:20250922T192337Z
UID:2767-1761868800-1761955199@amiciaa.org
SUMMARY:SOLLIEVO E GIOIA
DESCRIPTION:Descrizione:”Pensiamo che il buon umore e il riso siano giovevoli. I non alcolisti rimangono talvolta interdetti quando scoppiamo in risate divertite su un’esperienza del passato apparentemente tragica. Perché non dovremmo riderne? Ci siamo ristabiliti e c’è stato dato il potere di aiutare gli altri. Quale motivo più grande di questo potrebbe esserci per gioire?” \nTratto da:”Come la vede Bill” pag.163
URL:https://amiciaa.org/event/sollievo-e-gioia-3/
LOCATION:skipe amiciaa
CATEGORIES:Calendario
ORGANIZER;CN="gruppo on line AmiciAA":MAILTO:info@amiciaa.org
END:VEVENT
BEGIN:VEVENT
DTSTART;VALUE=DATE:20251102
DTEND;VALUE=DATE:20251103
DTSTAMP:20260423T115714
CREATED:20251014T080938Z
LAST-MODIFIED:20251014T081639Z
UID:2769-1762041600-1762127999@amiciaa.org
SUMMARY:UNDICESIMO PASSO
DESCRIPTION:Descrizione: “Abbiamo cercato attraverso la preghiera e la meditazione di migliorare il nostro contatto cosciente con Dio\, come noi potemmo concepirLo\, pregandoLo solo di farci conoscere la Sua volontà nei nostri riguardi e di darci la forza di eseguirla.” \nTratto da:”Dodici passi dodici tradizioni” pag.139
URL:https://amiciaa.org/event/undicesimo-passo-6/
LOCATION:skipe amiciaa
CATEGORIES:Calendario
ORGANIZER;CN="gruppo on line AmiciAA":MAILTO:info@amiciaa.org
END:VEVENT
END:VCALENDAR