BEGIN:VCALENDAR
VERSION:2.0
PRODID:-//AmiciAA Alcolisti Anonimi - ECPv6.15.20//NONSGML v1.0//EN
CALSCALE:GREGORIAN
METHOD:PUBLISH
X-WR-CALNAME:AmiciAA Alcolisti Anonimi
X-ORIGINAL-URL:https://amiciaa.org
X-WR-CALDESC:Eventi per AmiciAA Alcolisti Anonimi
REFRESH-INTERVAL;VALUE=DURATION:PT1H
X-Robots-Tag:noindex
X-PUBLISHED-TTL:PT1H
BEGIN:VTIMEZONE
TZID:Europe/Rome
BEGIN:DAYLIGHT
TZOFFSETFROM:+0100
TZOFFSETTO:+0200
TZNAME:CEST
DTSTART:20230326T010000
END:DAYLIGHT
BEGIN:STANDARD
TZOFFSETFROM:+0200
TZOFFSETTO:+0100
TZNAME:CET
DTSTART:20231029T010000
END:STANDARD
BEGIN:DAYLIGHT
TZOFFSETFROM:+0100
TZOFFSETTO:+0200
TZNAME:CEST
DTSTART:20240331T010000
END:DAYLIGHT
BEGIN:STANDARD
TZOFFSETFROM:+0200
TZOFFSETTO:+0100
TZNAME:CET
DTSTART:20241027T010000
END:STANDARD
BEGIN:DAYLIGHT
TZOFFSETFROM:+0100
TZOFFSETTO:+0200
TZNAME:CEST
DTSTART:20250330T010000
END:DAYLIGHT
BEGIN:STANDARD
TZOFFSETFROM:+0200
TZOFFSETTO:+0100
TZNAME:CET
DTSTART:20251026T010000
END:STANDARD
END:VTIMEZONE
BEGIN:VTIMEZONE
TZID:UTC
BEGIN:STANDARD
TZOFFSETFROM:+0000
TZOFFSETTO:+0000
TZNAME:UTC
DTSTART:20230101T000000
END:STANDARD
END:VTIMEZONE
BEGIN:VEVENT
DTSTART;VALUE=DATE:20240128
DTEND;VALUE=DATE:20240129
DTSTAMP:20260425T160603
CREATED:20240120T180526Z
LAST-MODIFIED:20240314T170732Z
UID:1665-1706400000-1706486399@amiciaa.org
SUMMARY:PRIMO CONCETTO
DESCRIPTION:” I Gruppi AA possiedono la responsabilità ultima e l’autorità finale per la conduzione dell’ Associazione e dei nostri servizi. Attraverso i loro rappresentanti i Gruppi gestiscono AA nel suo insieme\, determinano l’attività dell’Associazione e ne sono responsabili. E’ chiaro che i Gruppi per esercitare questa autorità e quindi la responsabilità finale dell’Associazione devono delegare qualcuno a rappresentarli e a mettere in atto quello che decidono di fare\, per questo si sono dotati di una struttura di servizio funzionale a questo scopo: la Conferenza.” da Rivista Insieme N. 1 del 2023\, pag. 48
URL:https://amiciaa.org/event/primo-concetto/
LOCATION:skipe amiciaa
CATEGORIES:Calendario
ORGANIZER;CN="gruppo on line AmiciAA":MAILTO:info@amiciaa.org
END:VEVENT
BEGIN:VEVENT
DTSTART;VALUE=DATE:20240129
DTEND;VALUE=DATE:20240130
DTSTAMP:20260425T160603
CREATED:20240128T124328Z
LAST-MODIFIED:20240314T170731Z
UID:1667-1706486400-1706572799@amiciaa.org
SUMMARY:CHE COSA PROPONE LA PRIMA TRADIZIONE PER LA MIA VITA?
DESCRIPTION:” Non ha senso che ci si affanni a mantenere l’unità del Gruppo e poi si torni a casa e non si faccia unità coi propri cari\, o si vada a lavorare e non si persegua unità nell’ufficio\, o si stia in comitiva e non si viva la sua unità. Ogni qualvolta qualcuno dice o fa qualcosa che porta alla divisione opera contro ciò che è la sua propria vita\, distrugge l’ambiente che gli sta attorno e lo aiuta a vivere. Ogni gruppo di persone è più efficiente se è unito\, e per questo bisogna lavorare\, dato che questo benessere poi si riserva su ogni membro del Gruppo.” da Il Compagno di viaggio\, pag.116/117
URL:https://amiciaa.org/event/che-cosa-propone-la-prima-tradizione-per-la-mia-vita-2/
LOCATION:skipe amiciaa
CATEGORIES:Calendario
ORGANIZER;CN="gruppo on line AmiciAA":MAILTO:info@amiciaa.org
END:VEVENT
BEGIN:VEVENT
DTSTART;VALUE=DATE:20240131
DTEND;VALUE=DATE:20240201
DTSTAMP:20260425T160603
CREATED:20240128T124512Z
LAST-MODIFIED:20240314T170731Z
UID:1669-1706659200-1706745599@amiciaa.org
SUMMARY:PRIMA PROMESSA
DESCRIPTION:” La prima libertà della quale beneficiamo è quella dalla schiavitù dell’alcool. poi abbiamo cominciato a sperimentare la libertà dalla paura – paura della gente\, paura dell’insicurezza economica\, paura del giudizio altrui\, paura delle malattie\, paura della paura di aver paura….” da Opuscolo Le Promesse pag. 5
URL:https://amiciaa.org/event/prima-promessa/
LOCATION:skipe amiciaa
CATEGORIES:Calendario
ORGANIZER;CN="gruppo on line AmiciAA":MAILTO:info@amiciaa.org
END:VEVENT
BEGIN:VEVENT
DTSTART;VALUE=DATE:20240202
DTEND;VALUE=DATE:20240203
DTSTAMP:20260425T160603
CREATED:20240128T124658Z
LAST-MODIFIED:20240314T170731Z
UID:1672-1706832000-1706918399@amiciaa.org
SUMMARY:SECONDO PASSO (SIAMO GIUNTI A CREDERE CHE UN POTERE PIU' GRANDE DI NOI POTREBBE RICONDURCI ALLA RAGIONE)
DESCRIPTION:” Alcolisti Anonimi non ti impone di credere a qualcosa. Tutti i suoi dodici Passi non sono altro che suggerimenti. Per divenire e rimanere sobrio\, non è che tu debba mandar giù questo secondo Passo adesso\, tutto in una volta. Ripensandoci\, io stesso credo di averlo ingoiato a pezzetti.” da 12 Passi e 12 Tradizioni\, pag.33
URL:https://amiciaa.org/event/secondo-passo-siamo-giunti-a-credere-che-un-potere-piu-grande-di-noi-potrebbe-ricondurci-alla-ragione/
LOCATION:skipe amiciaa
CATEGORIES:Calendario
ORGANIZER;CN="gruppo on line AmiciAA":MAILTO:info@amiciaa.org
END:VEVENT
BEGIN:VEVENT
DTSTART;VALUE=DATE:20240204
DTEND;VALUE=DATE:20240205
DTSTAMP:20260425T160603
CREATED:20240128T124939Z
LAST-MODIFIED:20240314T170731Z
UID:1675-1707004800-1707091199@amiciaa.org
SUMMARY:PAURA
DESCRIPTION:” Dovremmo cercare di liberarci il più possibile dalla paura….Tentare di comprendere le nostre paure e le paure degli altri non è che un primo passo. Il problema più grosso è come\, e dove\, procediamo dopo.” da il meglio di Bill\, pag. 16/17
URL:https://amiciaa.org/event/paura-2/
LOCATION:skipe amiciaa
CATEGORIES:Calendario
ORGANIZER;CN="gruppo on line AmiciAA":MAILTO:info@amiciaa.org
END:VEVENT
BEGIN:VEVENT
DTSTART;VALUE=DATE:20240205
DTEND;VALUE=DATE:20240206
DTSTAMP:20260425T160603
CREATED:20240204T135937Z
LAST-MODIFIED:20240314T170731Z
UID:1677-1707091200-1707177599@amiciaa.org
SUMMARY:QUAL'E' L'ARGOMENTO DEL SECONDO PASSO?
DESCRIPTION:”  La cosa fondamentale di questo Passo è la conquista della fiducia negli altri\, il capire che la fiducia non si merita ma si regala\, che è necessario per ognuno chiedere aiuto ed attenderlo con fiducia.” da  Il Compagno di viaggio\, pag. 31
URL:https://amiciaa.org/event/quale-largomento-del-secondo-passo/
LOCATION:skipe amiciaa
CATEGORIES:Calendario
ORGANIZER;CN="gruppo on line AmiciAA":MAILTO:info@amiciaa.org
END:VEVENT
BEGIN:VEVENT
DTSTART;VALUE=DATE:20240207
DTEND;VALUE=DATE:20240208
DTSTAMP:20260425T160603
CREATED:20240204T140206Z
LAST-MODIFIED:20240314T170731Z
UID:1680-1707264000-1707350399@amiciaa.org
SUMMARY:NON TEMERE LA VITA
DESCRIPTION:” Il secondo Passo\, ci tengo a sottolinearlo\, non dice che ci farà smettere di bere\, ma che ci riporterà alla ragione. Tutti i nostri guai\, in buona sostanza\, si tratti del bere o della difficoltà a vivere\, dipendono da un limite insito in noi\, un grosso limite che investe la sfera mentale e quella spirituale. C’è una connessione- nel male- tra bere e vita incontrollabile\, ma parimenti ce n’è una- nel bene- tra il raggiungimento della sobrietà e il riordino della propria vita.” da rivista insieme\, n.1 del 2023\, pag. 37
URL:https://amiciaa.org/event/non-temere-la-vita/
LOCATION:skipe amiciaa
CATEGORIES:Calendario
ORGANIZER;CN="gruppo on line AmiciAA":MAILTO:info@amiciaa.org
END:VEVENT
BEGIN:VEVENT
DTSTART;VALUE=DATE:20240209
DTEND;VALUE=DATE:20240210
DTSTAMP:20260425T160603
CREATED:20240204T140331Z
LAST-MODIFIED:20240314T170731Z
UID:1682-1707436800-1707523199@amiciaa.org
SUMMARY:CHE COSA PROPONE LA SECONDA TRADIZIONE?
DESCRIPTION:” La seconda tradizione propone di sentirsi non già parte di una piramide fatta di comandi e obbedienza\, ma un insieme\, un popolo in cammino verso la sobrietà emotiva guidato non da capi ma da un Potere Superiore.” da Il Compagno di viaggio\, pag.120
URL:https://amiciaa.org/event/che-cosa-propone-la-seconda-tradizione/
LOCATION:skipe amiciaa
CATEGORIES:Calendario
ORGANIZER;CN="gruppo on line AmiciAA":MAILTO:info@amiciaa.org
END:VEVENT
BEGIN:VEVENT
DTSTART;VALUE=DATE:20240211
DTEND;VALUE=DATE:20240212
DTSTAMP:20260425T160603
CREATED:20240204T140446Z
LAST-MODIFIED:20240314T170710Z
UID:1684-1707609600-1707695999@amiciaa.org
SUMMARY:UMILTA'
DESCRIPTION:” Solo Dio stesso può manifestarsi nell’assoluto; noi esseri umani dobbiamo necessariamente vivere e crescere nella sfera del relativo. Noi cerchiamo l’umiltà per oggi…..Questo è il nostro modo AA di stare in guardia contro la cieca superbia e le immaginarie perfezioni che non possediamo.” da Il meglio di Bill\, pag. 41/42
URL:https://amiciaa.org/event/umilta-2/
LOCATION:skipe amiciaa
CATEGORIES:Calendario
ORGANIZER;CN="gruppo on line AmiciAA":MAILTO:info@amiciaa.org
END:VEVENT
BEGIN:VEVENT
DTSTART;VALUE=DATE:20240212
DTEND;VALUE=DATE:20240213
DTSTAMP:20260425T160603
CREATED:20240211T134845Z
LAST-MODIFIED:20240314T170710Z
UID:1686-1707696000-1707782399@amiciaa.org
SUMMARY:SPIRITUALE?
DESCRIPTION:“La cosa singolare è che la spiritualità non si può trasmettere con le parole. Se ogni uomo deve averla\, deve guadagnarsela a modo suo\, con le proprie mani\, con impresso il marchio del proprio essere\, nel proprio diritto individuale.” da  Giunsi a credere\, pag. 14
URL:https://amiciaa.org/event/spirituale/
LOCATION:skipe amiciaa
CATEGORIES:Calendario
ORGANIZER;CN="gruppo on line AmiciAA":MAILTO:info@amiciaa.org
END:VEVENT
BEGIN:VEVENT
DTSTART;VALUE=DATE:20240214
DTEND;VALUE=DATE:20240215
DTSTAMP:20260425T160603
CREATED:20240211T135037Z
LAST-MODIFIED:20240314T170710Z
UID:1689-1707868800-1707955199@amiciaa.org
SUMMARY:SECONDA PROMESSA
DESCRIPTION:” Non ci affliggeremo del passato\, ma ci impegneremo a non dimenticarlo mai. E’ la sobrietà tutto quello che dobbiamo aspettarci da un Risveglio Spirituale? No\, la sobrietà non è che l’inizio; non è che il primo dono del primo risveglio. Se vogliamo ricevere altri doni\, il nostro risveglio deve continuare.” da Opuscolo Le Promesse\, pag. 8
URL:https://amiciaa.org/event/seconda-promessa/
LOCATION:skipe amiciaa
CATEGORIES:Calendario
ORGANIZER;CN="gruppo on line AmiciAA":MAILTO:info@amiciaa.org
END:VEVENT
BEGIN:VEVENT
DTSTART;VALUE=DATE:20240216
DTEND;VALUE=DATE:20240217
DTSTAMP:20260425T160603
CREATED:20240211T135150Z
LAST-MODIFIED:20240314T170710Z
UID:1691-1708041600-1708127999@amiciaa.org
SUMMARY:SECONDA TRADIZIONE
DESCRIPTION:” Se il fondatore e i suoi amici sono stati dei buoni servitori potranno\, con loro gran sorpresa\, essere rieletti per un altro periodo di tempo. Se invece si sono ostinatamente opposti alla crescente marea di democrazia\, verranno messi da parte senza tante storie. In entrambi i casi il gruppo ha ora un comitato cosiddetto di rotazione\, con un’autorità ben chiaramente delimitata: in nessun caso i suoi componenti possono governare o dirigere il gruppo. Sono soltanto dei servitori.” da 12 Passi e 12 Tradizioni\, pag. 194
URL:https://amiciaa.org/event/seconda-tradizione/
LOCATION:skipe amiciaa
CATEGORIES:Calendario
ORGANIZER;CN="gruppo on line AmiciAA":MAILTO:info@amiciaa.org
END:VEVENT
BEGIN:VEVENT
DTSTART;VALUE=DATE:20240218
DTEND;VALUE=DATE:20240219
DTSTAMP:20260425T160603
CREATED:20240211T135401Z
LAST-MODIFIED:20240314T170710Z
UID:1693-1708214400-1708300799@amiciaa.org
SUMMARY:LA LEADERSHIP
DESCRIPTION:” Pian\, piano\, proseguendo uniti nel cammino\, si comprende che chi fa servizio\, ha la responsabilità di fare il meglio per l’Associazione\, anche se questo a volte significa correre il rischio di essere impopolari e di non piacere a tutti. La leadership è la capacità di riconoscere le proprie capacità e metterle al servizio degli altri: sperimentare il il servizio significa sviluppare le proprie capacità\, per la propria crescita e per il bene dell’associazione con l’intento di rimanere uniti per trasmettere il messaggio e diffonderlo. Il leader non va visto come un alieno: il leader è in realtà in ognuno di noi\, quando con spirito di umiltà ci relazioniamo con gli altri compagni di viaggio\, ispirati dai principi di tolleranza\, responsabilità\, flessibilità e intuizione.” da rivista Insieme n.1 del 2023\, pag.12
URL:https://amiciaa.org/event/la-leadership/
LOCATION:skipe amiciaa
CATEGORIES:Calendario
END:VEVENT
BEGIN:VEVENT
DTSTART;VALUE=DATE:20240219
DTEND;VALUE=DATE:20240220
DTSTAMP:20260425T160603
CREATED:20240218T175448Z
LAST-MODIFIED:20240314T170710Z
UID:1695-1708300800-1708387199@amiciaa.org
SUMMARY:secondo passo
DESCRIPTION:descrizione: quindi lascia perdere le discussioni da salottto e smettila di tormentarticon interrogativi profondi del tipo se è nato prima l’uovo o la gallina.Te lo ripeto \,tutto cio che serve è una mente aperta…. \ntratto da : dodici passi dodici tradizione pag.33
URL:https://amiciaa.org/event/secondo-passo/
LOCATION:skipe amiciaa
CATEGORIES:Calendario
END:VEVENT
BEGIN:VEVENT
DTSTART;VALUE=DATE:20240221
DTEND;VALUE=DATE:20240222
DTSTAMP:20260425T160603
CREATED:20240218T180416Z
LAST-MODIFIED:20240314T170710Z
UID:1697-1708473600-1708559999@amiciaa.org
SUMMARY:Egli ha preso il controllo
DESCRIPTION:descrizione: non credevo che la sobrieta’ mi avrebe giovato.Con una moglie che lavorava una bella casa\,una grossa automobile in garage Mi era difficle credere che la vita fosse divertente senza bevute \, locali notturni e donnine allegre.Non credevo che quei matti di A.A. fossero cosi interessati al mio benessere come dicevano \ntratto da : giunsi a credere pag \,45
URL:https://amiciaa.org/event/egli-ha-preso-il-controllo/
LOCATION:skipe amiciaa
CATEGORIES:Calendario
END:VEVENT
BEGIN:VEVENT
DTSTART;VALUE=DATE:20240223
DTEND;VALUE=DATE:20240224
DTSTAMP:20260425T160603
CREATED:20240218T180839Z
LAST-MODIFIED:20240314T170710Z
UID:1699-1708646400-1708732799@amiciaa.org
SUMMARY:Diritto di sbagliare
DESCRIPTION:descrizione: Il programma spinge ognno di noi all’azione\,a non rimanere mai fermo;questo comporta la possibilita di sbagliare\,ma cio non è irreversibile\,purche si abbia capacita di ascoltare gli altri \,di capire e ammettere i propri errori e di tornare indietro \ntratto da:il compagno di viaggio pag:133 \n 
URL:https://amiciaa.org/event/diritto-di-sbagliare/
LOCATION:skipe amiciaa
CATEGORIES:Calendario
END:VEVENT
BEGIN:VEVENT
DTSTART;VALUE=DATE:20240225
DTEND;VALUE=DATE:20240226
DTSTAMP:20260425T160603
CREATED:20240218T181404Z
LAST-MODIFIED:20240314T170710Z
UID:1702-1708819200-1708905599@amiciaa.org
SUMMARY:riunione di servizio
DESCRIPTION:riunione di servizio
URL:https://amiciaa.org/event/riunione-di-servizio/
LOCATION:skipe amiciaa
CATEGORIES:Calendario
END:VEVENT
BEGIN:VEVENT
DTSTART;VALUE=DATE:20240226
DTEND;VALUE=DATE:20240227
DTSTAMP:20260425T160603
CREATED:20240225T162504Z
LAST-MODIFIED:20240314T170710Z
UID:1709-1708905600-1708991999@amiciaa.org
SUMMARY: QUANTO COSTA APPARTENERE AD A.A.
DESCRIPTION:Descrizione:I nuovi venutinon devono pagare alcuna iscrizione per entrare a far parte dell’associazione\,e una volta presa la decisione\,non vi sono altre quote da versare.Gli A.A. che aiutano altri Alcolisti non chiedono mai nulla in cambio.La ricompensa che essi ricevono e assai piu grande è importante del denaro :è la loro stessa sobrieta’ \ntratto da;Conoscere A.A pag.9
URL:https://amiciaa.org/event/quanto-costa-appartenere-ad-a-a/
LOCATION:skipe amiciaa
CATEGORIES:Calendario
END:VEVENT
BEGIN:VEVENT
DTSTART;VALUE=DATE:20240228
DTEND;VALUE=DATE:20240229
DTSTAMP:20260425T160603
CREATED:20240225T163221Z
LAST-MODIFIED:20240314T170710Z
UID:1711-1709078400-1709164799@amiciaa.org
SUMMARY:SECONDO PASSO
DESCRIPTION:DESCRIZIONE ; Il seocndo passo rappresenta quindi il punto d’incontro per tutti noi.Agnostici \,atei oppure ex credenti \,in questo passso possiamo stasre insieme.Un ‘autentica umilta’ e una mente aperta possono condurci alla fede\,e ogni riunione di A.A.e un assicurazione che dio ci ricondurra’alla ragione se ci metteremo in rapporto con lui nel modo giursto. \ntratto da;dodici e dodici pag.43
URL:https://amiciaa.org/event/secondo-passo-2/
LOCATION:skipe amiciaa
CATEGORIES:Calendario
END:VEVENT
BEGIN:VEVENT
DTSTART;VALUE=DATE:20240301
DTEND;VALUE=DATE:20240302
DTSTAMP:20260425T160603
CREATED:20240225T163626Z
LAST-MODIFIED:20240314T170710Z
UID:1713-1709251200-1709337599@amiciaa.org
SUMMARY:TERZA TRADIZIONE
DESCRIPTION:Descrizione;Questa tradizione è carica di significato.PercheA.A.in effetti dice a chiunque abbia problemi con l’acol:”Sei un membro di A.A.se sei tu a dirlo.Tu puoi dichiarare di far parte di A.A. e nessunopuo tenertene fuori. \nTratto da dodici e dodici  pag.201
URL:https://amiciaa.org/event/terza-tradizione/
LOCATION:skipe amiciaa
CATEGORIES:Calendario
END:VEVENT
BEGIN:VEVENT
DTSTART;VALUE=DATE:20240303
DTEND;VALUE=DATE:20240304
DTSTAMP:20260425T160603
CREATED:20230805T113231Z
LAST-MODIFIED:20240314T170710Z
UID:1241-1709424000-1709510399@amiciaa.org
SUMMARY:ONESTA'
DESCRIPTION:Descrizione: ” Dobbiamo essere sempre certi di non assurgere al ruolo di predicatori dal pulpito. Perciò è saggio porci queste domande: “Comprendiamo veramente le persone coinvolte in questa situazione? Siamo certi di sapere tutto dei fatti? E’ veramente necessaria da parte nostra una qualsiasi iniziativa o critica? Siamo davvero sicuri che non abbiamo paura né siamo in collera?”. Soltanto se eseguiamo un esame del genere\, possiamo essere certi di agire con quel prudente discernimento e con quello spirito amorevole che ci serviranno sempre a mantenere la nostra integrità morale.” \nTratto da “Il meglio di Bill“\, pag. 33
URL:https://amiciaa.org/event/onesta/
LOCATION:skipe amiciaa
CATEGORIES:Calendario
ORGANIZER;CN="gruppo on line AmiciAA":MAILTO:info@amiciaa.org
END:VEVENT
BEGIN:VEVENT
DTSTART;VALUE=DATE:20240304
DTEND;VALUE=DATE:20240305
DTSTAMP:20260425T160603
CREATED:20240225T162023Z
LAST-MODIFIED:20240314T170710Z
UID:1707-1709510400-1709596799@amiciaa.org
SUMMARY:il gruppo A.A.
DESCRIPTION:descrizione; ogni gruppo ha le proprie caratteristiche e i modi di portare il messaggio della sobrieta’ variano non solo da gruppo a gruppo ma anche da luogo a luogo.Agendo autonomamente\,ogni gruppo traccia la propria rotta. \ntratto da :opuscolo il gruppo A.A pag.7
URL:https://amiciaa.org/event/il-gruppo-a-a/
LOCATION:skipe amiciaa
CATEGORIES:Calendario
END:VEVENT
BEGIN:VEVENT
DTSTART;VALUE=DATE:20240306
DTEND;VALUE=DATE:20240307
DTSTAMP:20260425T160603
CREATED:20240303T180354Z
LAST-MODIFIED:20240314T170710Z
UID:1732-1709683200-1709769599@amiciaa.org
SUMMARY:TERZO PASSO
DESCRIPTION:descrizione:ettere in pratica il terzo passo è come aprire una porta che secondo ogni apparenza sembra ancora chiusa a chiave.Tutto quel che ci occorre è una chiave \,e la decisione di aprire questa porta .La chiave è una sola \,e si chiama byona volontà. \ntratto da .dodici passi dodici tradizioni pag 45
URL:https://amiciaa.org/event/terzo-passo/
LOCATION:skipe amiciaa
CATEGORIES:Calendario
END:VEVENT
BEGIN:VEVENT
DTSTART;VALUE=DATE:20240308
DTEND;VALUE=DATE:20240309
DTSTAMP:20260425T160603
CREATED:20240303T181415Z
LAST-MODIFIED:20240314T170710Z
UID:1734-1709856000-1709942399@amiciaa.org
SUMMARY:Terzo concetto
DESCRIPTION:Descrizione: Che cosa vuol di per un A:A.”Diritto di Decisione”? \nIn A.A. nessuno dovrebbe mai essere solo.Anche facendo Servizio\,ci si dovrebbe confrontare con gli altri.Ma\,alla fin \,qualcuno deve prendere una decisione \,altrimenti l’Azione \,che il Programma \,asserisce essere centrale per un A.A.non sarebbe mai definita.Qesto Concetto suggerisce che sia il Servitore\,nell’ambito del proprio mandato \,che dopo aver ascoltato tutti\,debba prendere una decisione assumenrsene le responsabilità. \nTratto da dodidci concetti per il servizio pag. 200
URL:https://amiciaa.org/event/te/
LOCATION:skipe amiciaa
CATEGORIES:Calendario
END:VEVENT
BEGIN:VEVENT
DTSTART;VALUE=DATE:20240310
DTEND;VALUE=DATE:20240311
DTSTAMP:20260425T160603
CREATED:20240303T182456Z
LAST-MODIFIED:20240314T170710Z
UID:1737-1710028800-1710115199@amiciaa.org
SUMMARY:PERCHE' NON "EX ALCOLISTI"
DESCRIPTION:descrizione:gli A.A.dichiarano di essere alcolisti oggi\,anche se non bevono da molti anni.Essi non affermano di essere “guariti”perche sannoche \,dal momento che hanno perso la capacita’di controllarsi nel berè è accertato il loro tipo di reazione al consumo dell’alcol\,non potranno mai piu essere sicuri di poter tornare alla bottiglia senza pericolo o\,in altre parole \,non potranno mai diventare “bevitori sociali”o “ex alcolisti”.In A.A.pero’\,possono diventare alcolisti sobri\,alcolisti “recuperati”. \ntratto da Conoscere A.A. pag 6
URL:https://amiciaa.org/event/perche-non-ex-alcolisti/
LOCATION:skipe amiciaa
CATEGORIES:Calendario
END:VEVENT
BEGIN:VEVENT
DTSTART;VALUE=DATE:20240311
DTEND;VALUE=DATE:20240312
DTSTAMP:20260425T160603
CREATED:20240311T104540Z
LAST-MODIFIED:20240314T170710Z
UID:1744-1710115200-1710201599@amiciaa.org
SUMMARY:TERZA TRADIZIONE
DESCRIPTION:DESCRIZIONE:Nel corso del tempo Alcolisti Anonimi è giunta alla decisione di portare all ‘estrem limite il non – giudizio :non siamo noi ad ammettere un nuovo venuto\, elui stesso a dichiararsi A.A.\,con una qualsiasi forma di desiderio di smettere di bere. \ntratto da :Il compagno di viaggio pag.125
URL:https://amiciaa.org/event/terza-tradizione-2/
LOCATION:skipe amiciaa
CATEGORIES:Calendario
END:VEVENT
BEGIN:VEVENT
DTSTART;VALUE=DATE:20240313
DTEND;VALUE=DATE:20240314
DTSTAMP:20260425T160603
CREATED:20240313T172507Z
LAST-MODIFIED:20240314T170710Z
UID:1760-1710288000-1710374399@amiciaa.org
SUMMARY:UNA PROSPETTIVA PER VOI
DESCRIPTION:Descrizione: Per la maggior parte della gente normale\, il bere significa giovialità\, socievolezza (…). Ma così non era per noi in quegli ultimi giorni in cui si beveva forte. L’antico senso di piacere era sparito\, non era più che un ricordo. C’era un insistente desiderio di godere della vita come facevamo una volta e una straziante ossessione che una qualche nuova\, miracolosa capacità di controllarci ce ne rendesse capaci. C’era sempre un nuovo tentativo e un nuovo fallimento. Meno la gente ci tollerava e più ci ritiravamo dalla società e dalla vista stessa. Mano a mano che diventavamo sudditi del Re Alcol\, (…) la bruma raggelante della solitudine calava su noi.\n\ntratto da:Alcolisti anonimi pag. 151
URL:https://amiciaa.org/event/wwww/
LOCATION:skipe amiciaa
CATEGORIES:Calendario
END:VEVENT
BEGIN:VEVENT
DTSTART;VALUE=DATE:20240315
DTEND;VALUE=DATE:20240316
DTSTAMP:20260425T160603
CREATED:20240314T191437Z
LAST-MODIFIED:20240314T191437Z
UID:1783-1710460800-1710547199@amiciaa.org
SUMMARY:terza tradizione
DESCRIPTION:descrizione:La terza tradizione \,quando si riesce ad applicarla in tutti i campi della propria vita\,porta una grande serenita’.ci si accorgera\,allora di aver smesso tutte le guerre contro gli altri\,la fiducia in loro aumentera’ e non ci sara bisogno di passare il proprio tempo a cercae scuse o giustificazioni improbabili. \n  \ntratto da:ll compagno di viaggio  pag.129
URL:https://amiciaa.org/event/terza-tradizione-3/
LOCATION:skipe amiciaa
CATEGORIES:Calendario
END:VEVENT
BEGIN:VEVENT
DTSTART;VALUE=DATE:20240317
DTEND;VALUE=DATE:20240318
DTSTAMP:20260425T160603
CREATED:20240314T192941Z
LAST-MODIFIED:20240314T193154Z
UID:1789-1710633600-1710719999@amiciaa.org
SUMMARY:I TRE LEGATI
DESCRIPTION:Descrizione: Pensando ai Tre Legati mi ricordo che A.A. mi ha dato gli strumenti per la loro attuazione.  Come per il mio recupero personale ho i Dodici Passi\,come per il servizio ho i Dodici Concetti\,così per realizzare l’unità ho le Dodici Tradizioni. Vivere le tradizioni equivale ad amare A.A. così com’è.  Infatti\, è grazie ad A.A. così com’è che io ho abbandonato (almeno fino ad oggi) quel bicchiere causa delle mie ossessioni e del mio desiderio di morte. (…) Le tradizioni mi fanno stare nel presente con i piedi per terra\, risparmiandomi lo sforzo di dover inventare chissà cosa per la salvaguardia di A.A.\, che coincide con la mia salvezza e con il mio vivere sobrio.\nTratto dalla rivista: Insieme in A.A. pag. 43 n.1 del 2023.
URL:https://amiciaa.org/event/prima-tradizione-3/
LOCATION:skipe amiciaa
CATEGORIES:Calendario
END:VEVENT
BEGIN:VEVENT
DTSTART;VALUE=DATE:20240318
DTEND;VALUE=DATE:20240319
DTSTAMP:20260425T160603
CREATED:20240318T181605Z
LAST-MODIFIED:20240318T182125Z
UID:1801-1710720000-1710806399@amiciaa.org
SUMMARY:PERCHE' UN ALCOLISTA SEMBRA NON AVERE FORZA DI VOLONTA ?
DESCRIPTION:Descrizione: Molti alcolisti giungono ad A.A. convinti di non avere sufficiente forza di volonta’ per opporsi con successo al “vizio” dell’alcol e perche’ non sanno prendere in mano le redini della propria vita. In questo Passo Bill\, invece\,mostra che a combinare simili disastri non fu la mancanza della forza di volonta bensi’ un suo uso scorretto. L’alcolista cerca vie di fuga da se stesso ed applica cosi tutta la propria volonta’ ottenendo danni ancora peggiori \, anziche’ cercare un rimedio alla causa principale. \nTratto da “Il compagno di viaggio” pag. 41
URL:https://amiciaa.org/event/perche-un-alcolista-sembra-non-avere-forza-di-volonta/
LOCATION:skipe amiciaa
CATEGORIES:Calendario
ORGANIZER;CN="gruppo on line AmiciAA":MAILTO:info@amiciaa.org
END:VEVENT
END:VCALENDAR