BEGIN:VCALENDAR
VERSION:2.0
PRODID:-//AmiciAA Alcolisti Anonimi - ECPv6.15.20//NONSGML v1.0//EN
CALSCALE:GREGORIAN
METHOD:PUBLISH
X-ORIGINAL-URL:https://amiciaa.org
X-WR-CALDESC:Eventi per AmiciAA Alcolisti Anonimi
REFRESH-INTERVAL;VALUE=DURATION:PT1H
X-Robots-Tag:noindex
X-PUBLISHED-TTL:PT1H
BEGIN:VTIMEZONE
TZID:Europe/Rome
BEGIN:DAYLIGHT
TZOFFSETFROM:+0100
TZOFFSETTO:+0200
TZNAME:CEST
DTSTART:20250330T010000
END:DAYLIGHT
BEGIN:STANDARD
TZOFFSETFROM:+0200
TZOFFSETTO:+0100
TZNAME:CET
DTSTART:20251026T010000
END:STANDARD
BEGIN:DAYLIGHT
TZOFFSETFROM:+0100
TZOFFSETTO:+0200
TZNAME:CEST
DTSTART:20260329T010000
END:DAYLIGHT
BEGIN:STANDARD
TZOFFSETFROM:+0200
TZOFFSETTO:+0100
TZNAME:CET
DTSTART:20261025T010000
END:STANDARD
BEGIN:DAYLIGHT
TZOFFSETFROM:+0100
TZOFFSETTO:+0200
TZNAME:CEST
DTSTART:20270328T010000
END:DAYLIGHT
BEGIN:STANDARD
TZOFFSETFROM:+0200
TZOFFSETTO:+0100
TZNAME:CET
DTSTART:20271031T010000
END:STANDARD
END:VTIMEZONE
BEGIN:VEVENT
DTSTART;VALUE=DATE:20260327
DTEND;VALUE=DATE:20260328
DTSTAMP:20260424T015700
CREATED:20260208T142415Z
LAST-MODIFIED:20260208T142415Z
UID:2948-1774569600-1774655999@amiciaa.org
SUMMARY:PERCHE’ UN ALCOLISTA SEMBRA NON AVERE FORZA DI VOLONTA’ ?
DESCRIPTION:“Molti alcolisti giungono ad A.A. convinti di non avere sufficiente forza di volonta’ per opporsi con successo al “vizio” dell’alcol e perche’ non sanno prendere in mano le redini della propria vita. In questo Passo Bill\, invece\,mostra che a combinare simili disastri non fu la mancanza della forza di volonta bensi’ un suo uso scorretto. L’alcolista cerca vie di fuga da se stesso ed applica cosi tutta la propria volonta’ ottenendo danni ancora peggiori \, anziche’ cercare un rimedio alla causa principale. \nTratto da: “Il compagno di viaggio” pag. 41
URL:https://amiciaa.org/event/perche-un-alcolista-sembra-non-avere-forza-di-volonta-3/
LOCATION:skipe amiciaa
CATEGORIES:Calendario
ORGANIZER;CN="gruppo on line AmiciAA":MAILTO:info@amiciaa.org
END:VEVENT
BEGIN:VEVENT
DTSTART;VALUE=DATE:20260329
DTEND;VALUE=DATE:20260330
DTSTAMP:20260424T015700
CREATED:20260208T142529Z
LAST-MODIFIED:20260208T142529Z
UID:2950-1774742400-1774828799@amiciaa.org
SUMMARY:TERZO PASSO
DESCRIPTION:“Ma come\, di preciso\, una persona ben disposta può continuare ad affidare la propria volontà e la propria vita a un Potere Superiore? Abbiamo visto che ha iniziato a farlo dal momento in cui si è affidata ad A.A. per risolvere il suo problema con l’alcol. A questo punto\, però\, è probabile che si sia convinta di avere altri problemi oltre al bere e che non riesca nel modo più assoluto a risolverli con la semplice determinazione e con tutto il coraggio che può raccogliere.” \nTratto da: “Dodici Passi Dodici Tradizioni” pag.52
URL:https://amiciaa.org/event/terzo-passo-7/
LOCATION:skipe amiciaa
CATEGORIES:Calendario
ORGANIZER;CN="gruppo on line AmiciAA":MAILTO:info@amiciaa.org
END:VEVENT
BEGIN:VEVENT
DTSTART;VALUE=DATE:20260330
DTEND;VALUE=DATE:20260331
DTSTAMP:20260424T015700
CREATED:20260208T142700Z
LAST-MODIFIED:20260208T142700Z
UID:2952-1774828800-1774915199@amiciaa.org
SUMMARY:FAI LE COSE CON CALMA\, MA FALLE!
DESCRIPTION:“Siamo riusciti a mettere a confronto molti bevitori-problema con questa terribile alternativa: “Noi A.A. facciamo così\, altrimenti moriamo”. Una volta ancorata fermamente quest’idea nella mente di una persona\, il continuare a bere non fa che stringere il cappio più strettamente.” \nTratto da: “Come la vede Bill” pag.322
URL:https://amiciaa.org/event/fai-le-cose-con-calma-ma-falle-2/
LOCATION:skipe amiciaa
CATEGORIES:Calendario
ORGANIZER;CN="gruppo on line AmiciAA":MAILTO:info@amiciaa.org
END:VEVENT
BEGIN:VEVENT
DTSTART;VALUE=DATE:20260401
DTEND;VALUE=DATE:20260402
DTSTAMP:20260424T015700
CREATED:20260307T150926Z
LAST-MODIFIED:20260307T150926Z
UID:2954-1775001600-1775087999@amiciaa.org
SUMMARY:QUARTO PASSO
DESCRIPTION:Il Quarto Passo rappresenta il nostro energico e scrupoloso sforzo di scoprire quali siano state\, e quali siano ancora\, queste debolezze in ciascuno di noi. Vogliamo scoprire con esattezza come\, quando e dove i nostri istinti naturali ci hanno alterato la mente. Desideriamo guardare onestamente in faccia l’infelicità che tutto ciò ha procurato agli altri e a noi stessi. Solo scoprendo quali sono le nostre deformazioni emotive possiamo fare dei passi per correggerle. \nTratto da: “Dodici Passi Dodici Tradizioni” pag.58
URL:https://amiciaa.org/event/quarto-passo-5/
LOCATION:skipe amiciaa
CATEGORIES:Calendario
ORGANIZER;CN="gruppo on line AmiciAA":MAILTO:info@amiciaa.org
END:VEVENT
BEGIN:VEVENT
DTSTART;VALUE=DATE:20260403
DTEND;VALUE=DATE:20260404
DTSTAMP:20260424T015700
CREATED:20260307T151032Z
LAST-MODIFIED:20260307T151032Z
UID:2956-1775174400-1775260799@amiciaa.org
SUMMARY:RESPINGERE L’IRA E IL RANCORE
DESCRIPTION:Qualcuno ha suggerito l’ipotesi che ci possa essere un sottile\, indeterminato rapporto biochimico tra l’alcol e il tipo di cambiamenti fisici che accompagnano l’ira. Uno studio sperimentale su alcolisti ha stabilito che i risentimenti possono creare nel loro sangue una determinata condizione di malessere che viene superata con una sbornia.Un famoso psicologo ha affermato di recente che i bevitori possono trarre piacere dalla sensazione di dominare gli altri generata in loro dall’influenza dell’alcol. \nTratto da: “Vivere sobri” pag 59
URL:https://amiciaa.org/event/respingere-lira-e-il-rancore-6/
LOCATION:skipe amiciaa
CATEGORIES:Calendario
ORGANIZER;CN="gruppo on line AmiciAA":MAILTO:info@amiciaa.org
END:VEVENT
BEGIN:VEVENT
DTSTART;VALUE=DATE:20260405
DTEND;VALUE=DATE:20260406
DTSTAMP:20260424T015700
CREATED:20260307T151138Z
LAST-MODIFIED:20260307T151138Z
UID:2958-1775347200-1775433599@amiciaa.org
SUMMARY:IL NUOVO A.A. E LA SUA FAMIGLIA
DESCRIPTION:Mentre la famiglia può decidere se avviarsi a vivere su una base spirituale o no\, l’alcolista deve farlo se vuole ristabilirsi. Gli altri bisogna che si convincano senza ombra di dubbio di questa necessità. È quasi una legge per la maggior parte delle famiglie che hanno vissuto con un bevitore. \nTratto da: “Come la vede Bill” pag.123
URL:https://amiciaa.org/event/il-nuovo-a-a-e-la-sua-famiglia-2/
LOCATION:skipe amiciaa
CATEGORIES:Calendario
ORGANIZER;CN="gruppo on line AmiciAA":MAILTO:info@amiciaa.org
END:VEVENT
BEGIN:VEVENT
DTSTART;VALUE=DATE:20260406
DTEND;VALUE=DATE:20260407
DTSTAMP:20260424T015700
CREATED:20260307T151248Z
LAST-MODIFIED:20260307T151248Z
UID:2960-1775433600-1775519999@amiciaa.org
SUMMARY:QUARTO PASSO
DESCRIPTION:Una chiara visione del domani arriva soltanto dopo aver guardato veramente a ieri. Ecco perché noi A.A. facciamo un inventario personale attraverso il Quarto Passo. Questo è il principio basilare da cui è sbocciata e fiorita A.A.. Dichiariamo il nostro totale fallimento come esseri umani e di essere disposti a fare qualunque cosa possa affrancarci dall’insano stimolo che ci condannava a bere. \nTratto da: “Il compagno di viaggio” pag.44
URL:https://amiciaa.org/event/quarto-passo-6/
LOCATION:skipe amiciaa
CATEGORIES:Calendario
ORGANIZER;CN="gruppo on line AmiciAA":MAILTO:info@amiciaa.org
END:VEVENT
BEGIN:VEVENT
DTSTART;VALUE=DATE:20260408
DTEND;VALUE=DATE:20260409
DTSTAMP:20260424T015700
CREATED:20260307T152732Z
LAST-MODIFIED:20260307T152732Z
UID:2962-1775606400-1775692799@amiciaa.org
SUMMARY:QUARTO CONCETTO
DESCRIPTION:Il diritto di partecipare viene riconosciuto anche alle persone cui non viene delegata alcuna autorità. Esso è messo in stretta connessione col senso di appartenenza: la partecipazione attiva conferma la propria appartenenza ad A.A.: questa vuole essere non una Associazione verticistica ma una fratellanza di persone che\, tutte assieme\, mirano ad un unico scopo.  \nTratto da: “Il compagno di viaggio” pag.206
URL:https://amiciaa.org/event/quarto-concetto-3/
LOCATION:skipe amiciaa
CATEGORIES:Calendario
ORGANIZER;CN="gruppo on line AmiciAA":MAILTO:info@amiciaa.org
END:VEVENT
BEGIN:VEVENT
DTSTART;VALUE=DATE:20260410
DTEND;VALUE=DATE:20260411
DTSTAMP:20260424T015700
CREATED:20260307T152848Z
LAST-MODIFIED:20260307T152848Z
UID:2964-1775779200-1775865599@amiciaa.org
SUMMARY:LA VIA LATTEA
DESCRIPTION:È stato il viraggio verso quella che oggi\, e solo per oggi\, chiamo sobrietà\, che mi consente di essere un uomo nuovo\, che non ha bisogno di ricorrere alle distorsioni artificiali dell’alcol. Il mio mondo alcolico finale\, chiuso in casa\, da solo\, al buio\, per nascondermi al pubblico ludibrio\, ignorato dall’umanità e peraltro scarsamente interessato a essa\, l’ho appena trascorso e certamente non lo dimentico. Ce l’ho dentro di me. \nTratto da: “Alcolisti Anonimi” pag. 299
URL:https://amiciaa.org/event/la-via-lattea-2/
LOCATION:skipe amiciaa
CATEGORIES:Calendario
ORGANIZER;CN="gruppo on line AmiciAA":MAILTO:info@amiciaa.org
END:VEVENT
BEGIN:VEVENT
DTSTART;VALUE=DATE:20260412
DTEND;VALUE=DATE:20260413
DTSTAMP:20260424T015700
CREATED:20260307T152956Z
LAST-MODIFIED:20260307T152956Z
UID:2966-1775952000-1776038399@amiciaa.org
SUMMARY:QUARTA TRADIZIONE
DESCRIPTION:“Ogni Gruppo dovrebbe essere autonomo\, tranne che per le questioni riguardanti altri Gruppi oppure A.A. nel suo insieme.” \nAvevamo capito che il Gruppo\, proprio come il singolo\, deve alla fine conformarsi a tutti quei collaudati principi che ne garantiscono la sopravvivenza. Avevamo scoperto che il metodo di “Prova ed errore” era perfettamente sicuro. \nTratto da: “Il compagno di viaggio” pag.131
URL:https://amiciaa.org/event/quarta-tradizione-4/
LOCATION:skipe amiciaa
CATEGORIES:Calendario
ORGANIZER;CN="gruppo on line AmiciAA":MAILTO:info@amiciaa.org
END:VEVENT
BEGIN:VEVENT
DTSTART;VALUE=DATE:20260413
DTEND;VALUE=DATE:20260414
DTSTAMP:20260424T015700
CREATED:20260307T153110Z
LAST-MODIFIED:20260307T153110Z
UID:2968-1776038400-1776124799@amiciaa.org
SUMMARY:QUARTO PASSO
DESCRIPTION:Abbiamo bevuto per sfuggire al senso di colpa delle passioni e poi abbiamo bevuto ancora per rendere possibili altre passioni. Abbiamo bevuto per vanagloria\, cioè per poter meglio godere sciocchi sogni di sfarzo e di potere. Questa perversa malattia dell’animo non è piacevole da esaminare. Gli istinti scatenati ostacolano l’indagine. Non appena facciamo un serio tentativo di sondarli ci esponiamo a subire violente reazioni. \nTratto da: “Dodici Passi Dodici Tradizioni” pag. 61
URL:https://amiciaa.org/event/quarto-passo-7/
LOCATION:skipe amiciaa
CATEGORIES:Calendario
ORGANIZER;CN="gruppo on line AmiciAA":MAILTO:info@amiciaa.org
END:VEVENT
BEGIN:VEVENT
DTSTART;VALUE=DATE:20260415
DTEND;VALUE=DATE:20260416
DTSTAMP:20260424T015700
CREATED:20260307T153236Z
LAST-MODIFIED:20260307T153236Z
UID:2970-1776211200-1776297599@amiciaa.org
SUMMARY:QUARTA PROMESSA
DESCRIPTION:Descrizione: “Poco importa a quale grado di abiezione siamo scesi\, constateremo come la nostra esperienza possa giovare agli altri.” \nTratto da “Alcolisti Anonimi” pag. 83
URL:https://amiciaa.org/event/quarta-promessa-3/
LOCATION:skipe amiciaa
CATEGORIES:Calendario
ORGANIZER;CN="gruppo on line AmiciAA":MAILTO:info@amiciaa.org
END:VEVENT
BEGIN:VEVENT
DTSTART;VALUE=DATE:20260417
DTEND;VALUE=DATE:20260418
DTSTAMP:20260424T015700
CREATED:20260307T153341Z
LAST-MODIFIED:20260307T153341Z
UID:2972-1776384000-1776470399@amiciaa.org
SUMMARY:IL NOSTRO METODO
DESCRIPTION:Descrizione: “Ora veniamo al sesso. Molti di noi hanno bisogno di rivedere questo argomento. Abbiamo cercato innanzitutto di essere ragionevoli quando abbiamo iniziato a trattare questo problema\, perche’ a volte e’ facile perdere ogni equilibrio in questo campo. Le opinioni degli uomini vanno da un estremo all’altro per quanto riguarda il sesso e a volte forse si assumono posizioni assurde. \nTratto da  “Alcolisti Anonimi” pag.68
URL:https://amiciaa.org/event/il-nostro-metodo-7/
LOCATION:skipe amiciaa
CATEGORIES:Calendario
ORGANIZER;CN="gruppo on line AmiciAA":MAILTO:info@amiciaa.org
END:VEVENT
BEGIN:VEVENT
DTSTART;VALUE=DATE:20260419
DTEND;VALUE=DATE:20260420
DTSTAMP:20260424T015700
CREATED:20260307T153451Z
LAST-MODIFIED:20260307T153451Z
UID:2974-1776556800-1776643199@amiciaa.org
SUMMARY:RICORDARE CHE L’ALCOLISMO È UNA MALATTIA INGUARIBILE\, PROGRESSIVA E MORTALE.
DESCRIPTION:Descrizione:” Naturalmente\, anche se ci possiamo sentire defraudati\, non è saggio ignorare la nostra costituzione fisiologica. Se ignoriamo i nostri limiti possono insorgere grossi scompensi e malattie. Per essere sani e ragionevolmente felici\, dobbiamo imparare a vivere con il corpo che abbiamo. Una delle nuove abitudini mentali che un alcolista in via di recupero può cercare di sviluppare consiste nel considerarsi\, con tranquillità\, come una persona che debba evitare sostanze chimiche (alcol e altre droghe che possano sostituirlo)\, sempre che voglia mantenersi in buona salute”. \nTratto da: Vivere Sobri pag. 18.
URL:https://amiciaa.org/event/ricordare-che-lalcolismo-e-una-malattia-inguaribile-progressiva-e-mortale-4/
LOCATION:skipe amiciaa
CATEGORIES:Calendario
ORGANIZER;CN="gruppo on line AmiciAA":MAILTO:info@amiciaa.org
END:VEVENT
BEGIN:VEVENT
DTSTART;VALUE=DATE:20260420
DTEND;VALUE=DATE:20260421
DTSTAMP:20260424T015700
CREATED:20260307T153551Z
LAST-MODIFIED:20260307T153551Z
UID:2976-1776643200-1776729599@amiciaa.org
SUMMARY:ABBANDONARE LE VECCHIE IDEE
DESCRIPTION:Descrizione: “Le idee che si sono cosi profondamente radicate in noi durante il periodo in cui bevevamo non scompaiono tutte improvvisamente come per magia il giorno in cui cominciamo a mettere il tappo alla bottiglia. I giorni del vino e delle “sagre dell’uva”  possono essersene andati\, ma la malattia persiste. Cosi’ abbiamo scoperto che e’ terapeutico eliminare molte vecchie idee che cominciano a riaffiorare\, e continuano a farlo ancora e ancora.” \nTratto da “Vivere sobri” pag. 104
URL:https://amiciaa.org/event/abbandonare-le-vecchie-idee-3/
LOCATION:skipe amiciaa
CATEGORIES:Calendario
ORGANIZER;CN="gruppo on line AmiciAA":MAILTO:info@amiciaa.org
END:VEVENT
BEGIN:VEVENT
DTSTART;VALUE=DATE:20260422
DTEND;VALUE=DATE:20260423
DTSTAMP:20260424T015700
CREATED:20260307T153657Z
LAST-MODIFIED:20260307T153657Z
UID:2978-1776816000-1776902399@amiciaa.org
SUMMARY:CHE E COSA SI PUO’ FARE PER CORREGGERE LE MANCANZE INDIVIDUATE COL QUARTO PASSO?
DESCRIPTION:Descrizione: “E’ continuare con il Programma ( e\, in particolare \, col sesto e settimo Passo ) che consente di agire sui difetti di carattere che di fatto costituiscono un blocco \, riportando ciascuno sempre al passato o creando paura per il futuro e non permettendo di vivere serenamente il presente. \nTratto da “Il compagno di viaggio” pag. 48
URL:https://amiciaa.org/event/che-e-cosa-si-puo-fare-per-correggere-le-mancanze-individuate-col-quarto-passo-2/
LOCATION:skipe amiciaa
CATEGORIES:Calendario
ORGANIZER;CN="gruppo on line AmiciAA":MAILTO:info@amiciaa.org
END:VEVENT
BEGIN:VEVENT
DTSTART;VALUE=DATE:20260424
DTEND;VALUE=DATE:20260425
DTSTAMP:20260424T015700
CREATED:20260307T153823Z
LAST-MODIFIED:20260307T153823Z
UID:2980-1776988800-1777075199@amiciaa.org
SUMMARY:VIVI E LASCIA VIVERE
DESCRIPTION:Descrizione: “Ci siamo sentiti spesso arrabbiati e timorosi anche verso persone che non ci criticavano. La nostra colpa ci aveva reso ultrasensibili alle persone intorno a noi e covavamo rancore. A volte cambiavamo bar\, posto di lavoro o casa solo per allontanarci da determinate persone. Cosi moltissima gente oltre a noi veniva coinvolta in qualche modo e in una certa misura dal fatto che bevevamo. \nTratto da  “Vivere Sobri” pag.22
URL:https://amiciaa.org/event/vivi-e-lascia-vivere-7/
LOCATION:skipe amiciaa
CATEGORIES:Calendario
ORGANIZER;CN="gruppo on line AmiciAA":MAILTO:info@amiciaa.org
END:VEVENT
BEGIN:VEVENT
DTSTART;VALUE=DATE:20260426
DTEND;VALUE=DATE:20260427
DTSTAMP:20260424T015700
CREATED:20260307T153925Z
LAST-MODIFIED:20260307T153925Z
UID:2982-1777161600-1777247999@amiciaa.org
SUMMARY:QUANDO INZIARE IL IV PASSO?
DESCRIPTION:Descrizione:” Bill mette sull’avviso riguardo a ciò che può trattenere dall’iniziare subito il IV Passo\, soprattutto la paura e l’orgoglio. L’esperienza mostra che non è possibile alcun cammino di recupero fintanto che non si sia presa coscienza dell’esigenza di una pulizia interiore per procedere sulla strada intrapresa. Pur tuttavia\, è necessario iniziare il prima possibile questo Passo\, proprio combattendo paura e orgoglio\, al fine di potersi incamminare sulla via del recupero”. \nTratto da: Il Compagno di Viaggio pag.46.
URL:https://amiciaa.org/event/quando-inziare-il-iv-passo-3/
LOCATION:skipe amiciaa
CATEGORIES:Calendario
ORGANIZER;CN="gruppo on line AmiciAA":MAILTO:info@amiciaa.org
END:VEVENT
BEGIN:VEVENT
DTSTART;VALUE=DATE:20260427
DTEND;VALUE=DATE:20260428
DTSTAMP:20260424T015700
CREATED:20260307T154032Z
LAST-MODIFIED:20260307T154032Z
UID:2984-1777248000-1777334399@amiciaa.org
SUMMARY:IL NOSTRO METODO
DESCRIPTION:Descrizione:” A tal fine abbiamo cominciato a fare un inventario personale. Era il Quarto Passo. Un negoziante che non fa mai l’inventario della merce\, di solito fallisce. Una volta fatto l’inventario\, scopre ciò che manca e cerca le cause del deperimento di qualche articolo. Qualora rilevasse che ha uno stock di merce invendibile oppure guasta\, per salvare ilo suo esercizio lo toglierà di mezzo senza risarcimento. Se il negoziante è interessato al successo non può ingannarsi su quanto ha in magazzino. Abbiamo fatto un simile inventario delle nostre vite e lo abbiamo fatto onestamente”. \nTratto da: Alcolisti Anonimi pag. 63.
URL:https://amiciaa.org/event/il-nostro-metodo-8/
LOCATION:skipe amiciaa
CATEGORIES:Calendario
ORGANIZER;CN="gruppo on line AmiciAA":MAILTO:info@amiciaa.org
END:VEVENT
BEGIN:VEVENT
DTSTART;VALUE=DATE:20260429
DTEND;VALUE=DATE:20260430
DTSTAMP:20260424T015700
CREATED:20260307T154154Z
LAST-MODIFIED:20260307T154154Z
UID:2986-1777420800-1777507199@amiciaa.org
SUMMARY:PERCHE A.A. SUGGERISCE L’INVENTARIO ATTRAVERSO IL QUARTO PASSO?
DESCRIPTION:Per scoprire le cose danneggiate o del tutto inefficienti. Se un negoziante non fa mai l’inventario della merce\, di solito\, fallisce. Una volta fatto l’inventario\, scopre ciò che manca e cerca le cause del deperimento di qualche articolo. Qualora rilevasse che ha uno stock di merce invendibile oppure guasta\, per salvare il suo esercizio lo toglierà di mezzo senza rincrescimento. Se il negoziante è interessato al successo non può ingannarsi su quanto ha in magazzino. \nTratto da: “Il compagno di viaggio” pag. 47
URL:https://amiciaa.org/event/perche-a-a-suggerisce-linventario-attraverso-il-quarto-passo-2/
LOCATION:skipe amiciaa
CATEGORIES:Calendario
ORGANIZER;CN="gruppo on line AmiciAA":MAILTO:info@amiciaa.org
END:VEVENT
BEGIN:VEVENT
DTSTART;VALUE=DATE:20260501
DTEND;VALUE=DATE:20260502
DTSTAMP:20260424T015700
CREATED:20260329T161421Z
LAST-MODIFIED:20260329T161421Z
UID:2988-1777593600-1777679999@amiciaa.org
SUMMARY:QUINTO PASSO
DESCRIPTION:” Abbiamo ammesso di fronte a Dio\, a noi stessi e ad un altro essere umano\, l’esatta natura dei nostri torti.” \nI Dodici Passi sgonfiano l’Io. Il Quinto Passo è difficile ma è indispensabile alla sobrietà e alla serenità. La confessione è un’antica disciplina. Senza una coraggiosa ammissione dei propri difetti pochi potrebbero restare sobri. Che cosa riceviamo dal Quinto Passo? Il principio di una vera affinità con l’uomo e con Dio. Liberarsi dal senso di isolamento\, riceve perdono e darlo\, apprendere l’umiltà\, raggiungere l’onestà e una visione realistica di noi stessi. Necessità di una completa onestà. Pericoli della razionalizzazione. Come scegliere la persona con la quale confidarsi. I risultati sono la tranquillità e la consapevolezza di Dio. Sentirsi all’unisono con Dio e con il nostro prossimi ci prepara ai Passi successivi.” \n  \nTratto da: 12 Passi e 12 Tradizioni         pag.5
URL:https://amiciaa.org/event/quinto-passo-7/
LOCATION:skipe amiciaa
CATEGORIES:Calendario
ORGANIZER;CN="gruppo on line AmiciAA":MAILTO:info@amiciaa.org
END:VEVENT
BEGIN:VEVENT
DTSTART;VALUE=DATE:20260503
DTEND;VALUE=DATE:20260504
DTSTAMP:20260424T015700
CREATED:20260329T161548Z
LAST-MODIFIED:20260329T161548Z
UID:2990-1777766400-1777852799@amiciaa.org
SUMMARY:COME SCELGO LA PERSONA A CUI RACCONTARE DI ME? PUO’ ESSERE UN NON A.A.?
DESCRIPTION:Descrizione: “Non c’e’ nessuna opposizione teorica a un simile evento\, anzi\, magari un sacerdote o uno psicologo possono essere piu’ abituati e\, quindi\, piu efficaci riguardo al recepire aperture spirituali di questo tipo. C’e’ pero’ una cosa da tener bene presente: un A.A.\, magari con una certa esperienza\, riuscirà’ ad inquadrare le difficolta alla luce del Programma\, abituando cosi l’individuo a vedere tutto nell’ambito del cammino che cerca di fare. \nTratto da “Il compagno di viaggio” pag.53
URL:https://amiciaa.org/event/come-scelgo-la-persona-a-cui-raccontare-di-me-puo-essere-un-non-a-a-3/
LOCATION:skipe amiciaa
CATEGORIES:Calendario
ORGANIZER;CN="gruppo on line AmiciAA":MAILTO:info@amiciaa.org
END:VEVENT
BEGIN:VEVENT
DTSTART;VALUE=DATE:20260504
DTEND;VALUE=DATE:20260505
DTSTAMP:20260424T015700
CREATED:20260329T161809Z
LAST-MODIFIED:20260329T161809Z
UID:2992-1777852800-1777939199@amiciaa.org
SUMMARY:RIPOSARE MOLTO
DESCRIPTION:Descrizione: “Dopo che abbiamo smesso di bere\, possono perdurare per un certo periodo sintomi di agitazione che provcano nervosismo e insonnia. Opppure possiamo improvvisamente renderci conto della nostra stanchezza e sentirci quindi sfiniti e in uno stato letargico o\, ancora\, le due condizioni possono alternarsi. Entrambe sono reazioni normali che migliaia di noi hanno avuto nei primi tempi della sobrietà\, in una misura determinata da quanto bevevamo prima e dal nostro stato di salute. In ogni caso\, prima o poi svaniscono e non devono causare preoccupazioni”. \nTratto da: Vivere sobri pag. 49
URL:https://amiciaa.org/event/riposare-molto-6/
LOCATION:skipe amiciaa
CATEGORIES:Calendario
ORGANIZER;CN="gruppo on line AmiciAA":MAILTO:info@amiciaa.org
END:VEVENT
BEGIN:VEVENT
DTSTART;VALUE=DATE:20260506
DTEND;VALUE=DATE:20260507
DTSTAMP:20260424T015700
CREATED:20260329T161912Z
LAST-MODIFIED:20260329T161912Z
UID:2994-1778025600-1778111999@amiciaa.org
SUMMARY:QUINTA TRADIZIONE
DESCRIPTION:Descrizione: “Gli Alcolisti Anonimi sono vincolati dallo stesso rigoroso dovere\, perchè hanno dimostrato di poter aiutare chi ha problemi con l’alcol come raramente altri sono in grado di fare. La capacità veramente unica di ogni A.A. di identificarsi con il nuovo venuto e di portarlo a recuperarsi non dipende in nessun modo dalla sua cultura\, dalla sua eloquenza né da qualche altra abilità personale”. \nTratto da: Dodici Passi e Dodici Tradizioni pag. 218.
URL:https://amiciaa.org/event/quinta-tradizione-7/
LOCATION:skipe amiciaa
CATEGORIES:Calendario
ORGANIZER;CN="gruppo on line AmiciAA":MAILTO:info@amiciaa.org
END:VEVENT
BEGIN:VEVENT
DTSTART;TZID=Europe/Rome:20260508T080000
DTEND;TZID=Europe/Rome:20260508T170000
DTSTAMP:20260424T015700
CREATED:20260329T162022Z
LAST-MODIFIED:20260329T162022Z
UID:2996-1778227200-1778259600@amiciaa.org
SUMMARY:QUINTO PASSO
DESCRIPTION:Bisogna liberarsi dei fantasmi del passato senza mai dimenticare le proprie esperienze che sono la ricchezza di ognuno. Il senso di liberazione che si prova dopo essersi lasciati andare sinceramente\, spesso per la prima volta \, e’ meraviglioso. \nTratto da “Il compagno di viaggio” pag. 56
URL:https://amiciaa.org/event/quinto-passo-8/
LOCATION:skipe amiciaa
CATEGORIES:Calendario
ORGANIZER;CN="gruppo on line AmiciAA":MAILTO:info@amiciaa.org
END:VEVENT
BEGIN:VEVENT
DTSTART;VALUE=DATE:20260510
DTEND;VALUE=DATE:20260511
DTSTAMP:20260424T015700
CREATED:20260329T162127Z
LAST-MODIFIED:20260329T162127Z
UID:2998-1778371200-1778457599@amiciaa.org
SUMMARY:FARE USO DELLA “TERAPIA DEL TELEFONO”
DESCRIPTION:Quando dicevamo la verità’ su come ci sentivamo\, su che cosa stavamo facendo e cosa volevamo fare\, eravamo compresi benissimo; ricevevamo una comprensione totale\, non solo simpatia. Chiunque chiamassimo\, teniamolo a mente\, era stato nella nostra stessa barca e lui per primo lo ricordava vividamente. Il piu delle volte\, bastavano pochi minuti di conversazione perche’ si dileguasse il pensiero del bere. A volte ricevevamo suggerimenti di ordine pratico\, talvolta un consiglio diretto e dato col cuore. A volte ci sorprendevamo a ridere. \nTratto da “Vivere sobri” pag. 41
URL:https://amiciaa.org/event/fare-uso-della-terapia-del-telefono-3/
LOCATION:skipe amiciaa
CATEGORIES:Calendario
ORGANIZER;CN="gruppo on line AmiciAA":MAILTO:info@amiciaa.org
END:VEVENT
BEGIN:VEVENT
DTSTART;VALUE=DATE:20260511
DTEND;VALUE=DATE:20260512
DTSTAMP:20260424T015700
CREATED:20260329T162250Z
LAST-MODIFIED:20260329T162250Z
UID:3000-1778457600-1778543999@amiciaa.org
SUMMARY:CAMBIARE LE VECCHIE ABITUDINI
DESCRIPTION:Descrizione: “Alcuni orari prestabiliti \, luoghi familiari e attività’ regolari associate col bere sono state parte integrante della nostra vita. Tutte queste vecchie abitudini  – come la fatica\, la fame\, la solitudine \, la rabbia e le troppe relazioni – possono divenire delle trappole che costituiscono un pericolo per la nostra sobrietà’. \nTratto da “Vivere sobri” pag 34
URL:https://amiciaa.org/event/cambiare-le-vecchie-abitudini-3/
LOCATION:skipe amiciaa
CATEGORIES:Calendario
ORGANIZER;CN="gruppo on line AmiciAA":MAILTO:info@amiciaa.org
END:VEVENT
BEGIN:VEVENT
DTSTART;VALUE=DATE:20260513
DTEND;VALUE=DATE:20260514
DTSTAMP:20260424T015700
CREATED:20260329T162356Z
LAST-MODIFIED:20260329T162356Z
UID:3002-1778630400-1778716799@amiciaa.org
SUMMARY:QUINTO PASSO
DESCRIPTION:Era pertanto più che evidente che una solitaria autovalutazione e l’ammissione dei nostri difetti basata solo su di essa non sarebbero affatto bastate. Dovevamo avere un aiuto esterno\, per essere sicuri di conoscere e ammettere la verità su noi stessi: l’aiuto di Dio e di un altro essere umano. \nTratto da: “Dodici Passi Dodici Tradizioni” pag. 82
URL:https://amiciaa.org/event/quinto-passo-9/
LOCATION:skipe amiciaa
CATEGORIES:Calendario
ORGANIZER;CN="gruppo on line AmiciAA":MAILTO:info@amiciaa.org
END:VEVENT
BEGIN:VEVENT
DTSTART;VALUE=DATE:20260515
DTEND;VALUE=DATE:20260516
DTSTAMP:20260424T015700
CREATED:20260329T162510Z
LAST-MODIFIED:20260329T162510Z
UID:3004-1778803200-1778889599@amiciaa.org
SUMMARY:QUINTO CONCETTO
DESCRIPTION:Riconosciamo che le minoranze possono avere spesso ragione; che\, anche quando sono parzialmente o completamente in errore\, esse adempiono comunque un valido servizio perché obbligano a un approfondito dibattito su materie importanti. \nTratto da: “Il compagno di viaggio” pag.213
URL:https://amiciaa.org/event/quinto-concetto-2/
LOCATION:skipe amiciaa
CATEGORIES:Calendario
ORGANIZER;CN="gruppo on line AmiciAA":MAILTO:info@amiciaa.org
END:VEVENT
BEGIN:VEVENT
DTSTART;VALUE=DATE:20260517
DTEND;VALUE=DATE:20260518
DTSTAMP:20260424T015700
CREATED:20260329T162609Z
LAST-MODIFIED:20260329T162609Z
UID:3006-1778976000-1779062399@amiciaa.org
SUMMARY:GLI OSTACOLI SUL NOSTRO CAMMINO
DESCRIPTION:Viviamo in un mondo pieno di invidia. Ne siamo più o meno contagiati tutti. Da questo difetto dobbiamo pur trarre una contorta\, eppure chiara\, soddisfazione. Altrimenti perché sprecheremmo tanto di quel tempo a desiderare ciò che non abbiamo anziché darci da fare per ottenerlo\, oppure a cercare rabbiosamente delle qualità che non avremo mai\, invece di adattarci alla realtà e accettarla? \nTratto da: “Come la vede Bill” pag.131
URL:https://amiciaa.org/event/gli-ostacoli-sul-nostro-cammino-2/
LOCATION:skipe amiciaa
CATEGORIES:Calendario
ORGANIZER;CN="gruppo on line AmiciAA":MAILTO:info@amiciaa.org
END:VEVENT
END:VCALENDAR