BEGIN:VCALENDAR
VERSION:2.0
PRODID:-//AmiciAA Alcolisti Anonimi - ECPv6.15.20//NONSGML v1.0//EN
CALSCALE:GREGORIAN
METHOD:PUBLISH
X-ORIGINAL-URL:https://amiciaa.org
X-WR-CALDESC:Eventi per AmiciAA Alcolisti Anonimi
REFRESH-INTERVAL;VALUE=DURATION:PT1H
X-Robots-Tag:noindex
X-PUBLISHED-TTL:PT1H
BEGIN:VTIMEZONE
TZID:Europe/Rome
BEGIN:DAYLIGHT
TZOFFSETFROM:+0100
TZOFFSETTO:+0200
TZNAME:CEST
DTSTART:20240331T010000
END:DAYLIGHT
BEGIN:STANDARD
TZOFFSETFROM:+0200
TZOFFSETTO:+0100
TZNAME:CET
DTSTART:20241027T010000
END:STANDARD
BEGIN:DAYLIGHT
TZOFFSETFROM:+0100
TZOFFSETTO:+0200
TZNAME:CEST
DTSTART:20250330T010000
END:DAYLIGHT
BEGIN:STANDARD
TZOFFSETFROM:+0200
TZOFFSETTO:+0100
TZNAME:CET
DTSTART:20251026T010000
END:STANDARD
BEGIN:DAYLIGHT
TZOFFSETFROM:+0100
TZOFFSETTO:+0200
TZNAME:CEST
DTSTART:20260329T010000
END:DAYLIGHT
BEGIN:STANDARD
TZOFFSETFROM:+0200
TZOFFSETTO:+0100
TZNAME:CET
DTSTART:20261025T010000
END:STANDARD
END:VTIMEZONE
BEGIN:VEVENT
DTSTART;VALUE=DATE:20251005
DTEND;VALUE=DATE:20251006
DTSTAMP:20260423T052029
CREATED:20250922T190442Z
LAST-MODIFIED:20250922T190442Z
UID:2736-1759622400-1759708799@amiciaa.org
SUMMARY:ESSERE BUONI CON SE STESSI
DESCRIPTION:Descrizione: “Nei tempi passati la gente spesso credeva che coloro che cercavano di guarire da certe malattie meritavano di soffrire dal momento che avevano causato essi stessi\, deliberatamente\, la loro malattia. Siccome l’alcolismo è ancora visto come una colpa e un’infamia dalla gente che ignora la natura di questa malattia inclusi noi (prima che fossimo informati bene)\, molti di noi non erano un granché gentili con se stessi durante i postumi di una bevuta. Abbiamo sofferto e ci siamo considerati individui che dovevano scontare la necessaria pena per i propri misfatti. \nTratto da: “Vivere Sobri” pag. 63
URL:https://amiciaa.org/event/essere-buoni-con-se-stessi-3/
LOCATION:skipe amiciaa
CATEGORIES:Calendario
ORGANIZER;CN="gruppo on line AmiciAA":MAILTO:info@amiciaa.org
END:VEVENT
END:VCALENDAR