BEGIN:VCALENDAR
VERSION:2.0
PRODID:-//AmiciAA Alcolisti Anonimi - ECPv6.15.20//NONSGML v1.0//EN
CALSCALE:GREGORIAN
METHOD:PUBLISH
X-WR-CALNAME:AmiciAA Alcolisti Anonimi
X-ORIGINAL-URL:https://amiciaa.org
X-WR-CALDESC:Eventi per AmiciAA Alcolisti Anonimi
REFRESH-INTERVAL;VALUE=DURATION:PT1H
X-Robots-Tag:noindex
X-PUBLISHED-TTL:PT1H
BEGIN:VTIMEZONE
TZID:Europe/Rome
BEGIN:DAYLIGHT
TZOFFSETFROM:+0100
TZOFFSETTO:+0200
TZNAME:CEST
DTSTART:20240331T010000
END:DAYLIGHT
BEGIN:STANDARD
TZOFFSETFROM:+0200
TZOFFSETTO:+0100
TZNAME:CET
DTSTART:20241027T010000
END:STANDARD
BEGIN:DAYLIGHT
TZOFFSETFROM:+0100
TZOFFSETTO:+0200
TZNAME:CEST
DTSTART:20250330T010000
END:DAYLIGHT
BEGIN:STANDARD
TZOFFSETFROM:+0200
TZOFFSETTO:+0100
TZNAME:CET
DTSTART:20251026T010000
END:STANDARD
BEGIN:DAYLIGHT
TZOFFSETFROM:+0100
TZOFFSETTO:+0200
TZNAME:CEST
DTSTART:20260329T010000
END:DAYLIGHT
BEGIN:STANDARD
TZOFFSETFROM:+0200
TZOFFSETTO:+0100
TZNAME:CET
DTSTART:20261025T010000
END:STANDARD
END:VTIMEZONE
BEGIN:VEVENT
DTSTART;VALUE=DATE:20250929
DTEND;VALUE=DATE:20250930
DTSTAMP:20260423T033926
CREATED:20250822T074900Z
LAST-MODIFIED:20250822T074900Z
UID:2718-1759104000-1759190399@amiciaa.org
SUMMARY:NON POSSIAMO FERMARCI
DESCRIPTION:Descrizione:”Quanti di noi avrebbero la presunzione di dichiarare:”Bene\, sono sobrio e felice. Che altro posso volere o fare? Sto bene così come sto”. Sappiamo che il prezzo di un autocompiacimento di questo genere sarebbe un’inevitabile scivolata all’indietro\, segnata a un certo punto da un risveglio molto brusco. Dobbiamo crescere\, altrimenti peggioreremo. \nTratto da:”Come la vede Bill” pag.25
URL:https://amiciaa.org/event/non-possiamo-fermarci-2/
LOCATION:skipe amiciaa
CATEGORIES:Calendario
ORGANIZER;CN="gruppo on line AmiciAA":MAILTO:info@amiciaa.org
END:VEVENT
END:VCALENDAR