BEGIN:VCALENDAR
VERSION:2.0
PRODID:-//AmiciAA Alcolisti Anonimi - ECPv6.15.20//NONSGML v1.0//EN
CALSCALE:GREGORIAN
METHOD:PUBLISH
X-WR-CALNAME:AmiciAA Alcolisti Anonimi
X-ORIGINAL-URL:https://amiciaa.org
X-WR-CALDESC:Eventi per AmiciAA Alcolisti Anonimi
REFRESH-INTERVAL;VALUE=DURATION:PT1H
X-Robots-Tag:noindex
X-PUBLISHED-TTL:PT1H
BEGIN:VTIMEZONE
TZID:Europe/Rome
BEGIN:DAYLIGHT
TZOFFSETFROM:+0100
TZOFFSETTO:+0200
TZNAME:CEST
DTSTART:20240331T010000
END:DAYLIGHT
BEGIN:STANDARD
TZOFFSETFROM:+0200
TZOFFSETTO:+0100
TZNAME:CET
DTSTART:20241027T010000
END:STANDARD
BEGIN:DAYLIGHT
TZOFFSETFROM:+0100
TZOFFSETTO:+0200
TZNAME:CEST
DTSTART:20250330T010000
END:DAYLIGHT
BEGIN:STANDARD
TZOFFSETFROM:+0200
TZOFFSETTO:+0100
TZNAME:CET
DTSTART:20251026T010000
END:STANDARD
BEGIN:DAYLIGHT
TZOFFSETFROM:+0100
TZOFFSETTO:+0200
TZNAME:CEST
DTSTART:20260329T010000
END:DAYLIGHT
BEGIN:STANDARD
TZOFFSETFROM:+0200
TZOFFSETTO:+0100
TZNAME:CET
DTSTART:20261025T010000
END:STANDARD
END:VTIMEZONE
BEGIN:VEVENT
DTSTART;VALUE=DATE:20250917
DTEND;VALUE=DATE:20250918
DTSTAMP:20260423T051728
CREATED:20250822T073705Z
LAST-MODIFIED:20250822T073705Z
UID:2704-1758067200-1758153599@amiciaa.org
SUMMARY:NONO PASSO
DESCRIPTION:Descrizione:”Al ritorno dalla nostra prima riunione\, o forse dopo aver finito di leggere il libro Alcolisti Anonimi\, di solito sentiamo il bisogno di sederci con qualcuno della famiglia e di ammettere subito i danni che abbiamo provocato con il nostro alcolismo. Quasi sempre desideriamo andare oltre e ammettere altri difetti che hanno reso difficile convivere con noi. Questa sarà una situazione molto diversa e in netto contrasto con quelle mattinate afflitte dai postumi di una sbornia\, quando alternavamo gli insulti a noi stessi alle accuse ai nostri cari (o a chiunque altro) per i nostri guai.” \nTratto da:”Dodici Passi Dodici Tradizioni” pag.120
URL:https://amiciaa.org/event/nono-passo-8/
LOCATION:skipe amiciaa
CATEGORIES:Calendario
ORGANIZER;CN="gruppo on line AmiciAA":MAILTO:info@amiciaa.org
END:VEVENT
END:VCALENDAR