BEGIN:VCALENDAR
VERSION:2.0
PRODID:-//AmiciAA Alcolisti Anonimi - ECPv6.15.20//NONSGML v1.0//EN
CALSCALE:GREGORIAN
METHOD:PUBLISH
X-ORIGINAL-URL:https://amiciaa.org
X-WR-CALDESC:Eventi per AmiciAA Alcolisti Anonimi
REFRESH-INTERVAL;VALUE=DURATION:PT1H
X-Robots-Tag:noindex
X-PUBLISHED-TTL:PT1H
BEGIN:VTIMEZONE
TZID:Europe/Rome
BEGIN:DAYLIGHT
TZOFFSETFROM:+0100
TZOFFSETTO:+0200
TZNAME:CEST
DTSTART:20240331T010000
END:DAYLIGHT
BEGIN:STANDARD
TZOFFSETFROM:+0200
TZOFFSETTO:+0100
TZNAME:CET
DTSTART:20241027T010000
END:STANDARD
BEGIN:DAYLIGHT
TZOFFSETFROM:+0100
TZOFFSETTO:+0200
TZNAME:CEST
DTSTART:20250330T010000
END:DAYLIGHT
BEGIN:STANDARD
TZOFFSETFROM:+0200
TZOFFSETTO:+0100
TZNAME:CET
DTSTART:20251026T010000
END:STANDARD
BEGIN:DAYLIGHT
TZOFFSETFROM:+0100
TZOFFSETTO:+0200
TZNAME:CEST
DTSTART:20260329T010000
END:DAYLIGHT
BEGIN:STANDARD
TZOFFSETFROM:+0200
TZOFFSETTO:+0100
TZNAME:CET
DTSTART:20261025T010000
END:STANDARD
END:VTIMEZONE
BEGIN:VEVENT
DTSTART;VALUE=DATE:20250903
DTEND;VALUE=DATE:20250904
DTSTAMP:20260423T052122
CREATED:20250822T070429Z
LAST-MODIFIED:20250822T070429Z
UID:2688-1756857600-1756943999@amiciaa.org
SUMMARY:QUANTITA’ O QUALITA’
DESCRIPTION:Descrizione:”A proposito di ricadute\, non bisogna scoraggiarsi troppo. Penso che tu stia soffrendo molto per un senso di colpa che non ha ragione di essere. Per un motivo o per un altro\, il Signore riserva ad alcuni di noi dei percorsi difficili e credo che tu sia impegnato in uno di questi. Dio non ci chiede di riuscire\, ci chiede solo di provare. Questo tu sicuramente lo hai fatto e stai continuando a farlo. Quindi io non permetterei mai che un sentimento di scoraggiamento o di vergogna mi allontanasse da A.A.. \nTratto da:”Come la vede Bill” pag.11
URL:https://amiciaa.org/event/quantita-o-qualita-2/
LOCATION:skipe amiciaa
CATEGORIES:Calendario
ORGANIZER;CN="gruppo on line AmiciAA":MAILTO:info@amiciaa.org
END:VEVENT
END:VCALENDAR