BEGIN:VCALENDAR
VERSION:2.0
PRODID:-//AmiciAA Alcolisti Anonimi - ECPv6.15.20//NONSGML v1.0//EN
CALSCALE:GREGORIAN
METHOD:PUBLISH
X-WR-CALNAME:AmiciAA Alcolisti Anonimi
X-ORIGINAL-URL:https://amiciaa.org
X-WR-CALDESC:Eventi per AmiciAA Alcolisti Anonimi
REFRESH-INTERVAL;VALUE=DURATION:PT1H
X-Robots-Tag:noindex
X-PUBLISHED-TTL:PT1H
BEGIN:VTIMEZONE
TZID:Europe/Rome
BEGIN:DAYLIGHT
TZOFFSETFROM:+0100
TZOFFSETTO:+0200
TZNAME:CEST
DTSTART:20240331T010000
END:DAYLIGHT
BEGIN:STANDARD
TZOFFSETFROM:+0200
TZOFFSETTO:+0100
TZNAME:CET
DTSTART:20241027T010000
END:STANDARD
BEGIN:DAYLIGHT
TZOFFSETFROM:+0100
TZOFFSETTO:+0200
TZNAME:CEST
DTSTART:20250330T010000
END:DAYLIGHT
BEGIN:STANDARD
TZOFFSETFROM:+0200
TZOFFSETTO:+0100
TZNAME:CET
DTSTART:20251026T010000
END:STANDARD
BEGIN:DAYLIGHT
TZOFFSETFROM:+0100
TZOFFSETTO:+0200
TZNAME:CEST
DTSTART:20260329T010000
END:DAYLIGHT
BEGIN:STANDARD
TZOFFSETFROM:+0200
TZOFFSETTO:+0100
TZNAME:CET
DTSTART:20261025T010000
END:STANDARD
END:VTIMEZONE
BEGIN:VEVENT
DTSTART;VALUE=DATE:20250808
DTEND;VALUE=DATE:20250809
DTSTAMP:20260423T065829
CREATED:20250721T172406Z
LAST-MODIFIED:20250721T172406Z
UID:2658-1754611200-1754697599@amiciaa.org
SUMMARY:PERCHE’ UN ALCOLISTA SEMBRA NON AVERE FPRZA DI VOLONTA’?
DESCRIPTION:Descrizione:”Molti alcolisti giungono ad A.A. convinti di non avere sufficiente forza di volontà per opporsi con successo al “vizio” dell’alcol e perché non sanno prendere in mano le redini del – la propria vita. In questo Passo Bill\, invece\, mostra che a combinare simili disastri non fu la mancanza della forza di volontà\, bensì un suo uso scorretto. L’alcolista cerca vie di fuga da se stesso ed applica così tutta la propria volontà ottenendo danni ancora peggiori\, anziché cercare un rimedio alla causa principale.” \nTratto da:”Il compagno di viaggio” pag.41
URL:https://amiciaa.org/event/perche-un-alcolista-sembra-non-avere-fprza-di-volonta-2/
LOCATION:skipe amiciaa
CATEGORIES:Calendario
ORGANIZER;CN="gruppo on line AmiciAA":MAILTO:info@amiciaa.org
END:VEVENT
END:VCALENDAR