BEGIN:VCALENDAR
VERSION:2.0
PRODID:-//AmiciAA Alcolisti Anonimi - ECPv6.15.20//NONSGML v1.0//EN
CALSCALE:GREGORIAN
METHOD:PUBLISH
X-WR-CALNAME:AmiciAA Alcolisti Anonimi
X-ORIGINAL-URL:https://amiciaa.org
X-WR-CALDESC:Eventi per AmiciAA Alcolisti Anonimi
REFRESH-INTERVAL;VALUE=DURATION:PT1H
X-Robots-Tag:noindex
X-PUBLISHED-TTL:PT1H
BEGIN:VTIMEZONE
TZID:Europe/Rome
BEGIN:DAYLIGHT
TZOFFSETFROM:+0100
TZOFFSETTO:+0200
TZNAME:CEST
DTSTART:20240331T010000
END:DAYLIGHT
BEGIN:STANDARD
TZOFFSETFROM:+0200
TZOFFSETTO:+0100
TZNAME:CET
DTSTART:20241027T010000
END:STANDARD
BEGIN:DAYLIGHT
TZOFFSETFROM:+0100
TZOFFSETTO:+0200
TZNAME:CEST
DTSTART:20250330T010000
END:DAYLIGHT
BEGIN:STANDARD
TZOFFSETFROM:+0200
TZOFFSETTO:+0100
TZNAME:CET
DTSTART:20251026T010000
END:STANDARD
BEGIN:DAYLIGHT
TZOFFSETFROM:+0100
TZOFFSETTO:+0200
TZNAME:CEST
DTSTART:20260329T010000
END:DAYLIGHT
BEGIN:STANDARD
TZOFFSETFROM:+0200
TZOFFSETTO:+0100
TZNAME:CET
DTSTART:20261025T010000
END:STANDARD
END:VTIMEZONE
BEGIN:VEVENT
DTSTART;VALUE=DATE:20250707
DTEND;VALUE=DATE:20250708
DTSTAMP:20260423T083949
CREATED:20250628T154944Z
LAST-MODIFIED:20250628T154944Z
UID:2620-1751846400-1751932799@amiciaa.org
SUMMARY:SETTIMA TRADIZIONE
DESCRIPTION:Descrizione:”Alcolisti che si mantengono da soli? Chi ha mai sentito una cosa simile? Eppure abbiamo scoperto che è proprio questo che dobbiamo fare. Tale principio è la lampante dimostrazione del profondo cambiamento che A.A. ha prodotto in ognuno di noi. Tutti sanno che gli alcolisti attivi proclamano di non avere alcun problema che il denaro non possa risolvere.Avevamo sempre la mano tesa. Nel periodo della nostra follia siamo stati dipendenti da qualcuno\, di solito per i suoi soldi. Quando un’associazione composta interamente da alcolisti dice che ha intenzione di pagare tutti i suoi conti\, è davvero un fatto nuovo. \nTratto da:”Dodici Passi Dodici Tradizioni” pag.231
URL:https://amiciaa.org/event/settima-tradizione-3/
LOCATION:skipe amiciaa
CATEGORIES:Calendario
ORGANIZER;CN="gruppo on line AmiciAA":MAILTO:info@amiciaa.org
END:VEVENT
END:VCALENDAR