BEGIN:VCALENDAR
VERSION:2.0
PRODID:-//AmiciAA Alcolisti Anonimi - ECPv6.15.20//NONSGML v1.0//EN
CALSCALE:GREGORIAN
METHOD:PUBLISH
X-WR-CALNAME:AmiciAA Alcolisti Anonimi
X-ORIGINAL-URL:https://amiciaa.org
X-WR-CALDESC:Eventi per AmiciAA Alcolisti Anonimi
REFRESH-INTERVAL;VALUE=DURATION:PT1H
X-Robots-Tag:noindex
X-PUBLISHED-TTL:PT1H
BEGIN:VTIMEZONE
TZID:Europe/Rome
BEGIN:DAYLIGHT
TZOFFSETFROM:+0100
TZOFFSETTO:+0200
TZNAME:CEST
DTSTART:20240331T010000
END:DAYLIGHT
BEGIN:STANDARD
TZOFFSETFROM:+0200
TZOFFSETTO:+0100
TZNAME:CET
DTSTART:20241027T010000
END:STANDARD
BEGIN:DAYLIGHT
TZOFFSETFROM:+0100
TZOFFSETTO:+0200
TZNAME:CEST
DTSTART:20250330T010000
END:DAYLIGHT
BEGIN:STANDARD
TZOFFSETFROM:+0200
TZOFFSETTO:+0100
TZNAME:CET
DTSTART:20251026T010000
END:STANDARD
BEGIN:DAYLIGHT
TZOFFSETFROM:+0100
TZOFFSETTO:+0200
TZNAME:CEST
DTSTART:20260329T010000
END:DAYLIGHT
BEGIN:STANDARD
TZOFFSETFROM:+0200
TZOFFSETTO:+0100
TZNAME:CET
DTSTART:20261025T010000
END:STANDARD
END:VTIMEZONE
BEGIN:VEVENT
DTSTART;VALUE=DATE:20250615
DTEND;VALUE=DATE:20250616
DTSTAMP:20260423T101340
CREATED:20250531T180113Z
LAST-MODIFIED:20250531T180113Z
UID:2584-1749945600-1750031999@amiciaa.org
SUMMARY:SESTA TRADIZIONE
DESCRIPTION:Descrizione: “Cosi’ provammo ad aprire gli ospedali A.A. ma si impantanarono tutti\, perche non si puo’ far entrare in affari un gruppo A.A. :troppi cuochi rovinano il brodo. Gruppi A.A. si avventarono nel campo dell’educazione e quando cominciarono a proclamare pubblicamente i pregi di questo o quel “prodotto”\, la gente si ritrovo con le idee confuse. A.A. \, si occupava del recupero degli alcolisti o era un progetto educativo? Aveva a che fare con la spiritualità’ o con la medicina? Era un movimento riformatore? Con costernazione ci vedemmo accumunati a iniziative di ogni genere\, alcune buone e altre meno. \nTratto da : “Dodici Passi Dodici Tradizioni” pag. 225
URL:https://amiciaa.org/event/sesta-tradizione-5/
LOCATION:skipe amiciaa
CATEGORIES:Calendario
ORGANIZER;CN="gruppo on line AmiciAA":MAILTO:info@amiciaa.org
END:VEVENT
END:VCALENDAR