BEGIN:VCALENDAR
VERSION:2.0
PRODID:-//AmiciAA Alcolisti Anonimi - ECPv6.15.20//NONSGML v1.0//EN
CALSCALE:GREGORIAN
METHOD:PUBLISH
X-ORIGINAL-URL:https://amiciaa.org
X-WR-CALDESC:Eventi per AmiciAA Alcolisti Anonimi
REFRESH-INTERVAL;VALUE=DURATION:PT1H
X-Robots-Tag:noindex
X-PUBLISHED-TTL:PT1H
BEGIN:VTIMEZONE
TZID:Europe/Rome
BEGIN:DAYLIGHT
TZOFFSETFROM:+0100
TZOFFSETTO:+0200
TZNAME:CEST
DTSTART:20240331T010000
END:DAYLIGHT
BEGIN:STANDARD
TZOFFSETFROM:+0200
TZOFFSETTO:+0100
TZNAME:CET
DTSTART:20241027T010000
END:STANDARD
BEGIN:DAYLIGHT
TZOFFSETFROM:+0100
TZOFFSETTO:+0200
TZNAME:CEST
DTSTART:20250330T010000
END:DAYLIGHT
BEGIN:STANDARD
TZOFFSETFROM:+0200
TZOFFSETTO:+0100
TZNAME:CET
DTSTART:20251026T010000
END:STANDARD
BEGIN:DAYLIGHT
TZOFFSETFROM:+0100
TZOFFSETTO:+0200
TZNAME:CEST
DTSTART:20260329T010000
END:DAYLIGHT
BEGIN:STANDARD
TZOFFSETFROM:+0200
TZOFFSETTO:+0100
TZNAME:CET
DTSTART:20261025T010000
END:STANDARD
END:VTIMEZONE
BEGIN:VEVENT
DTSTART;VALUE=DATE:20250604
DTEND;VALUE=DATE:20250605
DTSTAMP:20260423T101804
CREATED:20250531T175330Z
LAST-MODIFIED:20250531T175330Z
UID:2572-1748995200-1749081599@amiciaa.org
SUMMARY:UNA PROSPETTIVA PER VOI
DESCRIPTION:Descrizione:” La disperazione era scritta a grandi lettere sul volto dell’uomo mentre rispondeva:” Oh\, tutto inutile. Nulla potrebbe guarirmi. Sono spacciato. Le ultime tre volte\, mi sono ubriacato nel rientrare a casa da qui. Ho paura di varcare la porta. Non ci capisco niente”. Per un’ora i due amici gli raccontarono la loro esperienza di bevitori. Lui ripeteva continuamente:”Lo stesso è accaduto anche a me. Anche io bevevo così”. All’uomo sdraiato nel letto fu spiegato che soffriva di una forma di avvelenamento che stava mettendo in crisi il suo corpo e distruggeva la sua mente. Si parlò a lungo dello stato d’animo che precedeva il primo bicchiere. “Sì\, sì\, è accaduto anche a me”\, disse l’uomo ammalato\, “esattamente come voi”. Non c’è dubbio che voi\, amici\, conosciate a fondo questo problema \, ma non vedo proprio come potreste aiutarmi!”. A questo punto\, i due visitatori si misero a ridere. Il futuro alcolista anonimo commentò:”Mi pare che ci sia ben poco da ridere”. I due amici parlarono dell’esperienza spirituale e gli spiegarono che cosa cercavano di fargli capire. \nTratto da: Alcolisti Anonimi pa. 157.
URL:https://amiciaa.org/event/una-prospettiva-per-voi-6/
LOCATION:skipe amiciaa
CATEGORIES:Calendario
ORGANIZER;CN="gruppo on line AmiciAA":MAILTO:info@amiciaa.org
END:VEVENT
END:VCALENDAR