BEGIN:VCALENDAR
VERSION:2.0
PRODID:-//AmiciAA Alcolisti Anonimi - ECPv6.15.20//NONSGML v1.0//EN
CALSCALE:GREGORIAN
METHOD:PUBLISH
X-ORIGINAL-URL:https://amiciaa.org
X-WR-CALDESC:Eventi per AmiciAA Alcolisti Anonimi
REFRESH-INTERVAL;VALUE=DURATION:PT1H
X-Robots-Tag:noindex
X-PUBLISHED-TTL:PT1H
BEGIN:VTIMEZONE
TZID:Europe/Rome
BEGIN:DAYLIGHT
TZOFFSETFROM:+0100
TZOFFSETTO:+0200
TZNAME:CEST
DTSTART:20240331T010000
END:DAYLIGHT
BEGIN:STANDARD
TZOFFSETFROM:+0200
TZOFFSETTO:+0100
TZNAME:CET
DTSTART:20241027T010000
END:STANDARD
BEGIN:DAYLIGHT
TZOFFSETFROM:+0100
TZOFFSETTO:+0200
TZNAME:CEST
DTSTART:20250330T010000
END:DAYLIGHT
BEGIN:STANDARD
TZOFFSETFROM:+0200
TZOFFSETTO:+0100
TZNAME:CET
DTSTART:20251026T010000
END:STANDARD
BEGIN:DAYLIGHT
TZOFFSETFROM:+0100
TZOFFSETTO:+0200
TZNAME:CEST
DTSTART:20260329T010000
END:DAYLIGHT
BEGIN:STANDARD
TZOFFSETFROM:+0200
TZOFFSETTO:+0100
TZNAME:CET
DTSTART:20261025T010000
END:STANDARD
END:VTIMEZONE
BEGIN:VEVENT
DTSTART;VALUE=DATE:20250428
DTEND;VALUE=DATE:20250429
DTSTAMP:20260423T114133
CREATED:20250322T094725Z
LAST-MODIFIED:20250322T094725Z
UID:2449-1745798400-1745884799@amiciaa.org
SUMMARY:IL NOSTRO METODO
DESCRIPTION:Descrizione:” A tal fine abbiamo cominciato a fare un inventario personale. Era il Quarto Passo. Un negoziante che non fa mai l’inventario della merce\, di solito fallisce. Una volta fatto l’inventario\, scopre ciò che manca e cerca le cause del deperimento di qualche articolo. Qualora rilevasse che ha uno stock di merce invendibile oppure guasta\, per salvare ilo suo esercizio lo toglierà di mezzo senza risarcimento. Se il negoziante è interessato al successo non può ingannarsi su quanto ha in magazzino. Abbiamo fatto un simile inventario delle nostre vite e lo abbiamo fatto onestamente”. \nTratto da: Alcolisti Anonimi pag. 63.
URL:https://amiciaa.org/event/il-nostro-metodo-6/
LOCATION:skipe amiciaa
CATEGORIES:Calendario
ORGANIZER;CN="gruppo on line AmiciAA":MAILTO:info@amiciaa.org
END:VEVENT
END:VCALENDAR