BEGIN:VCALENDAR
VERSION:2.0
PRODID:-//AmiciAA Alcolisti Anonimi - ECPv6.15.20//NONSGML v1.0//EN
CALSCALE:GREGORIAN
METHOD:PUBLISH
X-ORIGINAL-URL:https://amiciaa.org
X-WR-CALDESC:Eventi per AmiciAA Alcolisti Anonimi
REFRESH-INTERVAL;VALUE=DURATION:PT1H
X-Robots-Tag:noindex
X-PUBLISHED-TTL:PT1H
BEGIN:VTIMEZONE
TZID:Europe/Rome
BEGIN:DAYLIGHT
TZOFFSETFROM:+0100
TZOFFSETTO:+0200
TZNAME:CEST
DTSTART:20240331T010000
END:DAYLIGHT
BEGIN:STANDARD
TZOFFSETFROM:+0200
TZOFFSETTO:+0100
TZNAME:CET
DTSTART:20241027T010000
END:STANDARD
BEGIN:DAYLIGHT
TZOFFSETFROM:+0100
TZOFFSETTO:+0200
TZNAME:CEST
DTSTART:20250330T010000
END:DAYLIGHT
BEGIN:STANDARD
TZOFFSETFROM:+0200
TZOFFSETTO:+0100
TZNAME:CET
DTSTART:20251026T010000
END:STANDARD
BEGIN:DAYLIGHT
TZOFFSETFROM:+0100
TZOFFSETTO:+0200
TZNAME:CEST
DTSTART:20260329T010000
END:DAYLIGHT
BEGIN:STANDARD
TZOFFSETFROM:+0200
TZOFFSETTO:+0100
TZNAME:CET
DTSTART:20261025T010000
END:STANDARD
END:VTIMEZONE
BEGIN:VEVENT
DTSTART;VALUE=DATE:20250420
DTEND;VALUE=DATE:20250421
DTSTAMP:20260423T130101
CREATED:20250322T093500Z
LAST-MODIFIED:20250322T093500Z
UID:2439-1745107200-1745193599@amiciaa.org
SUMMARY:RICORDARE CHE L’ALCOLISMO È UNA MALATTIA INGUARIBILE\, PROGRESSIVA E MORTALE.
DESCRIPTION:Descrizione:” Naturalmente\, anche se ci possiamo sentire defraudati\, non è saggio ignorare la nostra costituzione fisiologica. Se ignoriamo i nostri limiti possono insorgere grossi scompensi e malattie. Per essere sani e ragionevolmente felici\, dobbiamo imparare a vivere con il corpo che abbiamo. Una delle nuove abitudini mentali che un alcolista in via di recupero può cercare di sviluppare consiste nel considerarsi\, con tranquillità\, come una persona che debba evitare sostanze chimiche (alcol e altre droghe che possano sostituirlo)\, sempre che voglia mantenersi in buona salute”. \nTratto da: Vivere Sobri pag. 18.
URL:https://amiciaa.org/event/ricordare-che-lalcolismo-e-una-malattia-inguaribile-progressiva-e-mortale-2/
LOCATION:skipe amiciaa
CATEGORIES:Calendario
ORGANIZER;CN="gruppo on line AmiciAA":MAILTO:info@amiciaa.org
END:VEVENT
END:VCALENDAR