BEGIN:VCALENDAR
VERSION:2.0
PRODID:-//AmiciAA Alcolisti Anonimi - ECPv6.15.20//NONSGML v1.0//EN
CALSCALE:GREGORIAN
METHOD:PUBLISH
X-WR-CALNAME:AmiciAA Alcolisti Anonimi
X-ORIGINAL-URL:https://amiciaa.org
X-WR-CALDESC:Eventi per AmiciAA Alcolisti Anonimi
REFRESH-INTERVAL;VALUE=DURATION:PT1H
X-Robots-Tag:noindex
X-PUBLISHED-TTL:PT1H
BEGIN:VTIMEZONE
TZID:Europe/Rome
BEGIN:DAYLIGHT
TZOFFSETFROM:+0100
TZOFFSETTO:+0200
TZNAME:CEST
DTSTART:20240331T010000
END:DAYLIGHT
BEGIN:STANDARD
TZOFFSETFROM:+0200
TZOFFSETTO:+0100
TZNAME:CET
DTSTART:20241027T010000
END:STANDARD
BEGIN:DAYLIGHT
TZOFFSETFROM:+0100
TZOFFSETTO:+0200
TZNAME:CEST
DTSTART:20250330T010000
END:DAYLIGHT
BEGIN:STANDARD
TZOFFSETFROM:+0200
TZOFFSETTO:+0100
TZNAME:CET
DTSTART:20251026T010000
END:STANDARD
BEGIN:DAYLIGHT
TZOFFSETFROM:+0100
TZOFFSETTO:+0200
TZNAME:CEST
DTSTART:20260329T010000
END:DAYLIGHT
BEGIN:STANDARD
TZOFFSETFROM:+0200
TZOFFSETTO:+0100
TZNAME:CET
DTSTART:20261025T010000
END:STANDARD
END:VTIMEZONE
BEGIN:VEVENT
DTSTART;VALUE=DATE:20250414
DTEND;VALUE=DATE:20250415
DTSTAMP:20260423T125913
CREATED:20250322T092633Z
LAST-MODIFIED:20250322T092633Z
UID:2433-1744588800-1744675199@amiciaa.org
SUMMARY:QUARTO CONCETTO
DESCRIPTION:Il diritto di partecipare viene riconosciuto anche alle persone cui non viene delegata alcuna autorità. Esso è messo in stretta connessione col senso di appartenenza: la partecipazione attiva conferma la propria appartenenza ad A.A.: questa vuole essere non una Associazione verticistica ma una fratellanza di persone che\, tutte assieme\, mirano ad un unico scopo.  \nTratto da: “Il compagno di viaggio” pag.206
URL:https://amiciaa.org/event/quarto-concetto-2/
LOCATION:skipe amiciaa
CATEGORIES:Calendario
ORGANIZER;CN="gruppo on line AmiciAA":MAILTO:info@amiciaa.org
END:VEVENT
END:VCALENDAR