BEGIN:VCALENDAR
VERSION:2.0
PRODID:-//AmiciAA Alcolisti Anonimi - ECPv6.15.20//NONSGML v1.0//EN
CALSCALE:GREGORIAN
METHOD:PUBLISH
X-ORIGINAL-URL:https://amiciaa.org
X-WR-CALDESC:Eventi per AmiciAA Alcolisti Anonimi
REFRESH-INTERVAL;VALUE=DURATION:PT1H
X-Robots-Tag:noindex
X-PUBLISHED-TTL:PT1H
BEGIN:VTIMEZONE
TZID:Europe/Rome
BEGIN:DAYLIGHT
TZOFFSETFROM:+0100
TZOFFSETTO:+0200
TZNAME:CEST
DTSTART:20240331T010000
END:DAYLIGHT
BEGIN:STANDARD
TZOFFSETFROM:+0200
TZOFFSETTO:+0100
TZNAME:CET
DTSTART:20241027T010000
END:STANDARD
BEGIN:DAYLIGHT
TZOFFSETFROM:+0100
TZOFFSETTO:+0200
TZNAME:CEST
DTSTART:20250330T010000
END:DAYLIGHT
BEGIN:STANDARD
TZOFFSETFROM:+0200
TZOFFSETTO:+0100
TZNAME:CET
DTSTART:20251026T010000
END:STANDARD
BEGIN:DAYLIGHT
TZOFFSETFROM:+0100
TZOFFSETTO:+0200
TZNAME:CEST
DTSTART:20260329T010000
END:DAYLIGHT
BEGIN:STANDARD
TZOFFSETFROM:+0200
TZOFFSETTO:+0100
TZNAME:CET
DTSTART:20261025T010000
END:STANDARD
END:VTIMEZONE
BEGIN:VEVENT
DTSTART;VALUE=DATE:20250122
DTEND;VALUE=DATE:20250123
DTSTAMP:20260423T174227
CREATED:20241222T091004Z
LAST-MODIFIED:20241222T091004Z
UID:2261-1737504000-1737590399@amiciaa.org
SUMMARY:BENEFICI E MISTERI
DESCRIPTION:L’importanza che gli A.A. attribuiscono alla sobrietà è talvolta fraintesa. Per alcuni questa virtù sembra essere il solo beneficio da trarre dalla nostra associazione. Siamo considerati degli ubriaconi astinenti che per il resto sono migliorati di poco\, se non per niente. Tale supposizione è ben lontana dalla realtà. Sappiamo che nessuno può raggiungere una sobrietà permanente senza un cambiamento totalmente rivoluzionario della sua vita e del suo modo di vedere le cose\, attraverso un risveglio spirituale che riesce a scacciare il desiderio di bere. \nTratto da: “Come la vede Bill” pag. 171
URL:https://amiciaa.org/event/benefici-e-misteri/
LOCATION:skipe amiciaa
CATEGORIES:Calendario
ORGANIZER;CN="gruppo on line AmiciAA":MAILTO:info@amiciaa.org
END:VEVENT
END:VCALENDAR