BEGIN:VCALENDAR
VERSION:2.0
PRODID:-//AmiciAA Alcolisti Anonimi - ECPv6.15.20//NONSGML v1.0//EN
CALSCALE:GREGORIAN
METHOD:PUBLISH
X-WR-CALNAME:AmiciAA Alcolisti Anonimi
X-ORIGINAL-URL:https://amiciaa.org
X-WR-CALDESC:Eventi per AmiciAA Alcolisti Anonimi
REFRESH-INTERVAL;VALUE=DURATION:PT1H
X-Robots-Tag:noindex
X-PUBLISHED-TTL:PT1H
BEGIN:VTIMEZONE
TZID:Europe/Rome
BEGIN:DAYLIGHT
TZOFFSETFROM:+0100
TZOFFSETTO:+0200
TZNAME:CEST
DTSTART:20230326T010000
END:DAYLIGHT
BEGIN:STANDARD
TZOFFSETFROM:+0200
TZOFFSETTO:+0100
TZNAME:CET
DTSTART:20231029T010000
END:STANDARD
BEGIN:DAYLIGHT
TZOFFSETFROM:+0100
TZOFFSETTO:+0200
TZNAME:CEST
DTSTART:20240331T010000
END:DAYLIGHT
BEGIN:STANDARD
TZOFFSETFROM:+0200
TZOFFSETTO:+0100
TZNAME:CET
DTSTART:20241027T010000
END:STANDARD
BEGIN:DAYLIGHT
TZOFFSETFROM:+0100
TZOFFSETTO:+0200
TZNAME:CEST
DTSTART:20250330T010000
END:DAYLIGHT
BEGIN:STANDARD
TZOFFSETFROM:+0200
TZOFFSETTO:+0100
TZNAME:CET
DTSTART:20251026T010000
END:STANDARD
END:VTIMEZONE
BEGIN:VEVENT
DTSTART;VALUE=DATE:20241208
DTEND;VALUE=DATE:20241209
DTSTAMP:20260423T190831
CREATED:20241125T152218Z
LAST-MODIFIED:20241125T152218Z
UID:2198-1733616000-1733702399@amiciaa.org
SUMMARY:DIFFIDARE DALLA SICUREZZA
DESCRIPTION:Descrizione: “Per alcuni di noi\, l’impulso a bere un bicchiere in allegria quando ci si sente particolarmente bene è ancora più insidioso quando non c’è alcun evento da celebrare e nessuna particolare pressione sociale. Può avvenire nei momenti più inattesi ed è possibile che non ne capiremo mai le ragioni. Ora abbiamo imparato a non farci prendere dal panico quando il pensiero di un bicchiere ci salta in mente. Dopo tutto\, oggi\, è un pensiero naturale per chiunque\, ed è particolarmente comprensibile per quelli fra noi che hanno fatto un’ampia pratica di quest’arte. \nTratto da: “Vivere Sobri” pag.67
URL:https://amiciaa.org/event/diffidare-dalla-sicurezza-2/
LOCATION:skipe amiciaa
CATEGORIES:Calendario
ORGANIZER;CN="gruppo on line AmiciAA":MAILTO:info@amiciaa.org
END:VEVENT
END:VCALENDAR