BEGIN:VCALENDAR
VERSION:2.0
PRODID:-//AmiciAA Alcolisti Anonimi - ECPv6.15.20//NONSGML v1.0//EN
CALSCALE:GREGORIAN
METHOD:PUBLISH
X-ORIGINAL-URL:https://amiciaa.org
X-WR-CALDESC:Eventi per AmiciAA Alcolisti Anonimi
REFRESH-INTERVAL;VALUE=DURATION:PT1H
X-Robots-Tag:noindex
X-PUBLISHED-TTL:PT1H
BEGIN:VTIMEZONE
TZID:Europe/Rome
BEGIN:DAYLIGHT
TZOFFSETFROM:+0100
TZOFFSETTO:+0200
TZNAME:CEST
DTSTART:20230326T010000
END:DAYLIGHT
BEGIN:STANDARD
TZOFFSETFROM:+0200
TZOFFSETTO:+0100
TZNAME:CET
DTSTART:20231029T010000
END:STANDARD
BEGIN:DAYLIGHT
TZOFFSETFROM:+0100
TZOFFSETTO:+0200
TZNAME:CEST
DTSTART:20240331T010000
END:DAYLIGHT
BEGIN:STANDARD
TZOFFSETFROM:+0200
TZOFFSETTO:+0100
TZNAME:CET
DTSTART:20241027T010000
END:STANDARD
BEGIN:DAYLIGHT
TZOFFSETFROM:+0100
TZOFFSETTO:+0200
TZNAME:CEST
DTSTART:20250330T010000
END:DAYLIGHT
BEGIN:STANDARD
TZOFFSETFROM:+0200
TZOFFSETTO:+0100
TZNAME:CET
DTSTART:20251026T010000
END:STANDARD
END:VTIMEZONE
BEGIN:VEVENT
DTSTART;VALUE=DATE:20241108
DTEND;VALUE=DATE:20241109
DTSTAMP:20260423T204037
CREATED:20241028T180633Z
LAST-MODIFIED:20241028T180941Z
UID:2158-1731024000-1731110399@amiciaa.org
SUMMARY:L'UNDICESIMO PASSO E' UN PASSO RELIGIOSO? RICHIEDE LA FEDE?
DESCRIPTION:Descrizione:”La definizione del Programma di Alcolisti Anonimi come “spirituale” ha ingenerato confusione in alcuni nuovi venuti\, molti dei quali tendono a identificare spirituale con “religioso”. Ma\, come il dr. Bob disse: “Noi non siamo legati a dot-trine”. Quindi\, molti credono che “pregare” e “meditare” siano atti religiosi. Invece\, molti saggi nella storia dell’umanità hanno insegnato a tutti che essi sono atti che servono per conoscersi meglio\, per accentuare la propria re-sa\, il proprio affidamento\, la propria voglia di essere nel mondo insieme agli altri. Insomma\, per riconoscere valori universali non occorre essere “credenti”.” \nTratto da:”Il compagno di viaggio” pag. 95
URL:https://amiciaa.org/event/lundicesimo-passo-e-un-passo-religioso-richiede-la-fede/
LOCATION:skipe amiciaa
CATEGORIES:Calendario
ORGANIZER;CN="gruppo on line AmiciAA":MAILTO:info@amiciaa.org
END:VEVENT
END:VCALENDAR