BEGIN:VCALENDAR
VERSION:2.0
PRODID:-//AmiciAA Alcolisti Anonimi - ECPv6.15.20//NONSGML v1.0//EN
CALSCALE:GREGORIAN
METHOD:PUBLISH
X-ORIGINAL-URL:https://amiciaa.org
X-WR-CALDESC:Eventi per AmiciAA Alcolisti Anonimi
REFRESH-INTERVAL;VALUE=DURATION:PT1H
X-Robots-Tag:noindex
X-PUBLISHED-TTL:PT1H
BEGIN:VTIMEZONE
TZID:Europe/Rome
BEGIN:DAYLIGHT
TZOFFSETFROM:+0100
TZOFFSETTO:+0200
TZNAME:CEST
DTSTART:20230326T010000
END:DAYLIGHT
BEGIN:STANDARD
TZOFFSETFROM:+0200
TZOFFSETTO:+0100
TZNAME:CET
DTSTART:20231029T010000
END:STANDARD
BEGIN:DAYLIGHT
TZOFFSETFROM:+0100
TZOFFSETTO:+0200
TZNAME:CEST
DTSTART:20240331T010000
END:DAYLIGHT
BEGIN:STANDARD
TZOFFSETFROM:+0200
TZOFFSETTO:+0100
TZNAME:CET
DTSTART:20241027T010000
END:STANDARD
BEGIN:DAYLIGHT
TZOFFSETFROM:+0100
TZOFFSETTO:+0200
TZNAME:CEST
DTSTART:20250330T010000
END:DAYLIGHT
BEGIN:STANDARD
TZOFFSETFROM:+0200
TZOFFSETTO:+0100
TZNAME:CET
DTSTART:20251026T010000
END:STANDARD
END:VTIMEZONE
BEGIN:VEVENT
DTSTART;VALUE=DATE:20240814
DTEND;VALUE=DATE:20240815
DTSTAMP:20260424T011657
CREATED:20240804T070504Z
LAST-MODIFIED:20240804T070504Z
UID:2025-1723593600-1723679999@amiciaa.org
SUMMARY:POSSIAMO SCEGLIERE?
DESCRIPTION:Descrizione:”Non dobbiamo mai lasciarci accecare dalla vana filosofia di essere semplicemente le sfortunate vittime di quanto abbiamo ereditato\, della nostra esperienza di vita e del nostro ambiente\, e che queste siano le uniche forze a decidere per noi. Questa non è la strada verso la libertà. Dobbiamo essere convinti di poter scegliere davvero. \nTratto da: “Come la vede Bill” pag.4
URL:https://amiciaa.org/event/possiamo-scegliere/
LOCATION:skipe amiciaa
CATEGORIES:Calendario
ORGANIZER;CN="gruppo on line AmiciAA":MAILTO:info@amiciaa.org
END:VEVENT
BEGIN:VEVENT
DTSTART;VALUE=DATE:20240814
DTEND;VALUE=DATE:20240815
DTSTAMP:20260424T011657
CREATED:20240804T071421Z
LAST-MODIFIED:20240804T071421Z
UID:2027-1723593600-1723679999@amiciaa.org
SUMMARY:OTTAVO PASSO
DESCRIPTION:Descrizione:”Questi ostacoli\, comunque\, sono indubbiamente reali. Il primo\, e uno dei più difficili\, ha a che vedere col perdono. Nel momento in cui riflettiamo su una relazione alterata o interrotta con un’altra persona\, le nostre emozioni si mettono sulla difensiva. Per evitare di vedere i torti che abbiamo fatto all’altro\, ci concentriamo con risentimento su quelli che questi ha fatto a noi.” \nTratto da:”Dodici Passi Dodici Tradizioni” pag.112
URL:https://amiciaa.org/event/ottavo-passo-5/
LOCATION:skipe amiciaa
CATEGORIES:Calendario
ORGANIZER;CN="gruppo on line AmiciAA":MAILTO:info@amiciaa.org
END:VEVENT
END:VCALENDAR