BEGIN:VCALENDAR
VERSION:2.0
PRODID:-//AmiciAA Alcolisti Anonimi - ECPv6.15.20//NONSGML v1.0//EN
CALSCALE:GREGORIAN
METHOD:PUBLISH
X-WR-CALNAME:AmiciAA Alcolisti Anonimi
X-ORIGINAL-URL:https://amiciaa.org
X-WR-CALDESC:Eventi per AmiciAA Alcolisti Anonimi
REFRESH-INTERVAL;VALUE=DURATION:PT1H
X-Robots-Tag:noindex
X-PUBLISHED-TTL:PT1H
BEGIN:VTIMEZONE
TZID:Europe/Rome
BEGIN:DAYLIGHT
TZOFFSETFROM:+0100
TZOFFSETTO:+0200
TZNAME:CEST
DTSTART:20230326T010000
END:DAYLIGHT
BEGIN:STANDARD
TZOFFSETFROM:+0200
TZOFFSETTO:+0100
TZNAME:CET
DTSTART:20231029T010000
END:STANDARD
BEGIN:DAYLIGHT
TZOFFSETFROM:+0100
TZOFFSETTO:+0200
TZNAME:CEST
DTSTART:20240331T010000
END:DAYLIGHT
BEGIN:STANDARD
TZOFFSETFROM:+0200
TZOFFSETTO:+0100
TZNAME:CET
DTSTART:20241027T010000
END:STANDARD
BEGIN:DAYLIGHT
TZOFFSETFROM:+0100
TZOFFSETTO:+0200
TZNAME:CEST
DTSTART:20250330T010000
END:DAYLIGHT
BEGIN:STANDARD
TZOFFSETFROM:+0200
TZOFFSETTO:+0100
TZNAME:CET
DTSTART:20251026T010000
END:STANDARD
END:VTIMEZONE
BEGIN:VEVENT
DTSTART;VALUE=DATE:20240531
DTEND;VALUE=DATE:20240601
DTSTAMP:20260424T040905
CREATED:20240526T181201Z
LAST-MODIFIED:20240529T173259Z
UID:1924-1717113600-1717199999@amiciaa.org
SUMMARY:RESPINGERE L'IRA E IL RANCORE
DESCRIPTION:Descrizione:” Ostillità\, risentimento\, rabbia\, qualsiasi parola vogliate usare per descrivere questo sentimento\, esso sembra avere una stretta connessione con l’intossicazione e forse una ancora più profonda con l’alcolismo. Per esempio\, alcuni medici hanno chiesto a un esteso numero di alcolisti perchè si ubriacassero\, e hanno riscontrato che una delle risposte più frequenti era:” Così posso dire a qualcuno di togliersi dai piedi”. In altre parole\, se erano ubriachi si sentivano capaci e liberi di esprimere la loro rabbia\, cosa che non potevano fare se erano sobri. Qualcuno ha suggerito l’ipotesi che ci possa essere un sottile\, indeterminato rapporto biochimico tra l’alcol e il tipo di cambiamenti fisici che accompagnano l’ira”. \nTratto da: Vivere sobri pag. 58.
URL:https://amiciaa.org/event/respingere-lira-e-il-rancore/
LOCATION:skipe amiciaa
CATEGORIES:Calendario
ORGANIZER;CN="gruppo on line AmiciAA":MAILTO:info@amiciaa.org
END:VEVENT
END:VCALENDAR