BEGIN:VCALENDAR
VERSION:2.0
PRODID:-//AmiciAA Alcolisti Anonimi - ECPv6.15.20//NONSGML v1.0//EN
CALSCALE:GREGORIAN
METHOD:PUBLISH
X-WR-CALNAME:AmiciAA Alcolisti Anonimi
X-ORIGINAL-URL:https://amiciaa.org
X-WR-CALDESC:Eventi per AmiciAA Alcolisti Anonimi
REFRESH-INTERVAL;VALUE=DURATION:PT1H
X-Robots-Tag:noindex
X-PUBLISHED-TTL:PT1H
BEGIN:VTIMEZONE
TZID:Europe/Rome
BEGIN:DAYLIGHT
TZOFFSETFROM:+0100
TZOFFSETTO:+0200
TZNAME:CEST
DTSTART:20230326T010000
END:DAYLIGHT
BEGIN:STANDARD
TZOFFSETFROM:+0200
TZOFFSETTO:+0100
TZNAME:CET
DTSTART:20231029T010000
END:STANDARD
BEGIN:DAYLIGHT
TZOFFSETFROM:+0100
TZOFFSETTO:+0200
TZNAME:CEST
DTSTART:20240331T010000
END:DAYLIGHT
BEGIN:STANDARD
TZOFFSETFROM:+0200
TZOFFSETTO:+0100
TZNAME:CET
DTSTART:20241027T010000
END:STANDARD
BEGIN:DAYLIGHT
TZOFFSETFROM:+0100
TZOFFSETTO:+0200
TZNAME:CEST
DTSTART:20250330T010000
END:DAYLIGHT
BEGIN:STANDARD
TZOFFSETFROM:+0200
TZOFFSETTO:+0100
TZNAME:CET
DTSTART:20251026T010000
END:STANDARD
END:VTIMEZONE
BEGIN:VEVENT
DTSTART;VALUE=DATE:20240526
DTEND;VALUE=DATE:20240527
DTSTAMP:20260424T052535
CREATED:20240519T192352Z
LAST-MODIFIED:20240519T192352Z
UID:1914-1716681600-1716767999@amiciaa.org
SUMMARY:IL NOSTRO MOTODO
DESCRIPTION:Descrizione: “Se non ci pentiamo della nostra condotta passata e continuiamo tranquillamente a fare del male agli altri\, è certo che ricomnceremo a bere. Questa non è teoria. Sono dei fatti appresi dalle nostre esperienze”. \nTratto da : Alcolisti Anonimi pag. 69
URL:https://amiciaa.org/event/il-nostro-motodo/
LOCATION:skipe amiciaa
CATEGORIES:Calendario
ORGANIZER;CN="gruppo on line AmiciAA":MAILTO:info@amiciaa.org
END:VEVENT
END:VCALENDAR