BEGIN:VCALENDAR
VERSION:2.0
PRODID:-//AmiciAA Alcolisti Anonimi - ECPv6.15.20//NONSGML v1.0//EN
CALSCALE:GREGORIAN
METHOD:PUBLISH
X-ORIGINAL-URL:https://amiciaa.org
X-WR-CALDESC:Eventi per AmiciAA Alcolisti Anonimi
REFRESH-INTERVAL;VALUE=DURATION:PT1H
X-Robots-Tag:noindex
X-PUBLISHED-TTL:PT1H
BEGIN:VTIMEZONE
TZID:Europe/Rome
BEGIN:DAYLIGHT
TZOFFSETFROM:+0100
TZOFFSETTO:+0200
TZNAME:CEST
DTSTART:20230326T010000
END:DAYLIGHT
BEGIN:STANDARD
TZOFFSETFROM:+0200
TZOFFSETTO:+0100
TZNAME:CET
DTSTART:20231029T010000
END:STANDARD
BEGIN:DAYLIGHT
TZOFFSETFROM:+0100
TZOFFSETTO:+0200
TZNAME:CEST
DTSTART:20240331T010000
END:DAYLIGHT
BEGIN:STANDARD
TZOFFSETFROM:+0200
TZOFFSETTO:+0100
TZNAME:CET
DTSTART:20241027T010000
END:STANDARD
BEGIN:DAYLIGHT
TZOFFSETFROM:+0100
TZOFFSETTO:+0200
TZNAME:CEST
DTSTART:20250330T010000
END:DAYLIGHT
BEGIN:STANDARD
TZOFFSETFROM:+0200
TZOFFSETTO:+0100
TZNAME:CET
DTSTART:20251026T010000
END:STANDARD
END:VTIMEZONE
BEGIN:VEVENT
DTSTART;VALUE=DATE:20240501
DTEND;VALUE=DATE:20240502
DTSTAMP:20260424T052754
CREATED:20240428T151939Z
LAST-MODIFIED:20240428T151939Z
UID:1866-1714521600-1714607999@amiciaa.org
SUMMARY:PERCHE’ DEVO PARLARE AD UN ALTRO DEI MIEI DIFETTI DI CARATTERE? NON BASTA CHE LI CONOSCA IO E OGNI TANTO NE PARLI AL GRUPPO?
DESCRIPTION:Descrizione : “Questa e’ la prima applicazione del principio che non si riesce a fare tutto da soli ma e’ necessario chiedere aiuto agli altri. Per chiedere aiuto bisogna riuscire ad essere sinceri e aperti\, e’ necessario abbattere la corazza che ci si e’ creata attorno nei confronti degli altri. \nTratto da “Il compagno di viaggio” pag. 52
URL:https://amiciaa.org/event/perche-devo-parlare-ad-un-altro-dei-miei-difetti-di-carattere-non-basta-che-li-conosca-io-e-ogni-tanto-ne-parli-al-gruppo/
LOCATION:skipe amiciaa
CATEGORIES:Calendario
ORGANIZER;CN="gruppo on line AmiciAA":MAILTO:info@amiciaa.org
END:VEVENT
END:VCALENDAR