BEGIN:VCALENDAR
VERSION:2.0
PRODID:-//AmiciAA Alcolisti Anonimi - ECPv6.15.20//NONSGML v1.0//EN
CALSCALE:GREGORIAN
METHOD:PUBLISH
X-ORIGINAL-URL:https://amiciaa.org
X-WR-CALDESC:Eventi per AmiciAA Alcolisti Anonimi
REFRESH-INTERVAL;VALUE=DURATION:PT1H
X-Robots-Tag:noindex
X-PUBLISHED-TTL:PT1H
BEGIN:VTIMEZONE
TZID:Europe/Rome
BEGIN:DAYLIGHT
TZOFFSETFROM:+0100
TZOFFSETTO:+0200
TZNAME:CEST
DTSTART:20230326T010000
END:DAYLIGHT
BEGIN:STANDARD
TZOFFSETFROM:+0200
TZOFFSETTO:+0100
TZNAME:CET
DTSTART:20231029T010000
END:STANDARD
BEGIN:DAYLIGHT
TZOFFSETFROM:+0100
TZOFFSETTO:+0200
TZNAME:CEST
DTSTART:20240331T010000
END:DAYLIGHT
BEGIN:STANDARD
TZOFFSETFROM:+0200
TZOFFSETTO:+0100
TZNAME:CET
DTSTART:20241027T010000
END:STANDARD
BEGIN:DAYLIGHT
TZOFFSETFROM:+0100
TZOFFSETTO:+0200
TZNAME:CEST
DTSTART:20250330T010000
END:DAYLIGHT
BEGIN:STANDARD
TZOFFSETFROM:+0200
TZOFFSETTO:+0100
TZNAME:CET
DTSTART:20251026T010000
END:STANDARD
END:VTIMEZONE
BEGIN:VEVENT
DTSTART;VALUE=DATE:20240313
DTEND;VALUE=DATE:20240314
DTSTAMP:20260424T090816
CREATED:20240313T172507Z
LAST-MODIFIED:20240314T170710Z
UID:1760-1710288000-1710374399@amiciaa.org
SUMMARY:UNA PROSPETTIVA PER VOI
DESCRIPTION:Descrizione: Per la maggior parte della gente normale\, il bere significa giovialità\, socievolezza (…). Ma così non era per noi in quegli ultimi giorni in cui si beveva forte. L’antico senso di piacere era sparito\, non era più che un ricordo. C’era un insistente desiderio di godere della vita come facevamo una volta e una straziante ossessione che una qualche nuova\, miracolosa capacità di controllarci ce ne rendesse capaci. C’era sempre un nuovo tentativo e un nuovo fallimento. Meno la gente ci tollerava e più ci ritiravamo dalla società e dalla vista stessa. Mano a mano che diventavamo sudditi del Re Alcol\, (…) la bruma raggelante della solitudine calava su noi.\n\ntratto da:Alcolisti anonimi pag. 151
URL:https://amiciaa.org/event/wwww/
LOCATION:skipe amiciaa
CATEGORIES:Calendario
END:VEVENT
END:VCALENDAR