BEGIN:VCALENDAR
VERSION:2.0
PRODID:-//AmiciAA Alcolisti Anonimi - ECPv6.15.20//NONSGML v1.0//EN
CALSCALE:GREGORIAN
METHOD:PUBLISH
X-WR-CALNAME:AmiciAA Alcolisti Anonimi
X-ORIGINAL-URL:https://amiciaa.org
X-WR-CALDESC:Eventi per AmiciAA Alcolisti Anonimi
REFRESH-INTERVAL;VALUE=DURATION:PT1H
X-Robots-Tag:noindex
X-PUBLISHED-TTL:PT1H
BEGIN:VTIMEZONE
TZID:Europe/Rome
BEGIN:DAYLIGHT
TZOFFSETFROM:+0100
TZOFFSETTO:+0200
TZNAME:CEST
DTSTART:20230326T010000
END:DAYLIGHT
BEGIN:STANDARD
TZOFFSETFROM:+0200
TZOFFSETTO:+0100
TZNAME:CET
DTSTART:20231029T010000
END:STANDARD
BEGIN:DAYLIGHT
TZOFFSETFROM:+0100
TZOFFSETTO:+0200
TZNAME:CEST
DTSTART:20240331T010000
END:DAYLIGHT
BEGIN:STANDARD
TZOFFSETFROM:+0200
TZOFFSETTO:+0100
TZNAME:CET
DTSTART:20241027T010000
END:STANDARD
BEGIN:DAYLIGHT
TZOFFSETFROM:+0100
TZOFFSETTO:+0200
TZNAME:CEST
DTSTART:20250330T010000
END:DAYLIGHT
BEGIN:STANDARD
TZOFFSETFROM:+0200
TZOFFSETTO:+0100
TZNAME:CET
DTSTART:20251026T010000
END:STANDARD
END:VTIMEZONE
BEGIN:VEVENT
DTSTART;VALUE=DATE:20240308
DTEND;VALUE=DATE:20240309
DTSTAMP:20260424T084026
CREATED:20240303T181415Z
LAST-MODIFIED:20240314T170710Z
UID:1734-1709856000-1709942399@amiciaa.org
SUMMARY:Terzo concetto
DESCRIPTION:Descrizione: Che cosa vuol di per un A:A.”Diritto di Decisione”? \nIn A.A. nessuno dovrebbe mai essere solo.Anche facendo Servizio\,ci si dovrebbe confrontare con gli altri.Ma\,alla fin \,qualcuno deve prendere una decisione \,altrimenti l’Azione \,che il Programma \,asserisce essere centrale per un A.A.non sarebbe mai definita.Qesto Concetto suggerisce che sia il Servitore\,nell’ambito del proprio mandato \,che dopo aver ascoltato tutti\,debba prendere una decisione assumenrsene le responsabilità. \nTratto da dodidci concetti per il servizio pag. 200
URL:https://amiciaa.org/event/te/
LOCATION:skipe amiciaa
CATEGORIES:Calendario
END:VEVENT
END:VCALENDAR