BEGIN:VCALENDAR
VERSION:2.0
PRODID:-//AmiciAA Alcolisti Anonimi - ECPv6.15.20//NONSGML v1.0//EN
CALSCALE:GREGORIAN
METHOD:PUBLISH
X-WR-CALNAME:AmiciAA Alcolisti Anonimi
X-ORIGINAL-URL:https://amiciaa.org
X-WR-CALDESC:Eventi per AmiciAA Alcolisti Anonimi
REFRESH-INTERVAL;VALUE=DURATION:PT1H
X-Robots-Tag:noindex
X-PUBLISHED-TTL:PT1H
BEGIN:VTIMEZONE
TZID:Europe/Rome
BEGIN:DAYLIGHT
TZOFFSETFROM:+0100
TZOFFSETTO:+0200
TZNAME:CEST
DTSTART:20230326T010000
END:DAYLIGHT
BEGIN:STANDARD
TZOFFSETFROM:+0200
TZOFFSETTO:+0100
TZNAME:CET
DTSTART:20231029T010000
END:STANDARD
BEGIN:DAYLIGHT
TZOFFSETFROM:+0100
TZOFFSETTO:+0200
TZNAME:CEST
DTSTART:20240331T010000
END:DAYLIGHT
BEGIN:STANDARD
TZOFFSETFROM:+0200
TZOFFSETTO:+0100
TZNAME:CET
DTSTART:20241027T010000
END:STANDARD
BEGIN:DAYLIGHT
TZOFFSETFROM:+0100
TZOFFSETTO:+0200
TZNAME:CEST
DTSTART:20250330T010000
END:DAYLIGHT
BEGIN:STANDARD
TZOFFSETFROM:+0200
TZOFFSETTO:+0100
TZNAME:CET
DTSTART:20251026T010000
END:STANDARD
END:VTIMEZONE
BEGIN:VEVENT
DTSTART;VALUE=DATE:20240228
DTEND;VALUE=DATE:20240229
DTSTAMP:20260424T084027
CREATED:20240225T163221Z
LAST-MODIFIED:20240314T170710Z
UID:1711-1709078400-1709164799@amiciaa.org
SUMMARY:SECONDO PASSO
DESCRIPTION:DESCRIZIONE ; Il seocndo passo rappresenta quindi il punto d’incontro per tutti noi.Agnostici \,atei oppure ex credenti \,in questo passso possiamo stasre insieme.Un ‘autentica umilta’ e una mente aperta possono condurci alla fede\,e ogni riunione di A.A.e un assicurazione che dio ci ricondurra’alla ragione se ci metteremo in rapporto con lui nel modo giursto. \ntratto da;dodici e dodici pag.43
URL:https://amiciaa.org/event/secondo-passo-2/
LOCATION:skipe amiciaa
CATEGORIES:Calendario
END:VEVENT
END:VCALENDAR