BEGIN:VCALENDAR
VERSION:2.0
PRODID:-//AmiciAA Alcolisti Anonimi - ECPv6.15.20//NONSGML v1.0//EN
CALSCALE:GREGORIAN
METHOD:PUBLISH
X-WR-CALNAME:AmiciAA Alcolisti Anonimi
X-ORIGINAL-URL:https://amiciaa.org
X-WR-CALDESC:Eventi per AmiciAA Alcolisti Anonimi
REFRESH-INTERVAL;VALUE=DURATION:PT1H
X-Robots-Tag:noindex
X-PUBLISHED-TTL:PT1H
BEGIN:VTIMEZONE
TZID:Europe/Rome
BEGIN:DAYLIGHT
TZOFFSETFROM:+0100
TZOFFSETTO:+0200
TZNAME:CEST
DTSTART:20230326T010000
END:DAYLIGHT
BEGIN:STANDARD
TZOFFSETFROM:+0200
TZOFFSETTO:+0100
TZNAME:CET
DTSTART:20231029T010000
END:STANDARD
BEGIN:DAYLIGHT
TZOFFSETFROM:+0100
TZOFFSETTO:+0200
TZNAME:CEST
DTSTART:20240331T010000
END:DAYLIGHT
BEGIN:STANDARD
TZOFFSETFROM:+0200
TZOFFSETTO:+0100
TZNAME:CET
DTSTART:20241027T010000
END:STANDARD
BEGIN:DAYLIGHT
TZOFFSETFROM:+0100
TZOFFSETTO:+0200
TZNAME:CEST
DTSTART:20250330T010000
END:DAYLIGHT
BEGIN:STANDARD
TZOFFSETFROM:+0200
TZOFFSETTO:+0100
TZNAME:CET
DTSTART:20251026T010000
END:STANDARD
END:VTIMEZONE
BEGIN:VEVENT
DTSTART;VALUE=DATE:20240226
DTEND;VALUE=DATE:20240227
DTSTAMP:20260424T084025
CREATED:20240225T162504Z
LAST-MODIFIED:20240314T170710Z
UID:1709-1708905600-1708991999@amiciaa.org
SUMMARY: QUANTO COSTA APPARTENERE AD A.A.
DESCRIPTION:Descrizione:I nuovi venutinon devono pagare alcuna iscrizione per entrare a far parte dell’associazione\,e una volta presa la decisione\,non vi sono altre quote da versare.Gli A.A. che aiutano altri Alcolisti non chiedono mai nulla in cambio.La ricompensa che essi ricevono e assai piu grande è importante del denaro :è la loro stessa sobrieta’ \ntratto da;Conoscere A.A pag.9
URL:https://amiciaa.org/event/quanto-costa-appartenere-ad-a-a/
LOCATION:skipe amiciaa
CATEGORIES:Calendario
END:VEVENT
END:VCALENDAR