BEGIN:VCALENDAR
VERSION:2.0
PRODID:-//AmiciAA Alcolisti Anonimi - ECPv6.15.20//NONSGML v1.0//EN
CALSCALE:GREGORIAN
METHOD:PUBLISH
X-ORIGINAL-URL:https://amiciaa.org
X-WR-CALDESC:Eventi per AmiciAA Alcolisti Anonimi
REFRESH-INTERVAL;VALUE=DURATION:PT1H
X-Robots-Tag:noindex
X-PUBLISHED-TTL:PT1H
BEGIN:VTIMEZONE
TZID:Europe/Rome
BEGIN:DAYLIGHT
TZOFFSETFROM:+0100
TZOFFSETTO:+0200
TZNAME:CEST
DTSTART:20250330T010000
END:DAYLIGHT
BEGIN:STANDARD
TZOFFSETFROM:+0200
TZOFFSETTO:+0100
TZNAME:CET
DTSTART:20251026T010000
END:STANDARD
BEGIN:DAYLIGHT
TZOFFSETFROM:+0100
TZOFFSETTO:+0200
TZNAME:CEST
DTSTART:20260329T010000
END:DAYLIGHT
BEGIN:STANDARD
TZOFFSETFROM:+0200
TZOFFSETTO:+0100
TZNAME:CET
DTSTART:20261025T010000
END:STANDARD
BEGIN:DAYLIGHT
TZOFFSETFROM:+0100
TZOFFSETTO:+0200
TZNAME:CEST
DTSTART:20270328T010000
END:DAYLIGHT
BEGIN:STANDARD
TZOFFSETFROM:+0200
TZOFFSETTO:+0100
TZNAME:CET
DTSTART:20271031T010000
END:STANDARD
END:VTIMEZONE
BEGIN:VEVENT
DTSTART;VALUE=DATE:20260515
DTEND;VALUE=DATE:20260516
DTSTAMP:20260422T133135
CREATED:20260329T162510Z
LAST-MODIFIED:20260329T162510Z
UID:3004-1778803200-1778889599@amiciaa.org
SUMMARY:QUINTO CONCETTO
DESCRIPTION:Riconosciamo che le minoranze possono avere spesso ragione; che\, anche quando sono parzialmente o completamente in errore\, esse adempiono comunque un valido servizio perché obbligano a un approfondito dibattito su materie importanti. \nTratto da: “Il compagno di viaggio” pag.213
URL:https://amiciaa.org/event/quinto-concetto-2/
LOCATION:skipe amiciaa
CATEGORIES:Calendario
ORGANIZER;CN="gruppo on line AmiciAA":MAILTO:info@amiciaa.org
END:VEVENT
BEGIN:VEVENT
DTSTART;VALUE=DATE:20260517
DTEND;VALUE=DATE:20260518
DTSTAMP:20260422T133135
CREATED:20260329T162609Z
LAST-MODIFIED:20260329T162609Z
UID:3006-1778976000-1779062399@amiciaa.org
SUMMARY:GLI OSTACOLI SUL NOSTRO CAMMINO
DESCRIPTION:Viviamo in un mondo pieno di invidia. Ne siamo più o meno contagiati tutti. Da questo difetto dobbiamo pur trarre una contorta\, eppure chiara\, soddisfazione. Altrimenti perché sprecheremmo tanto di quel tempo a desiderare ciò che non abbiamo anziché darci da fare per ottenerlo\, oppure a cercare rabbiosamente delle qualità che non avremo mai\, invece di adattarci alla realtà e accettarla? \nTratto da: “Come la vede Bill” pag.131
URL:https://amiciaa.org/event/gli-ostacoli-sul-nostro-cammino-2/
LOCATION:skipe amiciaa
CATEGORIES:Calendario
ORGANIZER;CN="gruppo on line AmiciAA":MAILTO:info@amiciaa.org
END:VEVENT
BEGIN:VEVENT
DTSTART;VALUE=DATE:20260518
DTEND;VALUE=DATE:20260519
DTSTAMP:20260422T133135
CREATED:20260329T162709Z
LAST-MODIFIED:20260329T162709Z
UID:3008-1779062400-1779148799@amiciaa.org
SUMMARY:QUINTO PASSO
DESCRIPTION:Quante volte abbiamo sentito delle persone affermare in buona fede di essere guidate da Dio\, mentre era più che evidente che si sbagliavano di grosso. Mancando sia di esperienza che di umilta’\, avevano ingannato se stesse e potevano giustificare anche la più grande delle sciocchezze sostenendo che era ciò che Dio aveva detto loro. \nTratto da: “Dodici Passi Dodici Tradizioni” pag.85
URL:https://amiciaa.org/event/quinto-passo-10/
LOCATION:skipe amiciaa
CATEGORIES:Calendario
ORGANIZER;CN="gruppo on line AmiciAA":MAILTO:info@amiciaa.org
END:VEVENT
BEGIN:VEVENT
DTSTART;VALUE=DATE:20260520
DTEND;VALUE=DATE:20260521
DTSTAMP:20260422T133135
CREATED:20260329T162819Z
LAST-MODIFIED:20260329T162819Z
UID:3010-1779235200-1779321599@amiciaa.org
SUMMARY:RESPINGERE L’IRA E IL RANCORE
DESCRIPTION:Descrizione:” Ostillità\, risentimento\, rabbia\, qualsiasi parola vogliate usare per descrivere questo sentimento\, esso sembra avere una stretta connessione con l’intossicazione e forse una ancora più profonda con l’alcolismo. Per esempio\, alcuni medici hanno chiesto a un esteso numero di alcolisti perchè si ubriacassero\, e hanno riscontrato che una delle risposte più frequenti era:” Così posso dire a qualcuno di togliersi dai piedi”. In altre parole\, se erano ubriachi si sentivano capaci e liberi di esprimere la loro rabbia\, cosa che non potevano fare se erano sobri. Qualcuno ha suggerito l’ipotesi che ci possa essere un sottile\, indeterminato rapporto biochimico tra l’alcol e il tipo di cambiamenti fisici che accompagnano l’ira”. \nTratto da: Vivere sobri pag. 58.
URL:https://amiciaa.org/event/respingere-lira-e-il-rancore-7/
LOCATION:skipe amiciaa
CATEGORIES:Calendario
ORGANIZER;CN="gruppo on line AmiciAA":MAILTO:info@amiciaa.org
END:VEVENT
BEGIN:VEVENT
DTSTART;VALUE=DATE:20260522
DTEND;VALUE=DATE:20260523
DTSTAMP:20260422T133135
CREATED:20260329T162924Z
LAST-MODIFIED:20260329T162924Z
UID:3012-1779408000-1779494399@amiciaa.org
SUMMARY:PERCHE’ E’ NECESSARIO AVER FATTO IL SECONDO E IL TERZO PASSO PER POTER AFFRONTARE IL QUINTO?
DESCRIPTION:Il secondo e terzo Passo inducono a credere nell’aiuto che si può ricevere dagli altri e dal Potere Superiore (se si applica la propria buona volontà). Per persone chiuse come gli alcolisti che tendono a nascondere tutto anche a se stessi questo è un presupposto essenziale. Se non si è convinti che l’altro è lì per dare aiuto le difficoltà ad aprirsi aumentano in maniera smisurata. \nTratto da: “Il compagno di viaggio” pag.54
URL:https://amiciaa.org/event/perche-e-necessario-aver-fatto-il-secondo-e-il-terzo-passo-per-poter-affrontare-il-quinto-2/
LOCATION:skipe amiciaa
CATEGORIES:Calendario
ORGANIZER;CN="gruppo on line AmiciAA":MAILTO:info@amiciaa.org
END:VEVENT
BEGIN:VEVENT
DTSTART;VALUE=DATE:20260524
DTEND;VALUE=DATE:20260525
DTSTAMP:20260422T133135
CREATED:20260329T163020Z
LAST-MODIFIED:20260329T163020Z
UID:3014-1779580800-1779667199@amiciaa.org
SUMMARY:ATTIVITA’ AL DI FUORI DI A.A.
DESCRIPTION:Il secondo e terzo Passo inducono a credere nell’aiuto che si può ricevere dagli altri e dal Potere Superiore (se si applica la propria buona volontà). Per persone chiuse come gli alcolisti che tendono a nascondere tutto anche a se stessi questo è un presupposto essenziale. Se non si è convinti che l’altro è lì per dare aiuto le difficoltà ad aprirsi aumentano in maniera smisurata. \nTratto da: “Vivere Sobri” pag.29
URL:https://amiciaa.org/event/attivita-al-di-fuori-di-a-a-4/
LOCATION:skipe amiciaa
CATEGORIES:Calendario
ORGANIZER;CN="gruppo on line AmiciAA":MAILTO:info@amiciaa.org
END:VEVENT
BEGIN:VEVENT
DTSTART;VALUE=DATE:20260525
DTEND;VALUE=DATE:20260526
DTSTAMP:20260422T133135
CREATED:20260329T163121Z
LAST-MODIFIED:20260329T163121Z
UID:3016-1779667200-1779753599@amiciaa.org
SUMMARY:RECUPERARSI DONANDO
DESCRIPTION:Nei primi sei mesi della mia sobrietà ho lavorato sodo con molti alcolisti. Nessuno fu ricettivo. Tuttavia questo lavoro mi mantenne sobrio. Non si trattava del fatto che quegli alcolisti mi dessero qualcosa. La mia stabilità veniva dal cercare di dare\, non dal chiedere per ricevere. \nTratto da: “Come la vede Bill” pag.275
URL:https://amiciaa.org/event/recuperarsi-donando-2/
LOCATION:skipe amiciaa
CATEGORIES:Calendario
ORGANIZER;CN="gruppo on line AmiciAA":MAILTO:info@amiciaa.org
END:VEVENT
BEGIN:VEVENT
DTSTART;VALUE=DATE:20260527
DTEND;VALUE=DATE:20260528
DTSTAMP:20260422T133135
CREATED:20260329T163239Z
LAST-MODIFIED:20260329T163239Z
UID:3018-1779840000-1779926399@amiciaa.org
SUMMARY:USARE IL PIANO DELLE 24 ORE
DESCRIPTION:Per prima cosa cerchiamo di vivere nel momento presente proprio per rimanere sobri\, e funziona. Una volta che quest’idea è diventata parte del nostro modo di pensare scopriamo che vivere la vita in segmenti di 24 ore è un modo efficace e soddisfacente per affrontare anche molti altri problemi. \nTratto da: “Vivere Sobri” pag.17
URL:https://amiciaa.org/event/usare-il-piano-delle-24-ore-6/
LOCATION:skipe amiciaa
CATEGORIES:Calendario
ORGANIZER;CN="gruppo on line AmiciAA":MAILTO:info@amiciaa.org
END:VEVENT
BEGIN:VEVENT
DTSTART;VALUE=DATE:20260529
DTEND;VALUE=DATE:20260530
DTSTAMP:20260422T133135
CREATED:20260329T163342Z
LAST-MODIFIED:20260329T163342Z
UID:3020-1780012800-1780099199@amiciaa.org
SUMMARY:QUINTA TRADIZIONE
DESCRIPTION:Descrizione: “Sarebbe stato davvero pericoloso se avessimo cominciato a chiamare “antiproibizionisti” o “proibizionisti” certi gruppi\, altri ancora “cattolici o “protestanti” . Il gruppo A.A. doveva mantenersi strettamente fedele al suo scopo per non perdersi irrimediabilmente . Il suo unico obbiettivo doveva essere la sobrietà’ . In tutti gli altri campi c’era assoluta libertà di decisione e di azione. Ogni gruppo aveva il diritto di sbagliare. \nTratto da “Dodici passi dodici tradizioni” pag.212
URL:https://amiciaa.org/event/quinta-tradizione-8/
LOCATION:skipe amiciaa
CATEGORIES:Calendario
ORGANIZER;CN="gruppo on line AmiciAA":MAILTO:info@amiciaa.org
END:VEVENT
BEGIN:VEVENT
DTSTART;VALUE=DATE:20260531
DTEND;VALUE=DATE:20260601
DTSTAMP:20260422T133135
CREATED:20260329T163508Z
LAST-MODIFIED:20260329T163508Z
UID:3022-1780185600-1780271999@amiciaa.org
SUMMARY:CI PENSERO’ DOMANI
DESCRIPTION:Ho ingaggiato la mia battaglia contro le mie ossessioni nel momento in cui in A.A. ho accettato di abbandonare la bottiglia\, ho accettato di imparare a crescere\, ho accettato di chiedere aiuto\, ho accettato di permettere agli altri\, gli amici del gruppo\, di aiutarmi a demolire le barricate che avevo costruito. \nTratto da: “Alcolisti Anonimi” pag.323
URL:https://amiciaa.org/event/ci-pensero-domani-3/
LOCATION:skipe amiciaa
CATEGORIES:Calendario
ORGANIZER;CN="gruppo on line AmiciAA":MAILTO:info@amiciaa.org
END:VEVENT
END:VCALENDAR