BEGIN:VCALENDAR
VERSION:2.0
PRODID:-//AmiciAA Alcolisti Anonimi - ECPv6.15.20//NONSGML v1.0//EN
CALSCALE:GREGORIAN
METHOD:PUBLISH
X-ORIGINAL-URL:https://amiciaa.org
X-WR-CALDESC:Eventi per AmiciAA Alcolisti Anonimi
REFRESH-INTERVAL;VALUE=DURATION:PT1H
X-Robots-Tag:noindex
X-PUBLISHED-TTL:PT1H
BEGIN:VTIMEZONE
TZID:Europe/Rome
BEGIN:DAYLIGHT
TZOFFSETFROM:+0100
TZOFFSETTO:+0200
TZNAME:CEST
DTSTART:20230326T010000
END:DAYLIGHT
BEGIN:STANDARD
TZOFFSETFROM:+0200
TZOFFSETTO:+0100
TZNAME:CET
DTSTART:20231029T010000
END:STANDARD
BEGIN:DAYLIGHT
TZOFFSETFROM:+0100
TZOFFSETTO:+0200
TZNAME:CEST
DTSTART:20240331T010000
END:DAYLIGHT
BEGIN:STANDARD
TZOFFSETFROM:+0200
TZOFFSETTO:+0100
TZNAME:CET
DTSTART:20241027T010000
END:STANDARD
BEGIN:DAYLIGHT
TZOFFSETFROM:+0100
TZOFFSETTO:+0200
TZNAME:CEST
DTSTART:20250330T010000
END:DAYLIGHT
BEGIN:STANDARD
TZOFFSETFROM:+0200
TZOFFSETTO:+0100
TZNAME:CET
DTSTART:20251026T010000
END:STANDARD
BEGIN:DAYLIGHT
TZOFFSETFROM:+0100
TZOFFSETTO:+0200
TZNAME:CEST
DTSTART:20260329T010000
END:DAYLIGHT
BEGIN:STANDARD
TZOFFSETFROM:+0200
TZOFFSETTO:+0100
TZNAME:CET
DTSTART:20261025T010000
END:STANDARD
END:VTIMEZONE
BEGIN:VEVENT
DTSTART;VALUE=DATE:20241211
DTEND;VALUE=DATE:20241212
DTSTAMP:20260423T221840
CREATED:20241125T153202Z
LAST-MODIFIED:20241125T153202Z
UID:2202-1733875200-1733961599@amiciaa.org
SUMMARY:IL DONO CONDIVISO
DESCRIPTION:Descrizione: “A.A. è molto di più di una serie di princípi: è un’associazione di alcolisti in azione. Dobbiamo portare il messaggio\, altrimenti noi stessi possiamo inaridire e quelli cui non è stata data la verità possono morire.” \nTratto da: “Come la vede Bill” pag.13
URL:https://amiciaa.org/event/il-dono-condiviso/
LOCATION:skipe amiciaa
CATEGORIES:Calendario
ORGANIZER;CN="gruppo on line AmiciAA":MAILTO:info@amiciaa.org
END:VEVENT
BEGIN:VEVENT
DTSTART;VALUE=DATE:20241213
DTEND;VALUE=DATE:20241214
DTSTAMP:20260423T221840
CREATED:20241125T154024Z
LAST-MODIFIED:20241125T154024Z
UID:2205-1734048000-1734134399@amiciaa.org
SUMMARY:DODICESIMO CONCETT0
DESCRIPTION:Descrizione:”Questo Concetto ribadisce in modo inequivocabile che le strutture di A.A. sono al servizio dei Gruppi e non hanno alcun potere spirituale su di loro\, che in A.A. l’importante è il confronto\, l’ascolto attento di chi si prende in carico il benessere altrui\, la cancellazione di ogni forma di punizione o prevaricazione.” \nTratto da: “Il compagno di viaggio” pag.263
URL:https://amiciaa.org/event/dodicesimo-concett0/
LOCATION:skipe amiciaa
CATEGORIES:Calendario
ORGANIZER;CN="gruppo on line AmiciAA":MAILTO:info@amiciaa.org
END:VEVENT
BEGIN:VEVENT
DTSTART;VALUE=DATE:20241215
DTEND;VALUE=DATE:20241216
DTSTAMP:20260423T221840
CREATED:20241125T154421Z
LAST-MODIFIED:20241125T154421Z
UID:2207-1734220800-1734307199@amiciaa.org
SUMMARY:ESSERE GRATI
DESCRIPTION:Descrizione: “Dal momento che tanta parte dei nostri pensieri era spesso strettamente associata con il nostro stile di vita di alcolisti\, abbiamo scoperto che vale la pena di considerare attentamente le nostre abitudini mentali e trovare altri e migliori modi di utilizzare la nostra mente.” \nTratto da: “Vivere Sobri” pag. 72
URL:https://amiciaa.org/event/essere-grati/
LOCATION:skipe amiciaa
CATEGORIES:Calendario
ORGANIZER;CN="gruppo on line AmiciAA":MAILTO:info@amiciaa.org
END:VEVENT
BEGIN:VEVENT
DTSTART;VALUE=DATE:20241216
DTEND;VALUE=DATE:20241217
DTSTAMP:20260423T221840
CREATED:20241125T155028Z
LAST-MODIFIED:20241125T155028Z
UID:2210-1734307200-1734393599@amiciaa.org
SUMMARY:LAVORARE CON GLI ALTRI
DESCRIPTION:Descrizione:”Per il tipo di alcolista capace e desideroso di ristabilirsi occorre ed è auspicabile un po di carità\, nel senso comune del termine. Quelli che implorano denaro e protezione prima di debellare l’alcol sono su una strada sbagliata. Tuttavia facciamo l’impossibile per procurarci a vicenda queste cose\, quando ne abbiamo davvero bisogno. Ciò può sembrare incoerente\, ma noi non lo riteniamo tale.” \nTratto da: “Alcolisti Anonimi” pag.97
URL:https://amiciaa.org/event/lavorare-con-gli-altri-7/
LOCATION:skipe amiciaa
CATEGORIES:Calendario
ORGANIZER;CN="gruppo on line AmiciAA":MAILTO:info@amiciaa.org
END:VEVENT
BEGIN:VEVENT
DTSTART;VALUE=DATE:20241218
DTEND;VALUE=DATE:20241219
DTSTAMP:20260423T221840
CREATED:20241125T160709Z
LAST-MODIFIED:20241125T160709Z
UID:2212-1734480000-1734566399@amiciaa.org
SUMMARY:COSA SI INTENDE PER "RISVEGLIO SPIRITUALE"?
DESCRIPTION:Descrizione:”Pur essendoci moltissime definizioni\, una che può essere proposta è questa: cominciare (o ricominciare) a pensare che tutti i propri comportamenti debbano essere ispirati non a un improbabile tornaconto ma a dei principi validi per tutti. Il risultato immediato del risveglio spirituale è l’inizio del cammino verso la serenità e la sobrietà emotiva.” \nTratto da: “Il compagno di viaggio” pag.106
URL:https://amiciaa.org/event/cosa-si-intende-per-risveglio-spirituale/
LOCATION:skipe amiciaa
CATEGORIES:Calendario
ORGANIZER;CN="gruppo on line AmiciAA":MAILTO:info@amiciaa.org
END:VEVENT
BEGIN:VEVENT
DTSTART;VALUE=DATE:20241220
DTEND;VALUE=DATE:20241221
DTSTAMP:20260423T221840
CREATED:20241125T161225Z
LAST-MODIFIED:20241125T161225Z
UID:2214-1734652800-1734739199@amiciaa.org
SUMMARY:DI NUOVO CITTADINI
DESCRIPTION:Descrizione:”Comunque\, prima o poi\, ognuno di noi deve affrontare altri doveri: verso la famiglia\, gli amici\, il Paese. Come ricorderai\, lo stesso Dodicesimo Passo suggerisce “di mettere in pratica questi princípi in tutti i campi della nostra vita”. Penso\, quindi\, che spetti a ciascuno decidere\, secondo la propria coscienza\, di fare o meno quel particolare lavoro da Dodicesimo Passo. Nessuno può dirti con certezza cosa fare e quando farlo.” \nTratto da: “Come la vede Bill” pag.21
URL:https://amiciaa.org/event/di-nuovo-cittadini/
LOCATION:skipe amiciaa
CATEGORIES:Calendario
ORGANIZER;CN="gruppo on line AmiciAA":MAILTO:info@amiciaa.org
END:VEVENT
BEGIN:VEVENT
DTSTART;VALUE=DATE:20241222
DTEND;VALUE=DATE:20241223
DTSTAMP:20260423T221840
CREATED:20241125T161813Z
LAST-MODIFIED:20241125T161813Z
UID:2216-1734825600-1734911999@amiciaa.org
SUMMARY:USCIRE DALLA TRAPPOLA DEL "SE"
DESCRIPTION:Descrizione:”Più volte abbiamo riscontrato che non possiamo restare sobri a lungo per amore d’una moglie\, d’un marito\, dei figli\, d’un fidanzato\, dei genitori o d’un altro parente o amico\, e neppure nell’interesse del lavoro né per fare piacere al principale (o al dottore o al giudice o al creditore) né per alcun altro al di fuori di noi stessi.” \nTratto da: “
URL:https://amiciaa.org/event/uscire-dalla-trappola-del-se-2/
LOCATION:skipe amiciaa
CATEGORIES:Calendario
ORGANIZER;CN="gruppo on line AmiciAA":MAILTO:info@amiciaa.org
END:VEVENT
BEGIN:VEVENT
DTSTART;VALUE=DATE:20241223
DTEND;VALUE=DATE:20241224
DTSTAMP:20260423T221840
CREATED:20241125T162433Z
LAST-MODIFIED:20241125T162433Z
UID:2218-1734912000-1734998399@amiciaa.org
SUMMARY:DODICESIMO PASSO
DESCRIPTION:Descrizione:”Persino l’ultimo dei nuovi venuti trova compensi mai sognati quando cerca di aiutare un fratello alcolista\, qualcuno che è ancora più cieco di lui. Questo è davvero il genere di dare che non chiede veramente nulla in cambio. Egli non si aspetta che il fratello che soffre lo ripaghi e neppure che lo ami.” \nTratto da: “Dodici Passi Dodici Tradizioni” pag.160
URL:https://amiciaa.org/event/dodicesimo-passo-4/
LOCATION:skipe amiciaa
CATEGORIES:Calendario
ORGANIZER;CN="gruppo on line AmiciAA":MAILTO:info@amiciaa.org
END:VEVENT
BEGIN:VEVENT
DTSTART;VALUE=DATE:20241225
DTEND;VALUE=DATE:20241226
DTSTAMP:20260423T221840
CREATED:20241125T162825Z
LAST-MODIFIED:20241125T162825Z
UID:2220-1735084800-1735171199@amiciaa.org
SUMMARY:CHE COSA SIGNIFICA "PORTARE IL MESSAGGIO?"
DESCRIPTION:Descrizione:”Spesso costituisce la prima forma di approccio con una persona che beve. Si tratta di mostrare che è possibile smettere con l’aiuto di altri che hanno lo stesso problema\, evidenziando il miglioramento della qualità della vita\, portato non solo dall’astinenza ma dal tentare di vivere in un altro modo.” \nTratto da:”Il compagno di viaggio” pag.103
URL:https://amiciaa.org/event/che-cosa-significa-portare-il-messaggio/
LOCATION:skipe amiciaa
CATEGORIES:Calendario
ORGANIZER;CN="gruppo on line AmiciAA":MAILTO:info@amiciaa.org
END:VEVENT
BEGIN:VEVENT
DTSTART;VALUE=DATE:20241227
DTEND;VALUE=DATE:20241228
DTSTAMP:20260423T221840
CREATED:20241125T163124Z
LAST-MODIFIED:20241125T163124Z
UID:2222-1735257600-1735343999@amiciaa.org
SUMMARY:VERSO LA MATURITA'
DESCRIPTION:Descrizione:”Credo che molti A.A. anziani\, che hanno sottoposto la nostra “terapia contro l’alcol” a prove difficili ma coronate dal successo\, si rendano conto che ancora manca loro la sobrietà emotiva. Probabilmente saranno la punta di diamante per il prossimo grande sviluppo di A.A.: lo sviluppo di una maturità ancora più grande e sincera\, e di un maggiore equilibrio\, vale a dire umiltà\, nei rapporti con noi stessi\, con i nostri simili e con Dio.” \nTratto da:”Come la vede Bill” pag.244
URL:https://amiciaa.org/event/verso-la-maturita/
LOCATION:skipe amiciaa
CATEGORIES:Calendario
ORGANIZER;CN="gruppo on line AmiciAA":MAILTO:info@amiciaa.org
END:VEVENT
BEGIN:VEVENT
DTSTART;VALUE=DATE:20241229
DTEND;VALUE=DATE:20241230
DTSTAMP:20260423T221840
CREATED:20241125T163624Z
LAST-MODIFIED:20241125T163855Z
UID:2225-1735430400-1735516799@amiciaa.org
SUMMARY:UNA SOLUZIONE ESISTE
DESCRIPTION:Descrizione:”Noi\, di Alcolisti Anonimi\, conosciamo moltissime persone d’ambo i sessi che si sono trovate\, a un certo momento della loro esistenza\, così disperate come si trovò Bill. Si sono salvate quasi tutte. Hanno infatti trovato una soluzione al problema dell’alcol.Siamo dei comunissimi cittadini. Tutti i livelli sociali del nostro Paese e la maggior parte dei mestieri e delle professioni sono rappresentati nella nostra associazione\, così pure tutti i gruppi politici\, economici\, sociali e religiosi. Gente che\, di solito\, non si mischia. Ma tra di noi esiste un senso di fratellanza\, di amicizia e di comprensione così meraviglioso che non si può descrivere.” \nTratto da: “Alcolisti Anonimi” pag.17 \n 
URL:https://amiciaa.org/event/una-soluzione-esiste-2/
LOCATION:skipe amiciaa
CATEGORIES:Calendario
ORGANIZER;CN="gruppo on line AmiciAA":MAILTO:info@amiciaa.org
END:VEVENT
BEGIN:VEVENT
DTSTART;VALUE=DATE:20241230
DTEND;VALUE=DATE:20241231
DTSTAMP:20260423T221840
CREATED:20241125T164410Z
LAST-MODIFIED:20241125T164410Z
UID:2227-1735516800-1735603199@amiciaa.org
SUMMARY:DIFFIDARE DELLA SICUREZZA
DESCRIPTION:Descrizione:”Alcuni di noi ripetutamente scoprono\, anche\, d’aver spesso fatto il passo più lungo della gamba. Probabilmente potremmo imparare molto\, riguardo a questo argomento\, da certi malati di cuore ormai guariti. Molti di essi si danno da fare per essere vigorosamente e produttivamente attivi in modo misurato\, evitando il sovraffaticamento e la frenetica schiavitù dell’orologio.” \nTratto da:”Vivere Sobri” pag.69
URL:https://amiciaa.org/event/diffidare-della-sicurezza/
LOCATION:skipe amiciaa
CATEGORIES:Calendario
ORGANIZER;CN="gruppo on line AmiciAA":MAILTO:info@amiciaa.org
END:VEVENT
BEGIN:VEVENT
DTSTART;VALUE=DATE:20250101
DTEND;VALUE=DATE:20250102
DTSTAMP:20260423T221840
CREATED:20241222T081427Z
LAST-MODIFIED:20241222T082105Z
UID:2235-1735689600-1735775999@amiciaa.org
SUMMARY:PRIMO PASSO
DESCRIPTION:“Abbiamo ammesso di essere impotenti di fronte all’alcol e che le nostre vite erano divenute incontrollabili.” Chi è disposto ad ammettere una completa sconfitta? Praticamente nessuno\, è ovvio. Tutti gli istinti naturali si ribellano all’idea di un’impotenza personale. E’ veramente terribile ammettere che\, bicchiere alla mano\, abbiamo distorto le nostre menti sino ad arrivare a una tale ossessione per un modo di bere distruttivo che soltanto un atto della Provvidenza può liberarcene. \nTratto da : “Dodici Passi Dodici Tradizioni”  pag.25
URL:https://amiciaa.org/event/primo-passo-3/
LOCATION:skipe amiciaa
CATEGORIES:Calendario
ORGANIZER;CN="gruppo on line AmiciAA":MAILTO:info@amiciaa.org
END:VEVENT
BEGIN:VEVENT
DTSTART;VALUE=DATE:20250103
DTEND;VALUE=DATE:20250104
DTSTAMP:20260423T221840
CREATED:20241222T082243Z
LAST-MODIFIED:20241222T082243Z
UID:2240-1735862400-1735948799@amiciaa.org
SUMMARY:CAMBIAMENTO DI PERSONALITA'
DESCRIPTION:Spesso si è detto che noi\, alcolisti anonimi\, siamo interessati solo all’alcolismo. Non è vero. Per sopravvivere\, dobbiamo smettere di bere. Ma chiunque conosca da vicino la personalità dell’alcolista sa che un vero bevitore non smetterà mai di bere in modo permanente senza un cambiamento profondo della sua personalità. \nTratto da: “Come la vede Bill” pag. 1 \n 
URL:https://amiciaa.org/event/cambiamento-di-personalita/
LOCATION:skipe amiciaa
CATEGORIES:Calendario
ORGANIZER;CN="gruppo on line AmiciAA":MAILTO:info@amiciaa.org
END:VEVENT
BEGIN:VEVENT
DTSTART;VALUE=DATE:20250105
DTEND;VALUE=DATE:20250106
DTSTAMP:20260423T221840
CREATED:20241222T082624Z
LAST-MODIFIED:20241222T082624Z
UID:2242-1736035200-1736121599@amiciaa.org
SUMMARY:VIVI E LASCIA VIVERE
DESCRIPTION:Quando abbiamo smesso di bere\, all’inizio\, è stato un sollievo scoprire che le persone che incontravamo in A.A. – alcolisti recuperati – sembravano molto diverse. Esse reagivano a noi non con un atteggiamento critico e sospettoso\, ma con comprensione e interessamento. \nTratto da: “Vivere Sobri” pag. 23
URL:https://amiciaa.org/event/vivi-e-lascia-vivere-2/
LOCATION:skipe amiciaa
CATEGORIES:Calendario
ORGANIZER;CN="gruppo on line AmiciAA":MAILTO:info@amiciaa.org
END:VEVENT
BEGIN:VEVENT
DTSTART;VALUE=DATE:20250106
DTEND;VALUE=DATE:20250107
DTSTAMP:20260423T221840
CREATED:20241222T083041Z
LAST-MODIFIED:20241222T083041Z
UID:2244-1736121600-1736207999@amiciaa.org
SUMMARY:CHE COSA PROPONE IL PRIMO PASSO
DESCRIPTION:Per giungere ad ammettere e ad accettare la propria impotenza di fronte all’alcol occorrono una resa incondizionata e un abbandono totale. Solo così si possono superare le più radicate riserve mentali\, la fondamentale negazione del problema\, e ci si può convincere che non si potrà mai controllare il proprio bere. Per questo il primo Passo richiede un’azione basilare:riconoscere ed accettare il proprio problema senza riserve. \nTratto da: “Il compagno di viaggio” pag.23
URL:https://amiciaa.org/event/che-cosa-propone-il-primo-passo-2/
LOCATION:skipe amiciaa
CATEGORIES:Calendario
ORGANIZER;CN="gruppo on line AmiciAA":MAILTO:info@amiciaa.org
END:VEVENT
BEGIN:VEVENT
DTSTART;VALUE=DATE:20250108
DTEND;VALUE=DATE:20250109
DTSTAMP:20260423T221840
CREATED:20241222T083945Z
LAST-MODIFIED:20241222T083945Z
UID:2246-1736294400-1736380799@amiciaa.org
SUMMARY:CI PENSERO' DOMANI
DESCRIPTION:Ho ingaggiato la mia battaglia contro le mie ossessioni nel momento in cui in A.A. ho accettato di abbandonare la bottiglia\, ho accettato di imparare a crescere\, ho accettato di chiedere aiuto\, ho accettato di permettere agli altri\, gli amici del gruppo\, di aiutarmi a demolire le barricate che avevo costruito. \nTratto da: “Alcolisti Anonimi” pag.323
URL:https://amiciaa.org/event/ci-pensero-domani/
LOCATION:skipe amiciaa
CATEGORIES:Calendario
ORGANIZER;CN="gruppo on line AmiciAA":MAILTO:info@amiciaa.org
END:VEVENT
BEGIN:VEVENT
DTSTART;VALUE=DATE:20250112
DTEND;VALUE=DATE:20250113
DTSTAMP:20260423T221840
CREATED:20241222T085124Z
LAST-MODIFIED:20241222T085124Z
UID:2252-1736640000-1736726399@amiciaa.org
SUMMARY:PRIMA TRADIZIONE
DESCRIPTION:L’unità di Alcolisti Anonimi è la qualità che la nostra associazione ha più cara. Le nostre vite\, le vite di tutti quelli che verranno\, dipendono direttamente da essa. O restiamo uniti o A.A. muore. Senza unità\, il cuore di A. A cesserebbe di battere; le nostre arterie mondiali non porterebbero più la grazia vivificante di Dio; il dono che Egli ci ha fatto verrebbe sprecato inutilmente.  \nTratto da: “Dodici Passi Dodici Tradizioni” pag.187
URL:https://amiciaa.org/event/prima-tradizione-4/
LOCATION:skipe amiciaa
CATEGORIES:Calendario
ORGANIZER;CN="gruppo on line AmiciAA":MAILTO:info@amiciaa.org
END:VEVENT
BEGIN:VEVENT
DTSTART;VALUE=DATE:20250113
DTEND;VALUE=DATE:20250114
DTSTAMP:20260423T221840
CREATED:20241222T085520Z
LAST-MODIFIED:20241222T085520Z
UID:2254-1736726400-1736812799@amiciaa.org
SUMMARY:IL PROBLEMA E' NELLA NOSTRA MENTE
DESCRIPTION:Sappiamo che se l’alcolista non si mette a bere\, come può fare per mesi e anni\, le sue reazioni sono simili a quelle degli altri uomini. Sappiamo ugualmente che se beve dell’alcol\, non importa sotto quale forma\, accade qualcosa nel suo corpo e nella sua mente che gli impedisce virtualmente di fermarsi. L’esperienza di ogni alcolista può confermare abbondantemente tutto ciò. \nTratto da: “Come la vede Bill” pag. 130
URL:https://amiciaa.org/event/il-problema-e-nella-nostra-mente/
LOCATION:skipe amiciaa
CATEGORIES:Calendario
ORGANIZER;CN="gruppo on line AmiciAA":MAILTO:info@amiciaa.org
END:VEVENT
BEGIN:VEVENT
DTSTART;VALUE=DATE:20250115
DTEND;VALUE=DATE:20250116
DTSTAMP:20260423T221840
CREATED:20241222T085927Z
LAST-MODIFIED:20241222T085927Z
UID:2256-1736899200-1736985599@amiciaa.org
SUMMARY:DIFFIDARE DALLA SICUREZZA
DESCRIPTION:Molti bevitori (alcolisti e non) mutano uno stato interiore di sconforto con uno di benessere mediante il semplice atto del bere.Questo modo di passare dal dolore al piacere è stato descritto come “la fuga nel bicchiere”. Ma migliaia e migliaia di noi sanno che spesso erano già in un stato di felicità quando assumevano alcol. Infatti\, quando rivedono attentamente i propri ricordi di alcolisti\, molti di noi si accorgono che spesso bevevano per intensificare un già esistente stato di esaltazione.Da ciò nasce un ulteriore suggerimento: siate particolarmente cauti nei momenti di maggiore contentezza o nei momenti in cui vi sentite particolarmente bene. \nTratto da: “Vivere sobri” pag.66
URL:https://amiciaa.org/event/diffidare-dalla-sicurezza-3/
LOCATION:skipe amiciaa
CATEGORIES:Calendario
ORGANIZER;CN="gruppo on line AmiciAA":MAILTO:info@amiciaa.org
END:VEVENT
BEGIN:VEVENT
DTSTART;VALUE=DATE:20250117
DTEND;VALUE=DATE:20250118
DTSTAMP:20260423T221840
CREATED:20241222T084257Z
LAST-MODIFIED:20241222T090409Z
UID:2248-1737072000-1737158399@amiciaa.org
SUMMARY:PRIMO PASSO
DESCRIPTION:Perché tanta insistenza sul fatto che ogni A.A. deve per prima cosa toccare il proprio fondo? La risposta è che ben poche persone cercheranno di mettere in pratica sinceramente il Programma di A.A. se prima non l’hanno toccato. Perché mettere in pratica i rimanenti undici Passi significa adottare modi di pensare e di agire che quasi nessun alcolista che ancora beve può sognarsi di seguire. \nTratto da: “Dodici passi dodici tradizioni” pag.29
URL:https://amiciaa.org/event/primo-passo-4/
LOCATION:skipe amiciaa
CATEGORIES:Calendario
ORGANIZER;CN="gruppo on line AmiciAA":MAILTO:info@amiciaa.org
END:VEVENT
BEGIN:VEVENT
DTSTART;VALUE=DATE:20250119
DTEND;VALUE=DATE:20250120
DTSTAMP:20260423T221840
CREATED:20241222T091617Z
LAST-MODIFIED:20241222T091617Z
UID:2263-1737244800-1737331199@amiciaa.org
SUMMARY:UNA PROSPETTIVA PER VOI
DESCRIPTION:Per la maggior parte della gente normale\, il bere significa giovialità\, socievolezza\, stimolo all’immaginazione. Significa lasciare da parte per un po’ preoccupazioni\, seccature e guai. E lieta intimità con amici e la sensazione che la vita è bella. Ma così non era per noi in quegli ultimi giorni in cui si beveva forte. L’antico senso di piacere era sparito\, non era più che un ricordo. Non potevamo mai ritrovare i momenti felici di un tempo.  \nTratto da: “Alcolisti Anonimi” pag.151
URL:https://amiciaa.org/event/una-prospettiva-per-voi-5/
LOCATION:skipe amiciaa
CATEGORIES:Calendario
ORGANIZER;CN="gruppo on line AmiciAA":MAILTO:info@amiciaa.org
END:VEVENT
BEGIN:VEVENT
DTSTART;VALUE=DATE:20250120
DTEND;VALUE=DATE:20250121
DTSTAMP:20260423T221840
CREATED:20241222T090625Z
LAST-MODIFIED:20241222T090625Z
UID:2258-1737331200-1737417599@amiciaa.org
SUMMARY:PRIMO CONCETTO
DESCRIPTION:Il Primo Concetto afferma che i Gruppi sono responsabili della sopravvivenza di A.A. e del Servizio in A.A.; quindi\, hanno il diritto di dire l’ultima parola sul funzionamento dell’Associazione. La struttura di A.A. è dunque una piramide rovesciata\, in cima alla quale ci sono i Gruppi. Questo Concetto pone quindi in atto la differenza tra autorità conferita e spirito di servizio. \nTratto da: “Il compagno di viaggio” pag.187
URL:https://amiciaa.org/event/primo-concetto-2/
LOCATION:skipe amiciaa
CATEGORIES:Calendario
ORGANIZER;CN="gruppo on line AmiciAA":MAILTO:info@amiciaa.org
END:VEVENT
BEGIN:VEVENT
DTSTART;VALUE=DATE:20250122
DTEND;VALUE=DATE:20250123
DTSTAMP:20260423T221840
CREATED:20241222T091004Z
LAST-MODIFIED:20241222T091004Z
UID:2261-1737504000-1737590399@amiciaa.org
SUMMARY:BENEFICI E MISTERI
DESCRIPTION:L’importanza che gli A.A. attribuiscono alla sobrietà è talvolta fraintesa. Per alcuni questa virtù sembra essere il solo beneficio da trarre dalla nostra associazione. Siamo considerati degli ubriaconi astinenti che per il resto sono migliorati di poco\, se non per niente. Tale supposizione è ben lontana dalla realtà. Sappiamo che nessuno può raggiungere una sobrietà permanente senza un cambiamento totalmente rivoluzionario della sua vita e del suo modo di vedere le cose\, attraverso un risveglio spirituale che riesce a scacciare il desiderio di bere. \nTratto da: “Come la vede Bill” pag. 171
URL:https://amiciaa.org/event/benefici-e-misteri/
LOCATION:skipe amiciaa
CATEGORIES:Calendario
ORGANIZER;CN="gruppo on line AmiciAA":MAILTO:info@amiciaa.org
END:VEVENT
BEGIN:VEVENT
DTSTART;VALUE=DATE:20250124
DTEND;VALUE=DATE:20250125
DTSTAMP:20260423T221840
CREATED:20241222T092154Z
LAST-MODIFIED:20241222T092327Z
UID:2265-1737676800-1737763199@amiciaa.org
SUMMARY:RESPONSABILITA' MORALE
DESCRIPTION:Alcuni si oppongono con forza alla posizione di AA che sostiene che l’alcolismo è una malattia. A loro avviso questo concetto solleva gli alcolisti dalla loro responsabilità morale. Ogni AA sa che questo non è vero. Non usiamo il concetto di malattia per assolvere i nostri membri dalla loro responsabilità. Al contrario\, sottolineiamo la gravità di questa malattia per vincolare colui che ne è affetto a un obbligo morale be più pesante: l’obbligo morale di ricorrere ai Dodici Passi di AA per ristabilirsi.” \nTratto da: “Come la vede Bill” pag. 32
URL:https://amiciaa.org/event/responsabilita-morale-2/
LOCATION:skipe amiciaa
CATEGORIES:Calendario
ORGANIZER;CN="gruppo on line AmiciAA":MAILTO:info@amiciaa.org
END:VEVENT
BEGIN:VEVENT
DTSTART;VALUE=DATE:20250126
DTEND;VALUE=DATE:20250127
DTSTAMP:20260423T221840
CREATED:20241222T092638Z
LAST-MODIFIED:20241222T092638Z
UID:2267-1737849600-1737935999@amiciaa.org
SUMMARY:PRIMO PASSO
DESCRIPTION:Un attacco frontale contro il desiderio di bere non funziona quasi mai. Bisogna riconoscere che una vera e propria follia non può essere vinta dalla pura e semplice “forza di volontà” o dalle sole risorse individuali. Ognuno ha tentato in tutti i modi possibili di fare proprio questo ed ha fallito.  \nTratto da: ” Il compagno di viaggio” pag.26
URL:https://amiciaa.org/event/primo-passo-5/
LOCATION:skipe amiciaa
CATEGORIES:Calendario
ORGANIZER;CN="gruppo on line AmiciAA":MAILTO:info@amiciaa.org
END:VEVENT
BEGIN:VEVENT
DTSTART;VALUE=DATE:20250127
DTEND;VALUE=DATE:20250128
DTSTAMP:20260423T221840
CREATED:20241222T093103Z
LAST-MODIFIED:20250127T191736Z
UID:2269-1737936000-1738022399@amiciaa.org
SUMMARY:PRIMO PASSO
DESCRIPTION:Sotto la sferza dell’alcolismo siamo spinti in A.A e qui scopriamo la natura fatale della nostra condizione. Allora\, e solo allora\, diventiamo così di mente aperta da farci convincere e così ben disposti ad ascoltare\, quanto può esserlo chi sta per morire. Siamo pronti a fare qualsiasi cosa che possa liberarci da questa spietata ossessione. \nTratto da: “Dodici passi dodici tradizioni” pag. 30
URL:https://amiciaa.org/event/primo-passo-6/
LOCATION:skipe amiciaa
CATEGORIES:Calendario
ORGANIZER;CN="gruppo on line AmiciAA":MAILTO:info@amiciaa.org
END:VEVENT
BEGIN:VEVENT
DTSTART;VALUE=DATE:20250129
DTEND;VALUE=DATE:20250130
DTSTAMP:20260423T221840
CREATED:20241222T093443Z
LAST-MODIFIED:20241222T093443Z
UID:2271-1738108800-1738195199@amiciaa.org
SUMMARY:A.A. : la nostra stella polare
DESCRIPTION:Possiamo essere sicuramente grati a ogni istituzione o metodo che cerca di risolvere il problema dell’alcolismo siano essi la medicina\, la religione\, l’educazione o la ricerca. Possiamo mantenerci di mente aperta verso tutti questi tentativi\, e comprensivi quando gli sconsiderati sbagliano. Possiamo ricordare che la stessa A.A. per anni ha funzionato grazie al processo di “prova ed errore” \nTratto da: “Come la vede Bill” pag.147
URL:https://amiciaa.org/event/a-a-la-nostra-stella-polare/
LOCATION:skipe amiciaa
CATEGORIES:Calendario
ORGANIZER;CN="gruppo on line AmiciAA":MAILTO:info@amiciaa.org
END:VEVENT
BEGIN:VEVENT
DTSTART;VALUE=DATE:20250131
DTEND;VALUE=DATE:20250201
DTSTAMP:20260423T221840
CREATED:20250131T175101Z
LAST-MODIFIED:20250131T175101Z
UID:2353-1738281600-1738367999@amiciaa.org
SUMMARY:ANCORA SULL’ALCOLISMO
DESCRIPTION:Descrizione:” La maggior parte di noi era riluttante ad ammettere di essere dei veri alcolisti. A nessuno piace sentirsi mentalmente e fisicamente diverso dagli altri. E’ per questo che non ci si deve meravigliare se la nostra carriera di bevitori è stata caratterizzata da numerosi e vani tentativi di provare che noi potevamo bere come gli altri. La grande ossessione del bevitore fuori dalla norma è che in qualche modo\, un giorno\, riuscirà a controllarsi nel bere.” \nTratto da “Alcolisti anonimi”  pag. 29
URL:https://amiciaa.org/event/ancora-sullalcolismo-2/
LOCATION:skipe amiciaa
CATEGORIES:Calendario
ORGANIZER;CN="gruppo on line AmiciAA":MAILTO:info@amiciaa.org
END:VEVENT
BEGIN:VEVENT
DTSTART;VALUE=DATE:20250202
DTEND;VALUE=DATE:20250203
DTSTAMP:20260423T221840
CREATED:20250126T122514Z
LAST-MODIFIED:20250126T122514Z
UID:2314-1738454400-1738540799@amiciaa.org
SUMMARY:SECONDO PASSO
DESCRIPTION:Descrizione: “Alcolisti Anonimi non ti impone di credere a qualcosa. Tutti i suoi dodici Passi non sono altro che suggerimenti. Per divenire e rimanere sobrio\, non è che tu debba mandar giù questo secondo Passo adesso\, tutto in una volta. Ripensandoci\, io stesso credo di averlo ingoiato a pezzetti.”  Tratto da: Dodici Passi Dodici  Tradizioni\, pag.33
URL:https://amiciaa.org/event/secondo-passo-3/
LOCATION:skipe amiciaa
CATEGORIES:Calendario
ORGANIZER;CN="gruppo on line AmiciAA":MAILTO:info@amiciaa.org
END:VEVENT
END:VCALENDAR