BEGIN:VCALENDAR
VERSION:2.0
PRODID:-//AmiciAA Alcolisti Anonimi - ECPv6.15.20//NONSGML v1.0//EN
CALSCALE:GREGORIAN
METHOD:PUBLISH
X-ORIGINAL-URL:https://amiciaa.org
X-WR-CALDESC:Eventi per AmiciAA Alcolisti Anonimi
REFRESH-INTERVAL;VALUE=DURATION:PT1H
X-Robots-Tag:noindex
X-PUBLISHED-TTL:PT1H
BEGIN:VTIMEZONE
TZID:Europe/Rome
BEGIN:DAYLIGHT
TZOFFSETFROM:+0100
TZOFFSETTO:+0200
TZNAME:CEST
DTSTART:20240331T010000
END:DAYLIGHT
BEGIN:STANDARD
TZOFFSETFROM:+0200
TZOFFSETTO:+0100
TZNAME:CET
DTSTART:20241027T010000
END:STANDARD
BEGIN:DAYLIGHT
TZOFFSETFROM:+0100
TZOFFSETTO:+0200
TZNAME:CEST
DTSTART:20250330T010000
END:DAYLIGHT
BEGIN:STANDARD
TZOFFSETFROM:+0200
TZOFFSETTO:+0100
TZNAME:CET
DTSTART:20251026T010000
END:STANDARD
BEGIN:DAYLIGHT
TZOFFSETFROM:+0100
TZOFFSETTO:+0200
TZNAME:CEST
DTSTART:20260329T010000
END:DAYLIGHT
BEGIN:STANDARD
TZOFFSETFROM:+0200
TZOFFSETTO:+0100
TZNAME:CET
DTSTART:20261025T010000
END:STANDARD
END:VTIMEZONE
BEGIN:VEVENT
DTSTART;VALUE=DATE:20251102
DTEND;VALUE=DATE:20251103
DTSTAMP:20260423T000303
CREATED:20251014T080938Z
LAST-MODIFIED:20251014T081639Z
UID:2769-1762041600-1762127999@amiciaa.org
SUMMARY:UNDICESIMO PASSO
DESCRIPTION:Descrizione: “Abbiamo cercato attraverso la preghiera e la meditazione di migliorare il nostro contatto cosciente con Dio\, come noi potemmo concepirLo\, pregandoLo solo di farci conoscere la Sua volontà nei nostri riguardi e di darci la forza di eseguirla.” \nTratto da:”Dodici passi dodici tradizioni” pag.139
URL:https://amiciaa.org/event/undicesimo-passo-6/
LOCATION:skipe amiciaa
CATEGORIES:Calendario
ORGANIZER;CN="gruppo on line AmiciAA":MAILTO:info@amiciaa.org
END:VEVENT
BEGIN:VEVENT
DTSTART;VALUE=DATE:20251103
DTEND;VALUE=DATE:20251104
DTSTAMP:20260423T000303
CREATED:20251014T081045Z
LAST-MODIFIED:20251014T081045Z
UID:2771-1762128000-1762214399@amiciaa.org
SUMMARY:USARE LA PREGHIERA DELLA SERENITA’
DESCRIPTION:Descrizione:”Non potremo cambiare il nostro alcolismo. Ma non per questo abbiamo supinamente detto: “D’accordo\, io sono un alcolista. Credo che dovrò bere finché non morirò”. Vi era qualche cosa che potevamo cambiare. Non era necessario essere alcolisti sbronzi\, potevamo essere alcolisti sobri. Certo\, questo ha richiesto del coraggio. E abbiamo avuto bisogno di un lampo di buon senso per capire che questo era possibile\, che potevamo cioè cambiare noi stessi.” \nTratto da:”Vivere sobri” pag. 33
URL:https://amiciaa.org/event/usare-la-preghiera-della-serenita-3/
LOCATION:skipe amiciaa
CATEGORIES:Calendario
ORGANIZER;CN="gruppo on line AmiciAA":MAILTO:info@amiciaa.org
END:VEVENT
BEGIN:VEVENT
DTSTART;VALUE=DATE:20251105
DTEND;VALUE=DATE:20251106
DTSTAMP:20260423T000303
CREATED:20251014T081153Z
LAST-MODIFIED:20251014T081153Z
UID:2773-1762300800-1762387199@amiciaa.org
SUMMARY:ALL’OPERA
DESCRIPTION:Descrizione:”Appena svegli\, pensiamo alle ventiquattr’ore che ci attendono. Facciamo un piano e\, prima di cominciare\, noi domandiamo a Dio di guidare i nostri pensieri\, supplicandoLo di allontanare da noi ogni autocommiserazione e comportamento che potrebbe essere disonesto o egoista.” \nTratto da:”Alcolisti Anonimi” pag.85
URL:https://amiciaa.org/event/allopera-5/
LOCATION:skipe amiciaa
CATEGORIES:Calendario
ORGANIZER;CN="gruppo on line AmiciAA":MAILTO:info@amiciaa.org
END:VEVENT
BEGIN:VEVENT
DTSTART;VALUE=DATE:20251107
DTEND;VALUE=DATE:20251108
DTSTAMP:20260423T000303
CREATED:20251014T081321Z
LAST-MODIFIED:20251014T081321Z
UID:2775-1762473600-1762559999@amiciaa.org
SUMMARY:UNDICESIMO PASSO
DESCRIPTION:Descrizione:”Quelli di noi che sono giunti a fare un uso costante della preghiera non riescono più a farne a meno\, come non possono privarsi dell’aria\, del cibo e della luce del sole: e per la stessa ragione. Il corpo soffre quando ci neghiamo l’aria\, la luce o il cibo\, e quando rifuggiamo dalla meditazione e dalla preghiera priviamo nello stesso modo il nostro spirito\, le nostre emozioni e le nostre intuizioni del sostegno di cui hanno un vitale bisogno.” \nTratto da:”Dodici passi dodici tradizioni” pag. 141
URL:https://amiciaa.org/event/undicesimo-passo-7/
LOCATION:skipe amiciaa
CATEGORIES:Calendario
ORGANIZER;CN="gruppo on line AmiciAA":MAILTO:info@amiciaa.org
END:VEVENT
BEGIN:VEVENT
DTSTART;VALUE=DATE:20251109
DTEND;VALUE=DATE:20251110
DTSTAMP:20260423T000303
CREATED:20251014T081535Z
LAST-MODIFIED:20251014T081535Z
UID:2777-1762646400-1762732799@amiciaa.org
SUMMARY:UNDICESIMA TRADIZIONE
DESCRIPTION:Descrizione:”La politica delle nostre relazioni pubbliche è basata sull’attrazione piuttosto che sulla propaganda; noi abbiamo bisogno di conservare sempre l’anonimato personale a livello di stampa \,radio e filmati.” \nTratto da”Dodici passi dodici tradizioni” pag. 261
URL:https://amiciaa.org/event/undicesima-tradizione-3/
LOCATION:skipe amiciaa
CATEGORIES:Calendario
ORGANIZER;CN="gruppo on line AmiciAA":MAILTO:info@amiciaa.org
END:VEVENT
BEGIN:VEVENT
DTSTART;VALUE=DATE:20251110
DTEND;VALUE=DATE:20251111
DTSTAMP:20260423T000303
CREATED:20251014T081820Z
LAST-MODIFIED:20251014T081820Z
UID:2780-1762732800-1762819199@amiciaa.org
SUMMARY:ESSERE GIUSTI
DESCRIPTION:Descrizione:”Il nostro primo obiettivo sarà lo sviluppo dell’autocontrollo\, il che ha la priorità assoluta su ogni altra cosa. Quando parliamo o agiamo in modo avventato o impulsivo\, la nostra capacità di essere imparziali e tolleranti svanisce all’istante.” \nTratto da:”Come la vede Bill” pag.113
URL:https://amiciaa.org/event/essere-giusti-5/
LOCATION:skipe amiciaa
CATEGORIES:Calendario
ORGANIZER;CN="gruppo on line AmiciAA":MAILTO:info@amiciaa.org
END:VEVENT
BEGIN:VEVENT
DTSTART;VALUE=DATE:20251112
DTEND;VALUE=DATE:20251113
DTSTAMP:20260423T000303
CREATED:20251014T081944Z
LAST-MODIFIED:20251014T081944Z
UID:2782-1762905600-1762991999@amiciaa.org
SUMMARY:CHE COS’E’ IL PROGRESSO SPIRITUALE?
DESCRIPTION:Descrizione:”Il progresso spirituale è il sentirsi sempre più connessi al mondo intero\, il percepire che si fa parte di un unico grande disegno\, è capire che non ha alcuna importanza qualsiasi limite si abbia\, purché si riesca ad amare e sentire simili a se stessi gli altri e\, quindi\, ad andare verso di loro.” \nTratto da:”Il compagno di viaggio” pag.97
URL:https://amiciaa.org/event/che-cose-il-progresso-spirituale-2/
LOCATION:skipe amiciaa
CATEGORIES:Calendario
ORGANIZER;CN="gruppo on line AmiciAA":MAILTO:info@amiciaa.org
END:VEVENT
BEGIN:VEVENT
DTSTART;VALUE=DATE:20251114
DTEND;VALUE=DATE:20251115
DTSTAMP:20260423T000303
CREATED:20251014T082051Z
LAST-MODIFIED:20251014T082051Z
UID:2784-1763078400-1763164799@amiciaa.org
SUMMARY:I SUCCESSIVI RAPPORTI FAMILIARI
DESCRIPTION:Descrizione:”Il mostrare ad altri che soffrono come noi siamo stati aiutati è\, appunto\, ciò che ci fa sembrare adesso così preziosa la vita.Fate leva sul pensiero che nelle mani di Dio l’oscuro passato è quanto di più importante possediate: è la chiave della vita e della felicità di altri. Con esso potete evitare loro la morte e l’infelicita’.” \nTratto da:”Alcolisti Anonimi” pag.125
URL:https://amiciaa.org/event/i-successivi-rapporti-familiari-4/
LOCATION:skipe amiciaa
CATEGORIES:Calendario
ORGANIZER;CN="gruppo on line AmiciAA":MAILTO:info@amiciaa.org
END:VEVENT
BEGIN:VEVENT
DTSTART;VALUE=DATE:20251116
DTEND;VALUE=DATE:20251117
DTSTAMP:20260423T000303
CREATED:20251014T082230Z
LAST-MODIFIED:20251014T082230Z
UID:2786-1763251200-1763337599@amiciaa.org
SUMMARY:RIPOSARE MOLTO
DESCRIPTION:Descrizione:”Dopo che abbiamo smesso di bere\, possono perdurare per un certo periodo sintomi di agitazione che provocano nervosismo ed insonnia. Oppure possiamo improvvisamente renderci conto della nostra stanchezza e sentirci quindi sfiniti e in uno stato letargico o\, ancora\, le due condizioni possono alternarsi.Entrambe sono reazioni normali che migliaia di noi hanno avuto nei primi tempi della sobrietà\, in una misura determinata da quanto bevevamo prima e dal nostro stato di salute. In ogni caso\, prima o poi svaniscono e non devono causare preoccupazioni.” \nTratto da:”Vivere Sobri” pag.49
URL:https://amiciaa.org/event/riposare-molto-5/
LOCATION:skipe amiciaa
CATEGORIES:Calendario
ORGANIZER;CN="gruppo on line AmiciAA":MAILTO:info@amiciaa.org
END:VEVENT
BEGIN:VEVENT
DTSTART;VALUE=DATE:20251117
DTEND;VALUE=DATE:20251118
DTSTAMP:20260423T000303
CREATED:20251014T082343Z
LAST-MODIFIED:20251014T082343Z
UID:2788-1763337600-1763423999@amiciaa.org
SUMMARY:UNDICESIMO CONCETTO
DESCRIPTION:Descrizione:”Le persone che compongono i Servizi Generali sono quelle a cui i Fiduciari si affidano per l’esecuzione delle strategie decise per la conduzione di A.A. Proprio per l’importanza di questo affidamento è assolutamente necessario porre ben attenzione alla professionalità di tutti\, al modo in cui sceglierli\, alla durata dei loro incarichi.” \nTratto da: “Il compagno di viaggio” pag. 252
URL:https://amiciaa.org/event/undicesimo-concetto-3/
LOCATION:skipe amiciaa
CATEGORIES:Calendario
ORGANIZER;CN="gruppo on line AmiciAA":MAILTO:info@amiciaa.org
END:VEVENT
BEGIN:VEVENT
DTSTART;VALUE=DATE:20251119
DTEND;VALUE=DATE:20251120
DTSTAMP:20260423T000303
CREATED:20251014T082456Z
LAST-MODIFIED:20251014T082456Z
UID:2790-1763510400-1763596799@amiciaa.org
SUMMARY:RESPINGERE L’IRA E IL RANCORE
DESCRIPTION:Descrizione:”Non possiamo pretendere di essere esperti in grado di comprendere a fondo problemi psicologici e perciò all’inizio non dobbiamo concentrarci nella ricerca delle cause dei nostri risentimenti ma sulla maniera di vincerli\, anche se pensiamo che siano giustificati. La base da cui dobbiamo partire è impedire che questi sentimenti ci inducano a riprendere il bicchiere.” \nTratto da:”Vivere Sobri” pag.61
URL:https://amiciaa.org/event/respingere-lira-e-il-rancore-5/
LOCATION:skipe amiciaa
CATEGORIES:Calendario
ORGANIZER;CN="gruppo on line AmiciAA":MAILTO:info@amiciaa.org
END:VEVENT
BEGIN:VEVENT
DTSTART;VALUE=DATE:20251121
DTEND;VALUE=DATE:20251122
DTSTAMP:20260423T000303
CREATED:20251014T082554Z
LAST-MODIFIED:20251014T082554Z
UID:2792-1763683200-1763769599@amiciaa.org
SUMMARY:UNDICESIMO PASSO
DESCRIPTION:Descrizione:”Esiste un legame diretto tra esame di coscienza\, meditazione e preghiera. Prese separatamente queste pratiche possono apportare grande sollievo e beneficio\, ma quando vengono messe logicamente in relazione e integrate\, il risultato è una incrollabile base per la vita.” \nTratto da:”Dodici Passi Dodici Tradizioni” pag.142
URL:https://amiciaa.org/event/undicesimo-passo-8/
LOCATION:skipe amiciaa
CATEGORIES:Calendario
ORGANIZER;CN="gruppo on line AmiciAA":MAILTO:info@amiciaa.org
END:VEVENT
BEGIN:VEVENT
DTSTART;VALUE=DATE:20251123
DTEND;VALUE=DATE:20251124
DTSTAMP:20260423T000303
CREATED:20251014T082717Z
LAST-MODIFIED:20251014T082717Z
UID:2794-1763856000-1763942399@amiciaa.org
SUMMARY:LA VERA TOLLERANZA
DESCRIPTION:Descrizione:”Alla fine cominciamo a renderci conto che tutti gli esseri umani\, noi inclusi\, sono in qualche misura emotivamente malati\, come pure che spesso sbagliano:solo allora ci avviciniamo alla vera tolleranza e comprendiamo ciò che effettivamente significhi l’autentico amore per i nostri simili. \nTratto da:”Come la vede Bill” pag.203
URL:https://amiciaa.org/event/la-vera-tolleranza-2/
LOCATION:skipe amiciaa
CATEGORIES:Calendario
ORGANIZER;CN="gruppo on line AmiciAA":MAILTO:info@amiciaa.org
END:VEVENT
BEGIN:VEVENT
DTSTART;VALUE=DATE:20251124
DTEND;VALUE=DATE:20251125
DTSTAMP:20260423T000303
CREATED:20251014T083332Z
LAST-MODIFIED:20251014T085753Z
UID:2802-1763942400-1764028799@amiciaa.org
SUMMARY:ANCORA SULL’ALCOLISMO
DESCRIPTION:descrizione:” La maggior parte di noi era riluttante ad ammettere di essere dei veri alcolisti. A nessuno piace sentirsi mentalmente e fisicamente diverso dagli altri. E’ per questo che non ci si deve meravigliare se la nostra carriera di bevitori è stata caratterizzata da numerosi e vani tentativi di provare che noi potevamo bere come gli altri. La grande ossessione del bevitore fuori dalla norma è che in qualche modo\, un giorno\, riuscirà a controllarsi nel bere.” da Alcolisti anonimi\, pag. 29
URL:https://amiciaa.org/event/ancora-sullalcolismo-3/
LOCATION:skipe amiciaa
CATEGORIES:Calendario
ORGANIZER;CN="gruppo on line AmiciAA":MAILTO:info@amiciaa.org
END:VEVENT
BEGIN:VEVENT
DTSTART;VALUE=DATE:20251126
DTEND;VALUE=DATE:20251127
DTSTAMP:20260423T000303
CREATED:20251014T083038Z
LAST-MODIFIED:20251014T083038Z
UID:2798-1764115200-1764201599@amiciaa.org
SUMMARY:DOMINARE E PRETENDERE
DESCRIPTION:Descrizione:”Se ci appoggiamo eccessivamente agli altri\, questi prima o poi ci verranno meno\, perché anch’essi sono degli esseri umani e non possono in alcun modo soddisfare le nostre incessanti richieste. Così la nostra insicurezza cresce e si incancrenisce.” \nTratto da: “Come la vede Bill” pag.176
URL:https://amiciaa.org/event/dominare-e-pretendere-2/
LOCATION:skipe amiciaa
CATEGORIES:Calendario
ORGANIZER;CN="gruppo on line AmiciAA":MAILTO:info@amiciaa.org
END:VEVENT
BEGIN:VEVENT
DTSTART;VALUE=DATE:20251128
DTEND;VALUE=DATE:20251129
DTSTAMP:20260423T000303
CREATED:20251014T083150Z
LAST-MODIFIED:20251014T083150Z
UID:2800-1764288000-1764374399@amiciaa.org
SUMMARY:UNDICESIMO PASSO
DESCRIPTION:Descrizione:”Nel corso della giornata\, quando dobbiamo affrontare situazioni preoccupanti e prendere decisioni\, possiamo fare una pausa e rinnovare la semplice preghiera: “Sia fatta la Tua volontà\, non la mia””. Se in questi momenti ci capita di essere particolarmente agitati riusciremo certamente a mantenere il nostro equilibrio\, purché ricordiamo e ripetiamo a noi stessi una particolare preghiera o frase che ci ha colpito nelle nostre letture o meditazioni”. \nTratto da:”Dodici passi dodici tradizioni” pag.149
URL:https://amiciaa.org/event/undicesimo-passo-9/
LOCATION:skipe amiciaa
CATEGORIES:Calendario
ORGANIZER;CN="gruppo on line AmiciAA":MAILTO:info@amiciaa.org
END:VEVENT
BEGIN:VEVENT
DTSTART;VALUE=DATE:20251130
DTEND;VALUE=DATE:20251201
DTSTAMP:20260423T000303
CREATED:20251014T082834Z
LAST-MODIFIED:20251014T083525Z
UID:2796-1764460800-1764547199@amiciaa.org
SUMMARY:QUALI BENEFICI POSSIAMO ASPETTARCI DALL’UNDICESIMO PASSO ?
DESCRIPTION:Descrizione:“L’undicesimo Passo porta serenità e la sicurezza delle scelte.Con la meditazione e la preghiera esiste costantemente la possibilità di verificare la loro bontà. Ci sarà di certo un rafforzamento dell’accettazione\, della fiducia e dell’umiltà’” \nTratto da:”Il compagno di viaggio” pag.98
URL:https://amiciaa.org/event/quali-benefici-possiamo-aspettarci-dallundicesimo-passo-2/
LOCATION:skipe amiciaa
CATEGORIES:Calendario
ORGANIZER;CN="gruppo on line AmiciAA":MAILTO:info@amiciaa.org
END:VEVENT
END:VCALENDAR