BEGIN:VCALENDAR
VERSION:2.0
PRODID:-//AmiciAA Alcolisti Anonimi - ECPv6.15.20//NONSGML v1.0//EN
CALSCALE:GREGORIAN
METHOD:PUBLISH
X-WR-CALNAME:AmiciAA Alcolisti Anonimi
X-ORIGINAL-URL:https://amiciaa.org
X-WR-CALDESC:Eventi per AmiciAA Alcolisti Anonimi
REFRESH-INTERVAL;VALUE=DURATION:PT1H
X-Robots-Tag:noindex
X-PUBLISHED-TTL:PT1H
BEGIN:VTIMEZONE
TZID:Europe/Rome
BEGIN:DAYLIGHT
TZOFFSETFROM:+0100
TZOFFSETTO:+0200
TZNAME:CEST
DTSTART:20240331T010000
END:DAYLIGHT
BEGIN:STANDARD
TZOFFSETFROM:+0200
TZOFFSETTO:+0100
TZNAME:CET
DTSTART:20241027T010000
END:STANDARD
BEGIN:DAYLIGHT
TZOFFSETFROM:+0100
TZOFFSETTO:+0200
TZNAME:CEST
DTSTART:20250330T010000
END:DAYLIGHT
BEGIN:STANDARD
TZOFFSETFROM:+0200
TZOFFSETTO:+0100
TZNAME:CET
DTSTART:20251026T010000
END:STANDARD
BEGIN:DAYLIGHT
TZOFFSETFROM:+0100
TZOFFSETTO:+0200
TZNAME:CEST
DTSTART:20260329T010000
END:DAYLIGHT
BEGIN:STANDARD
TZOFFSETFROM:+0200
TZOFFSETTO:+0100
TZNAME:CET
DTSTART:20261025T010000
END:STANDARD
END:VTIMEZONE
BEGIN:VEVENT
DTSTART;VALUE=DATE:20250402
DTEND;VALUE=DATE:20250403
DTSTAMP:20260423T113414
CREATED:20250322T085427Z
LAST-MODIFIED:20250322T085427Z
UID:2419-1743552000-1743638399@amiciaa.org
SUMMARY:QUARTO PASSO
DESCRIPTION:Il Quarto Passo rappresenta il nostro energico e scrupoloso sforzo di scoprire quali siano state\, e quali siano ancora\, queste debolezze in ciascuno di noi. Vogliamo scoprire con esattezza come\, quando e dove i nostri istinti naturali ci hanno alterato la mente. Desideriamo guardare onestamente in faccia l’infelicità che tutto ciò ha procurato agli altri e a noi stessi. Solo scoprendo quali sono le nostre deformazioni emotive possiamo fare dei passi per correggerle. \nTratto da: “Dodici Passi Dodici Tradizioni” pag.58
URL:https://amiciaa.org/event/quarto-passo-2/
LOCATION:skipe amiciaa
CATEGORIES:Calendario
ORGANIZER;CN="gruppo on line AmiciAA":MAILTO:info@amiciaa.org
END:VEVENT
BEGIN:VEVENT
DTSTART;VALUE=DATE:20250404
DTEND;VALUE=DATE:20250405
DTSTAMP:20260423T113414
CREATED:20250322T085812Z
LAST-MODIFIED:20250322T085812Z
UID:2421-1743724800-1743811199@amiciaa.org
SUMMARY:RESPINGERE L'IRA E IL RANCORE
DESCRIPTION:Qualcuno ha suggerito l’ipotesi che ci possa essere un sottile\, indeterminato rapporto biochimico tra l’alcol e il tipo di cambiamenti fisici che accompagnano l’ira. Uno studio sperimentale su alcolisti ha stabilito che i risentimenti possono creare nel loro sangue una determinata condizione di malessere che viene superata con una sbornia.Un famoso psicologo ha affermato di recente che i bevitori possono trarre piacere dalla sensazione di dominare gli altri generata in loro dall’influenza dell’alcol. \nTratto da: “Vivere sobri” pag 59
URL:https://amiciaa.org/event/respingere-lira-e-il-rancore-3/
LOCATION:skipe amiciaa
CATEGORIES:Calendario
ORGANIZER;CN="gruppo on line AmiciAA":MAILTO:info@amiciaa.org
END:VEVENT
BEGIN:VEVENT
DTSTART;VALUE=DATE:20250406
DTEND;VALUE=DATE:20250407
DTSTAMP:20260423T113414
CREATED:20250322T090152Z
LAST-MODIFIED:20250322T090152Z
UID:2423-1743897600-1743983999@amiciaa.org
SUMMARY:IL NUOVO A.A. E LA SUA FAMIGLIA
DESCRIPTION:Mentre la famiglia può decidere se avviarsi a vivere su una base spirituale o no\, l’alcolista deve farlo se vuole ristabilirsi. Gli altri bisogna che si convincano senza ombra di dubbio di questa necessità. È quasi una legge per la maggior parte delle famiglie che hanno vissuto con un bevitore. \nTratto da: “Come la vede Bill” pag.123
URL:https://amiciaa.org/event/il-nuovo-a-a-e-la-sua-famiglia/
LOCATION:skipe amiciaa
CATEGORIES:Calendario
ORGANIZER;CN="gruppo on line AmiciAA":MAILTO:info@amiciaa.org
END:VEVENT
BEGIN:VEVENT
DTSTART;VALUE=DATE:20250407
DTEND;VALUE=DATE:20250408
DTSTAMP:20260423T113414
CREATED:20250322T090508Z
LAST-MODIFIED:20250322T090508Z
UID:2425-1743984000-1744070399@amiciaa.org
SUMMARY:QUARTO PASSO
DESCRIPTION:Una chiara visione del domani arriva soltanto dopo aver guardato veramente a ieri. Ecco perché noi A.A. facciamo un inventario personale attraverso il Quarto Passo. Questo è il principio basilare da cui è sbocciata e fiorita A.A.. Dichiariamo il nostro totale fallimento come esseri umani e di essere disposti a fare qualunque cosa possa affrancarci dall’insano stimolo che ci condannava a bere. \nTratto da: “Il compagno di viaggio” pag.44
URL:https://amiciaa.org/event/quarto-passo-3/
LOCATION:skipe amiciaa
CATEGORIES:Calendario
ORGANIZER;CN="gruppo on line AmiciAA":MAILTO:info@amiciaa.org
END:VEVENT
BEGIN:VEVENT
DTSTART;VALUE=DATE:20250409
DTEND;VALUE=DATE:20250410
DTSTAMP:20260423T113414
CREATED:20250322T090907Z
LAST-MODIFIED:20250322T090907Z
UID:2427-1744156800-1744243199@amiciaa.org
SUMMARY:LA VIA LATTEA
DESCRIPTION:È stato il viraggio verso quella che oggi\, e solo per oggi\, chiamo sobrietà\, che mi consente di essere un uomo nuovo\, che non ha bisogno di ricorrere alle distorsioni artificiali dell’alcol. Il mio mondo alcolico finale\, chiuso in casa\, da solo\, al buio\, per nascondermi al pubblico ludibrio\, ignorato dall’umanità e peraltro scarsamente interessato a essa\, l’ho appena trascorso e certamente non lo dimentico. Ce l’ho dentro di me. \nTratto da: “Alcolisti Anonimi” pag. 299
URL:https://amiciaa.org/event/la-via-lattea/
LOCATION:skipe amiciaa
CATEGORIES:Calendario
ORGANIZER;CN="gruppo on line AmiciAA":MAILTO:info@amiciaa.org
END:VEVENT
BEGIN:VEVENT
DTSTART;VALUE=DATE:20250411
DTEND;VALUE=DATE:20250412
DTSTAMP:20260423T113414
CREATED:20250322T091315Z
LAST-MODIFIED:20250322T091315Z
UID:2429-1744329600-1744415999@amiciaa.org
SUMMARY:QUARTA TRADIZIONE
DESCRIPTION:“Ogni Gruppo dovrebbe essere autonomo\, tranne che per le questioni riguardanti altri Gruppi oppure A.A. nel suo insieme.” \nAvevamo capito che il Gruppo\, proprio come il singolo\, deve alla fine conformarsi a tutti quei collaudati principi che ne garantiscono la sopravvivenza. Avevamo scoperto che il metodo di “Prova ed errore” era perfettamente sicuro. \nTratto da: “Il compagno di viaggio” pag.131
URL:https://amiciaa.org/event/quarta-tradizione-3/
LOCATION:skipe amiciaa
CATEGORIES:Calendario
ORGANIZER;CN="gruppo on line AmiciAA":MAILTO:info@amiciaa.org
END:VEVENT
BEGIN:VEVENT
DTSTART;VALUE=DATE:20250413
DTEND;VALUE=DATE:20250414
DTSTAMP:20260423T113414
CREATED:20250322T091814Z
LAST-MODIFIED:20250322T091814Z
UID:2431-1744502400-1744588799@amiciaa.org
SUMMARY:QUARTO PASSO
DESCRIPTION:Abbiamo bevuto per sfuggire al senso di colpa delle passioni e poi abbiamo bevuto ancora per rendere possibili altre passioni. Abbiamo bevuto per vanagloria\, cioè per poter meglio godere sciocchi sogni di sfarzo e di potere. Questa perversa malattia dell’animo non è piacevole da esaminare. Gli istinti scatenati ostacolano l’indagine. Non appena facciamo un serio tentativo di sondarli ci esponiamo a subire violente reazioni. \nTratto da: “Dodici Passi Dodici Tradizioni” pag. 61
URL:https://amiciaa.org/event/quarto-passo-4/
LOCATION:skipe amiciaa
CATEGORIES:Calendario
ORGANIZER;CN="gruppo on line AmiciAA":MAILTO:info@amiciaa.org
END:VEVENT
BEGIN:VEVENT
DTSTART;VALUE=DATE:20250414
DTEND;VALUE=DATE:20250415
DTSTAMP:20260423T113414
CREATED:20250322T092633Z
LAST-MODIFIED:20250322T092633Z
UID:2433-1744588800-1744675199@amiciaa.org
SUMMARY:QUARTO CONCETTO
DESCRIPTION:Il diritto di partecipare viene riconosciuto anche alle persone cui non viene delegata alcuna autorità. Esso è messo in stretta connessione col senso di appartenenza: la partecipazione attiva conferma la propria appartenenza ad A.A.: questa vuole essere non una Associazione verticistica ma una fratellanza di persone che\, tutte assieme\, mirano ad un unico scopo.  \nTratto da: “Il compagno di viaggio” pag.206
URL:https://amiciaa.org/event/quarto-concetto-2/
LOCATION:skipe amiciaa
CATEGORIES:Calendario
ORGANIZER;CN="gruppo on line AmiciAA":MAILTO:info@amiciaa.org
END:VEVENT
BEGIN:VEVENT
DTSTART;VALUE=DATE:20250416
DTEND;VALUE=DATE:20250417
DTSTAMP:20260423T113414
CREATED:20250322T092959Z
LAST-MODIFIED:20250322T092959Z
UID:2435-1744761600-1744847999@amiciaa.org
SUMMARY:QUARTA PROMESSA
DESCRIPTION:Descrizione: “Poco importa a quale grado di abiezione siamo scesi\, constateremo come la nostra esperienza possa giovare agli altri.” \nTratto da “Alcolisti Anonimi” pag. 83
URL:https://amiciaa.org/event/quarta-promessa-2/
LOCATION:skipe amiciaa
CATEGORIES:Calendario
ORGANIZER;CN="gruppo on line AmiciAA":MAILTO:info@amiciaa.org
END:VEVENT
BEGIN:VEVENT
DTSTART;VALUE=DATE:20250418
DTEND;VALUE=DATE:20250419
DTSTAMP:20260423T113414
CREATED:20250322T093220Z
LAST-MODIFIED:20250322T093220Z
UID:2437-1744934400-1745020799@amiciaa.org
SUMMARY:IL NOSTRO METODO
DESCRIPTION:Descrizione: “Ora veniamo al sesso. Molti di noi hanno bisogno di rivedere questo argomento. Abbiamo cercato innanzitutto di essere ragionevoli quando abbiamo iniziato a trattare questo problema\, perche’ a volte e’ facile perdere ogni equilibrio in questo campo. Le opinioni degli uomini vanno da un estremo all’altro per quanto riguarda il sesso e a volte forse si assumono posizioni assurde. \nTratto da  “Alcolisti Anonimi” pag.68
URL:https://amiciaa.org/event/il-nostro-metodo-5/
LOCATION:skipe amiciaa
CATEGORIES:Calendario
ORGANIZER;CN="gruppo on line AmiciAA":MAILTO:info@amiciaa.org
END:VEVENT
BEGIN:VEVENT
DTSTART;VALUE=DATE:20250420
DTEND;VALUE=DATE:20250421
DTSTAMP:20260423T113414
CREATED:20250322T093500Z
LAST-MODIFIED:20250322T093500Z
UID:2439-1745107200-1745193599@amiciaa.org
SUMMARY:RICORDARE CHE L’ALCOLISMO È UNA MALATTIA INGUARIBILE\, PROGRESSIVA E MORTALE.
DESCRIPTION:Descrizione:” Naturalmente\, anche se ci possiamo sentire defraudati\, non è saggio ignorare la nostra costituzione fisiologica. Se ignoriamo i nostri limiti possono insorgere grossi scompensi e malattie. Per essere sani e ragionevolmente felici\, dobbiamo imparare a vivere con il corpo che abbiamo. Una delle nuove abitudini mentali che un alcolista in via di recupero può cercare di sviluppare consiste nel considerarsi\, con tranquillità\, come una persona che debba evitare sostanze chimiche (alcol e altre droghe che possano sostituirlo)\, sempre che voglia mantenersi in buona salute”. \nTratto da: Vivere Sobri pag. 18.
URL:https://amiciaa.org/event/ricordare-che-lalcolismo-e-una-malattia-inguaribile-progressiva-e-mortale-2/
LOCATION:skipe amiciaa
CATEGORIES:Calendario
ORGANIZER;CN="gruppo on line AmiciAA":MAILTO:info@amiciaa.org
END:VEVENT
BEGIN:VEVENT
DTSTART;VALUE=DATE:20250421
DTEND;VALUE=DATE:20250422
DTSTAMP:20260423T113414
CREATED:20250322T093720Z
LAST-MODIFIED:20250322T093720Z
UID:2441-1745193600-1745279999@amiciaa.org
SUMMARY:ABBANDONARE LE VECCHIE IDEE
DESCRIPTION:Descrizione: “Le idee che si sono cosi profondamente radicate in noi durante il periodo in cui bevevamo non scompaiono tutte improvvisamente come per magia il giorno in cui cominciamo a mettere il tappo alla bottiglia. I giorni del vino e delle “sagre dell’uva”  possono essersene andati\, ma la malattia persiste. Cosi’ abbiamo scoperto che e’ terapeutico eliminare molte vecchie idee che cominciano a riaffiorare\, e continuano a farlo ancora e ancora.” \nTratto da “Vivere sobri” pag. 104
URL:https://amiciaa.org/event/abbandonare-le-vecchie-idee-2/
LOCATION:skipe amiciaa
CATEGORIES:Calendario
ORGANIZER;CN="gruppo on line AmiciAA":MAILTO:info@amiciaa.org
END:VEVENT
BEGIN:VEVENT
DTSTART;VALUE=DATE:20250423
DTEND;VALUE=DATE:20250424
DTSTAMP:20260423T113414
CREATED:20250322T094039Z
LAST-MODIFIED:20250322T094039Z
UID:2443-1745366400-1745452799@amiciaa.org
SUMMARY:CHE E COSA SI PUO’ FARE PER CORREGGERE LE MANCANZE INDIVIDUATE COL QUARTO PASSO?
DESCRIPTION:Descrizione: “E’ continuare con il Programma ( e\, in particolare \, col sesto e settimo Passo ) che consente di agire sui difetti di carattere che di fatto costituiscono un blocco \, riportando ciascuno sempre al passato o creando paura per il futuro e non permettendo di vivere serenamente il presente. \nTratto da “Il compagno di viaggio” pag. 48
URL:https://amiciaa.org/event/che-e-cosa-si-puo-fare-per-correggere-le-mancanze-individuate-col-quarto-passo/
LOCATION:skipe amiciaa
CATEGORIES:Calendario
ORGANIZER;CN="gruppo on line AmiciAA":MAILTO:info@amiciaa.org
END:VEVENT
BEGIN:VEVENT
DTSTART;VALUE=DATE:20250425
DTEND;VALUE=DATE:20250426
DTSTAMP:20260423T113414
CREATED:20250322T094235Z
LAST-MODIFIED:20250322T094235Z
UID:2445-1745539200-1745625599@amiciaa.org
SUMMARY:VIVI E LASCIA VIVERE
DESCRIPTION:Descrizione: “Ci siamo sentiti spesso arrabbiati e timorosi anche verso persone che non ci criticavano. La nostra colpa ci aveva reso ultrasensibili alle persone intorno a noi e covavamo rancore. A volte cambiavamo bar\, posto di lavoro o casa solo per allontanarci da determinate persone. Cosi moltissima gente oltre a noi veniva coinvolta in qualche modo e in una certa misura dal fatto che bevevamo. \nTratto da  “Vivere Sobri” pag.22
URL:https://amiciaa.org/event/vivi-e-lascia-vivere-4/
LOCATION:skipe amiciaa
CATEGORIES:Calendario
ORGANIZER;CN="gruppo on line AmiciAA":MAILTO:info@amiciaa.org
END:VEVENT
BEGIN:VEVENT
DTSTART;VALUE=DATE:20250427
DTEND;VALUE=DATE:20250428
DTSTAMP:20260423T113414
CREATED:20250322T094419Z
LAST-MODIFIED:20250322T094419Z
UID:2447-1745712000-1745798399@amiciaa.org
SUMMARY:QUANDO INZIARE IL IV PASSO?
DESCRIPTION:Descrizione:” Bill mette sull’avviso riguardo a ciò che può trattenere dall’iniziare subito il IV Passo\, soprattutto la paura e l’orgoglio. L’esperienza mostra che non è possibile alcun cammino di recupero fintanto che non si sia presa coscienza dell’esigenza di una pulizia interiore per procedere sulla strada intrapresa. Pur tuttavia\, è necessario iniziare il prima possibile questo Passo\, proprio combattendo paura e orgoglio\, al fine di potersi incamminare sulla via del recupero”. \nTratto da: Il Compagno di Viaggio pag.46.
URL:https://amiciaa.org/event/quando-inziare-il-iv-passo-2/
LOCATION:skipe amiciaa
CATEGORIES:Calendario
ORGANIZER;CN="gruppo on line AmiciAA":MAILTO:info@amiciaa.org
END:VEVENT
BEGIN:VEVENT
DTSTART;VALUE=DATE:20250428
DTEND;VALUE=DATE:20250429
DTSTAMP:20260423T113414
CREATED:20250322T094725Z
LAST-MODIFIED:20250322T094725Z
UID:2449-1745798400-1745884799@amiciaa.org
SUMMARY:IL NOSTRO METODO
DESCRIPTION:Descrizione:” A tal fine abbiamo cominciato a fare un inventario personale. Era il Quarto Passo. Un negoziante che non fa mai l’inventario della merce\, di solito fallisce. Una volta fatto l’inventario\, scopre ciò che manca e cerca le cause del deperimento di qualche articolo. Qualora rilevasse che ha uno stock di merce invendibile oppure guasta\, per salvare ilo suo esercizio lo toglierà di mezzo senza risarcimento. Se il negoziante è interessato al successo non può ingannarsi su quanto ha in magazzino. Abbiamo fatto un simile inventario delle nostre vite e lo abbiamo fatto onestamente”. \nTratto da: Alcolisti Anonimi pag. 63.
URL:https://amiciaa.org/event/il-nostro-metodo-6/
LOCATION:skipe amiciaa
CATEGORIES:Calendario
ORGANIZER;CN="gruppo on line AmiciAA":MAILTO:info@amiciaa.org
END:VEVENT
BEGIN:VEVENT
DTSTART;VALUE=DATE:20250430
DTEND;VALUE=DATE:20250501
DTSTAMP:20260423T113414
CREATED:20250322T095224Z
LAST-MODIFIED:20250322T095224Z
UID:2451-1745971200-1746057599@amiciaa.org
SUMMARY:PERCHE A.A. SUGGERISCE L'INVENTARIO ATTRAVERSO IL QUARTO PASSO?
DESCRIPTION:Per scoprire le cose danneggiate o del tutto inefficienti. Se un negoziante non fa mai l’inventario della merce\, di solito\, fallisce. Una volta fatto l’inventario\, scopre ciò che manca e cerca le cause del deperimento di qualche articolo. Qualora rilevasse che ha uno stock di merce invendibile oppure guasta\, per salvare il suo esercizio lo toglierà di mezzo senza rincrescimento. Se il negoziante è interessato al successo non può ingannarsi su quanto ha in magazzino. \nTratto da: “Il compagno di viaggio” pag. 47
URL:https://amiciaa.org/event/perche-a-a-suggerisce-linventario-attraverso-il-quarto-passo/
LOCATION:skipe amiciaa
CATEGORIES:Calendario
ORGANIZER;CN="gruppo on line AmiciAA":MAILTO:info@amiciaa.org
END:VEVENT
END:VCALENDAR