BEGIN:VCALENDAR
VERSION:2.0
PRODID:-//AmiciAA Alcolisti Anonimi - ECPv6.15.20//NONSGML v1.0//EN
CALSCALE:GREGORIAN
METHOD:PUBLISH
X-WR-CALNAME:AmiciAA Alcolisti Anonimi
X-ORIGINAL-URL:https://amiciaa.org
X-WR-CALDESC:Eventi per AmiciAA Alcolisti Anonimi
REFRESH-INTERVAL;VALUE=DURATION:PT1H
X-Robots-Tag:noindex
X-PUBLISHED-TTL:PT1H
BEGIN:VTIMEZONE
TZID:Europe/Rome
BEGIN:DAYLIGHT
TZOFFSETFROM:+0100
TZOFFSETTO:+0200
TZNAME:CEST
DTSTART:20240331T010000
END:DAYLIGHT
BEGIN:STANDARD
TZOFFSETFROM:+0200
TZOFFSETTO:+0100
TZNAME:CET
DTSTART:20241027T010000
END:STANDARD
BEGIN:DAYLIGHT
TZOFFSETFROM:+0100
TZOFFSETTO:+0200
TZNAME:CEST
DTSTART:20250330T010000
END:DAYLIGHT
BEGIN:STANDARD
TZOFFSETFROM:+0200
TZOFFSETTO:+0100
TZNAME:CET
DTSTART:20251026T010000
END:STANDARD
BEGIN:DAYLIGHT
TZOFFSETFROM:+0100
TZOFFSETTO:+0200
TZNAME:CEST
DTSTART:20260329T010000
END:DAYLIGHT
BEGIN:STANDARD
TZOFFSETFROM:+0200
TZOFFSETTO:+0100
TZNAME:CET
DTSTART:20261025T010000
END:STANDARD
END:VTIMEZONE
BEGIN:VEVENT
DTSTART;VALUE=DATE:20250302
DTEND;VALUE=DATE:20250303
DTSTAMP:20260423T125528
CREATED:20250223T124730Z
LAST-MODIFIED:20250223T125220Z
UID:2366-1740873600-1740959999@amiciaa.org
SUMMARY:TERZO PASSO
DESCRIPTION:“Abbiamo preso la decisione di affidare le nostre volontà e le nostre vite alla cura di Dio come noi potemmo concepirLo.” \nMettere in pratica il Terzo Passo è come aprire una porta che secondo ogni apparenza sembra ancora chiusa a chiave. Tutto quel che ci occorre è una chiave\, e la decisione di aprire questa porta. La chiave è una sola\, e si chiama buona volontà.  \nTratto da: “Dodici Passi Dodici Tradizioni” pag.45
URL:https://amiciaa.org/event/terzo-passo-2/
LOCATION:skipe amiciaa
CATEGORIES:Calendario
ORGANIZER;CN="gruppo on line AmiciAA":MAILTO:info@amiciaa.org
END:VEVENT
BEGIN:VEVENT
DTSTART;VALUE=DATE:20250303
DTEND;VALUE=DATE:20250304
DTSTAMP:20260423T125528
CREATED:20250223T125106Z
LAST-MODIFIED:20250223T125106Z
UID:2369-1740960000-1741046399@amiciaa.org
SUMMARY:PERCHE' NON BERE?
DESCRIPTION:“Noi membri di Alcolisti Anonimi troviamo la risposta a questa domanda quando guardiamo onestamente alla nostra vita passata. La nostra esperienza prova in modo evidente che qualsiasi bevanda alcolica\, di qualsiasi gradazione\, porta seri guai all’alcolista o a chiunque abbia problemi con l’alcol.” \nTratto da: “Vivere Sobri” pag.7
URL:https://amiciaa.org/event/perche-non-bere-2/
LOCATION:skipe amiciaa
CATEGORIES:Calendario
ORGANIZER;CN="gruppo on line AmiciAA":MAILTO:info@amiciaa.org
END:VEVENT
BEGIN:VEVENT
DTSTART;VALUE=DATE:20250305
DTEND;VALUE=DATE:20250306
DTSTAMP:20260423T125528
CREATED:20250223T125544Z
LAST-MODIFIED:20250223T125544Z
UID:2372-1741132800-1741219199@amiciaa.org
SUMMARY:TERZO PASSO
DESCRIPTION:“Il terzo Passo ci dice quanto sia necessario affidarsi ad altri e possiamo cominciare affidando le nostre vite alla cura di Dio\, come noi riusciamo a concepirLo. Il primo requisito è la convinzione che una vita condotta sulla base della propria volontà difficilmente può avere successo.” \nTratto da: “Il compagno di viaggio” pag.37
URL:https://amiciaa.org/event/terzo-passo-3/
LOCATION:skipe amiciaa
CATEGORIES:Calendario
ORGANIZER;CN="gruppo on line AmiciAA":MAILTO:info@amiciaa.org
END:VEVENT
BEGIN:VEVENT
DTSTART;VALUE=DATE:20250307
DTEND;VALUE=DATE:20250308
DTSTAMP:20260423T125528
CREATED:20250223T125913Z
LAST-MODIFIED:20250223T125913Z
UID:2374-1741305600-1741391999@amiciaa.org
SUMMARY:ESSERE GIUSTI
DESCRIPTION:“Il nostro primo obiettivo sarà lo sviluppo dell’autocontrollo\, il che ha la priorità assoluta su ogni altra cosa. Quando parliamo o agiamo in modo avventato o impulsivo\, la nostra capacità di essere imparziali e tolleranti svanisce all’istante.” \nTratto da: “Come la vede Bill” pag.113
URL:https://amiciaa.org/event/essere-giusti-3/
LOCATION:skipe amiciaa
CATEGORIES:Calendario
ORGANIZER;CN="gruppo on line AmiciAA":MAILTO:info@amiciaa.org
END:VEVENT
BEGIN:VEVENT
DTSTART;VALUE=DATE:20250309
DTEND;VALUE=DATE:20250310
DTSTAMP:20260423T125528
CREATED:20250223T130320Z
LAST-MODIFIED:20250308T123140Z
UID:2376-1741478400-1741564799@amiciaa.org
SUMMARY:TERZA TRADIZIONE
DESCRIPTION:Questa Tradizione è carica di significato. Perché A.A. in effetti dice a chiunque abbia problemi con l’alcol: “Sei un membro di A.A. se sei tu a dirlo. Tu puoi dichiarare di far parte di A.A. e nessuno può tenertene fuori. Non importa chi sei\, non importa quanto tu sia caduto in basso\, non importa quanto siano gravi le tue complicazioni emotive\, perfino i tuoi crimini: comunque sia\, non possiamo negarti A.A. Non vogliamo tenertene fuori.  \nTratto da: “Dodici Passi Dodici Tradizioni”  pag.210
URL:https://amiciaa.org/event/nona-tradizione-3/
LOCATION:skipe amiciaa
CATEGORIES:Calendario
ORGANIZER;CN="gruppo on line AmiciAA":MAILTO:info@amiciaa.org
END:VEVENT
BEGIN:VEVENT
DTSTART;VALUE=DATE:20250310
DTEND;VALUE=DATE:20250311
DTSTAMP:20260423T125528
CREATED:20250223T130605Z
LAST-MODIFIED:20250223T130605Z
UID:2378-1741564800-1741651199@amiciaa.org
SUMMARY:ESSERE ATTIVI
DESCRIPTION:“È molto difficile sedersi e basta cercando di non fare una certa cosa o addirittura di non pensarci. È molto più facile divenire attivi e fare qualcosa d’ altro\, diverso da quello che stiamo cercando di evitare.Così è con il bere. Cercare di evitare un bicchiere (o di non pensarci) sembra non essere sufficiente. Più pensiamo al bicchiere che stiamo cercando di non prendere\, più questo pensiero occupa naturalmente la nostra mente. E questo non va bene. \nTratto da: “Vivere Sobri” pag.25
URL:https://amiciaa.org/event/essere-attivi-4/
LOCATION:skipe amiciaa
CATEGORIES:Calendario
ORGANIZER;CN="gruppo on line AmiciAA":MAILTO:info@amiciaa.org
END:VEVENT
BEGIN:VEVENT
DTSTART;VALUE=DATE:20250312
DTEND;VALUE=DATE:20250313
DTSTAMP:20260423T125528
CREATED:20250223T131047Z
LAST-MODIFIED:20250223T131047Z
UID:2380-1741737600-1741823999@amiciaa.org
SUMMARY:A cosa dovremmo applicare questa nuova capacita' di affidamento?
DESCRIPTION:“Ogni volta che ci si sente nell’impossibilità di governare qualcosa\, si può sentire pronto l’aiuto di Qualcuno che regala il Suo amore. Il primo campo a cui è possibile applicare questa nuova fiducia e questo affidamento è la propria vita dipendente dall’alcol. Ammettere di essere vinti e chiedere aiuto sono il presupposto per una vittoria definitiva.” \nTratto da:  “Il compagno di viaggio” pag.40
URL:https://amiciaa.org/event/a-cosa-dovremmo-applicare-questa-nuova-capacita-di-affidamento/
LOCATION:skipe amiciaa
CATEGORIES:Calendario
ORGANIZER;CN="gruppo on line AmiciAA":MAILTO:info@amiciaa.org
END:VEVENT
BEGIN:VEVENT
DTSTART;VALUE=DATE:20250314
DTEND;VALUE=DATE:20250315
DTSTAMP:20260423T125528
CREATED:20250223T131756Z
LAST-MODIFIED:20250223T131756Z
UID:2382-1741910400-1741996799@amiciaa.org
SUMMARY:LA SIGNORA PER BENE
DESCRIPTION:“Una piccola birra\, cosa sarà mai una piccola birra?Fu cosi che ripresi a bere. Ero stata brava\, mi dicevo:«Non bevo da tanto e dato che sono riuscita a starne lontana così a lungo\, posso bere un po’ e basta. Ora so come stanno le cose\, riuscirò a fermarmi”. Per qualche giorno andò tuto bene\, tanto che aumentai la dose. Subii però degli scompensi cardiaci. Non assunsi più l’antabuse. In pochissimo tempo stavo peggio di prima. \nTratto da: “Alcolisti Anonimi” pag.243
URL:https://amiciaa.org/event/la-signora-per-bene/
LOCATION:skipe amiciaa
CATEGORIES:Calendario
ORGANIZER;CN="gruppo on line AmiciAA":MAILTO:info@amiciaa.org
END:VEVENT
BEGIN:VEVENT
DTSTART;VALUE=DATE:20250316
DTEND;VALUE=DATE:20250317
DTSTAMP:20260423T125528
CREATED:20250223T132236Z
LAST-MODIFIED:20250223T132236Z
UID:2384-1742083200-1742169599@amiciaa.org
SUMMARY:TERZO CONCETTO
DESCRIPTION:“Il terzo Concetto cerca di chiarire quale sia l’autorità e la capacità di decidere di un qualsiasi Servitore\, per il bene di A.A. nel suo insieme\, a tutti i livelli di Servizio\, dal Gruppo alla Conferenza ai Servizi Generali. Tutti gli incarichi di Servizio dovrebbero essere basati sulla fiducia ed ogni Servitore dovrebbe agire con la coscienza volta al necessario benessere di A.A..” \nTratto da: “Il compagno di viaggio” pag.201
URL:https://amiciaa.org/event/terzo-concetto-2/
LOCATION:skipe amiciaa
CATEGORIES:Calendario
ORGANIZER;CN="gruppo on line AmiciAA":MAILTO:info@amiciaa.org
END:VEVENT
BEGIN:VEVENT
DTSTART;VALUE=DATE:20250317
DTEND;VALUE=DATE:20250318
DTSTAMP:20260423T125528
CREATED:20250223T132652Z
LAST-MODIFIED:20250223T132652Z
UID:2386-1742169600-1742255999@amiciaa.org
SUMMARY:GLI IDEALI DELUSI
DESCRIPTION:” Ero sì\, razionalmente appagato perché avevo capito la funzione dell’alcol nella mia vita: un meccanismo di difesa contro la sofferenza dalle delusioni di tutti gli ideali. Potevo vivere la mia angoscia\, elaborare la mia realtà\, assumere l’amarezza di tutti gli ideali delusi\, potevo sì\, bevendo come alcolista”. \nTratto da: “Alcolisti Anonimi” pag. 255
URL:https://amiciaa.org/event/gli-ideali-delusi-2/
LOCATION:skipe amiciaa
CATEGORIES:Calendario
ORGANIZER;CN="gruppo on line AmiciAA":MAILTO:info@amiciaa.org
END:VEVENT
BEGIN:VEVENT
DTSTART;VALUE=DATE:20250319
DTEND;VALUE=DATE:20250320
DTSTAMP:20260423T125528
CREATED:20250223T133133Z
LAST-MODIFIED:20250223T133133Z
UID:2388-1742342400-1742428799@amiciaa.org
SUMMARY:PERCHE’ NON “EX ALCOLISTI”
DESCRIPTION:“Gli A.A.dichiarano di essere alcolisti oggi \,anche se non bevono da molti anni.Essi non affermano di essere “guariti” perche’ sanno che \,dal momento che hanno perso la capacita’ di controllarsi nel bere è accertato il loro tipo di reazione al consumo dell’alcol\, non potranno mai piu’ essere sicuri di poter tornare alla bottiglia senza pericolo o\,\,in altre parole \,non potranno mai diventare “bevitori sociali”o “ex alcolisti”.In A.A.pero’\,possono diventare alcolisti sobri\, alcolisti “recuperati”. \ntratto da “Conoscere A.A.”  pag 6
URL:https://amiciaa.org/event/perche-non-ex-alcolisti-2/
LOCATION:skipe amiciaa
CATEGORIES:Calendario
ORGANIZER;CN="gruppo on line AmiciAA":MAILTO:info@amiciaa.org
END:VEVENT
BEGIN:VEVENT
DTSTART;VALUE=DATE:20250321
DTEND;VALUE=DATE:20250322
DTSTAMP:20260423T125528
CREATED:20250223T133332Z
LAST-MODIFIED:20250223T133332Z
UID:2390-1742515200-1742601599@amiciaa.org
SUMMARY:ONESTA’
DESCRIPTION:“Dobbiamo essere sempre certi di non assurgere al ruolo di predicatori dal pulpito. Perciò è saggio porci queste domande: “Comprendiamo veramente le persone coinvolte in questa situazione? Siamo certi di sapere tutto dei fatti? E’ veramente necessaria da parte nostra una qualsiasi iniziativa o critica? Siamo davvero sicuri che non abbiamo paura né siamo in collera?”. Soltanto se eseguiamo un esame del genere\, possiamo essere certi di agire con quel prudente discernimento e con quello spirito amorevole che ci serviranno sempre a mantenere la nostra integrità morale.” \nTratto da “Il meglio di Bill“\, pag. 33
URL:https://amiciaa.org/event/onesta-3/
LOCATION:skipe amiciaa
CATEGORIES:Calendario
ORGANIZER;CN="gruppo on line AmiciAA":MAILTO:info@amiciaa.org
END:VEVENT
BEGIN:VEVENT
DTSTART;VALUE=DATE:20250323
DTEND;VALUE=DATE:20250324
DTSTAMP:20260423T125528
CREATED:20250223T133706Z
LAST-MODIFIED:20250223T133706Z
UID:2392-1742688000-1742774399@amiciaa.org
SUMMARY:IL DISEGNO DIVINO
DESCRIPTION:“Non siamo sempre arrivati più vicino alla saggezza grazie alle nostre virtù; la nostra migliorata capacità di comprendere trova le sue radici nelle nostre follie precedenti. Poiché questa è stata l’essenza della nostra esperienza individuale\, lo è stata anche della nostra esperienza come associazione.” \nTratto da: “Come la vede Bill” pag.31
URL:https://amiciaa.org/event/il-disegno-divino/
LOCATION:skipe amiciaa
CATEGORIES:Calendario
ORGANIZER;CN="gruppo on line AmiciAA":MAILTO:info@amiciaa.org
END:VEVENT
BEGIN:VEVENT
DTSTART;VALUE=DATE:20250324
DTEND;VALUE=DATE:20250325
DTSTAMP:20260423T125528
CREATED:20250223T133928Z
LAST-MODIFIED:20250223T133928Z
UID:2394-1742774400-1742860799@amiciaa.org
SUMMARY:TERZA TRADIZIONE
DESCRIPTION:“Nel corso del tempo Alcolisti Anonimi è giunta alla decisione di portare all ‘estrem limite il non – giudizio :non siamo noi ad ammettere un nuovo venuto\, e’ lui stesso a dichiararsi A.A.\,con una qualsiasi forma di desiderio di smettere di bere. \nTratto da: “Il compagno di viaggio” pag.125
URL:https://amiciaa.org/event/terza-tradizione-5/
LOCATION:skipe amiciaa
CATEGORIES:Calendario
ORGANIZER;CN="gruppo on line AmiciAA":MAILTO:info@amiciaa.org
END:VEVENT
BEGIN:VEVENT
DTSTART;VALUE=DATE:20250326
DTEND;VALUE=DATE:20250327
DTSTAMP:20260423T125528
CREATED:20250223T134321Z
LAST-MODIFIED:20250223T134321Z
UID:2396-1742947200-1743033599@amiciaa.org
SUMMARY:CHE COSA VUOLE ESATTAMENTE DIRE "AFFIDARSI"?
DESCRIPTION:“Vuol dire avere la saggezza di distinguere ciò che non può essere cambiato con le proprie forze\, in modo da abbandonarsi e lasciarlo alle cure di chi può trovare una soluzione efficace.” \nTratto da: “Il compagno di viaggio” pag.42
URL:https://amiciaa.org/event/che-cosa-vuole-esattamente-dire-affidarsi/
LOCATION:skipe amiciaa
CATEGORIES:Calendario
ORGANIZER;CN="gruppo on line AmiciAA":MAILTO:info@amiciaa.org
END:VEVENT
BEGIN:VEVENT
DTSTART;VALUE=DATE:20250328
DTEND;VALUE=DATE:20250329
DTSTAMP:20260423T125528
CREATED:20250223T134529Z
LAST-MODIFIED:20250223T134529Z
UID:2398-1743120000-1743206399@amiciaa.org
SUMMARY:PERCHE’ UN ALCOLISTA SEMBRA NON AVERE FORZA DI VOLONTA' ?
DESCRIPTION:“Molti alcolisti giungono ad A.A. convinti di non avere sufficiente forza di volonta’ per opporsi con successo al “vizio” dell’alcol e perche’ non sanno prendere in mano le redini della propria vita. In questo Passo Bill\, invece\,mostra che a combinare simili disastri non fu la mancanza della forza di volonta bensi’ un suo uso scorretto. L’alcolista cerca vie di fuga da se stesso ed applica cosi tutta la propria volonta’ ottenendo danni ancora peggiori \, anziche’ cercare un rimedio alla causa principale. \nTratto da: “Il compagno di viaggio” pag. 41
URL:https://amiciaa.org/event/perche-un-alcolista-sembra-non-avere-forza-di-volonta-2/
LOCATION:skipe amiciaa
CATEGORIES:Calendario
ORGANIZER;CN="gruppo on line AmiciAA":MAILTO:info@amiciaa.org
END:VEVENT
BEGIN:VEVENT
DTSTART;VALUE=DATE:20250330
DTEND;VALUE=DATE:20250331
DTSTAMP:20260423T125528
CREATED:20250223T134940Z
LAST-MODIFIED:20250223T134940Z
UID:2400-1743292800-1743379199@amiciaa.org
SUMMARY:TERZO PASSO
DESCRIPTION:“Ma come\, di preciso\, una persona ben disposta può continuare ad affidare la propria volontà e la propria vita a un Potere Superiore? Abbiamo visto che ha iniziato a farlo dal momento in cui si è affidata ad A.A. per risolvere il suo problema con l’alcol. A questo punto\, però\, è probabile che si sia convinta di avere altri problemi oltre al bere e che non riesca nel modo più assoluto a risolverli con la semplice determinazione e con tutto il coraggio che può raccogliere.” \nTratto da: “Dodici Passi Dodici Tradizioni” pag.52
URL:https://amiciaa.org/event/terzo-passo-4/
LOCATION:skipe amiciaa
CATEGORIES:Calendario
ORGANIZER;CN="gruppo on line AmiciAA":MAILTO:info@amiciaa.org
END:VEVENT
BEGIN:VEVENT
DTSTART;VALUE=DATE:20250331
DTEND;VALUE=DATE:20250401
DTSTAMP:20260423T125528
CREATED:20250223T135353Z
LAST-MODIFIED:20250223T135353Z
UID:2402-1743379200-1743465599@amiciaa.org
SUMMARY:FAI LE COSE CON CALMA\, MA FALLE!
DESCRIPTION:“Siamo riusciti a mettere a confronto molti bevitori-problema con questa terribile alternativa: “Noi A.A. facciamo così\, altrimenti moriamo”. Una volta ancorata fermamente quest’idea nella mente di una persona\, il continuare a bere non fa che stringere il cappio più strettamente.” \nTratto da: “Come la vede Bill” pag.322
URL:https://amiciaa.org/event/fai-le-cose-con-calma-ma-falle/
LOCATION:skipe amiciaa
CATEGORIES:Calendario
ORGANIZER;CN="gruppo on line AmiciAA":MAILTO:info@amiciaa.org
END:VEVENT
END:VCALENDAR