BEGIN:VCALENDAR
VERSION:2.0
PRODID:-//AmiciAA Alcolisti Anonimi - ECPv6.15.20//NONSGML v1.0//EN
CALSCALE:GREGORIAN
METHOD:PUBLISH
X-ORIGINAL-URL:https://amiciaa.org
X-WR-CALDESC:Eventi per AmiciAA Alcolisti Anonimi
REFRESH-INTERVAL;VALUE=DURATION:PT1H
X-Robots-Tag:noindex
X-PUBLISHED-TTL:PT1H
BEGIN:VTIMEZONE
TZID:Europe/Rome
BEGIN:DAYLIGHT
TZOFFSETFROM:+0100
TZOFFSETTO:+0200
TZNAME:CEST
DTSTART:20230326T010000
END:DAYLIGHT
BEGIN:STANDARD
TZOFFSETFROM:+0200
TZOFFSETTO:+0100
TZNAME:CET
DTSTART:20231029T010000
END:STANDARD
BEGIN:DAYLIGHT
TZOFFSETFROM:+0100
TZOFFSETTO:+0200
TZNAME:CEST
DTSTART:20240331T010000
END:DAYLIGHT
BEGIN:STANDARD
TZOFFSETFROM:+0200
TZOFFSETTO:+0100
TZNAME:CET
DTSTART:20241027T010000
END:STANDARD
BEGIN:DAYLIGHT
TZOFFSETFROM:+0100
TZOFFSETTO:+0200
TZNAME:CEST
DTSTART:20250330T010000
END:DAYLIGHT
BEGIN:STANDARD
TZOFFSETFROM:+0200
TZOFFSETTO:+0100
TZNAME:CET
DTSTART:20251026T010000
END:STANDARD
END:VTIMEZONE
BEGIN:VEVENT
DTSTART;VALUE=DATE:20240401
DTEND;VALUE=DATE:20240402
DTSTAMP:20260424T052917
CREATED:20240331T160400Z
LAST-MODIFIED:20240331T160400Z
UID:1827-1711929600-1712015999@amiciaa.org
SUMMARY:QUANDO INZIARE IL IV PASSO?
DESCRIPTION:Descrizione:” Bill mette sull’avviso riguardo a ciò che può trattenere dall’iniziare subito il IV Passo\, soprattutto la paura e l’orgoglio. L’esperienza mostra che non è possibile alcun cammino di recupero fintanto che non si sia presa coscienza dell’esigenza di una pulizia interiore per procedere sulla strada intrapresa. Pur tuttavia\, è necessario iniziare il prima possibile questo Passo\, proprio combattendo paura e orgoglio\, al fine di potersi incamminare sulla via del recupero”. \nTratto da: Il Compagno di Viaggio pag.46. \n 
URL:https://amiciaa.org/event/quando-inziare-il-iv-passo/
LOCATION:skipe amiciaa
CATEGORIES:Calendario
ORGANIZER;CN="gruppo on line AmiciAA":MAILTO:info@amiciaa.org
END:VEVENT
BEGIN:VEVENT
DTSTART;VALUE=DATE:20240403
DTEND;VALUE=DATE:20240404
DTSTAMP:20260424T052917
CREATED:20240331T160712Z
LAST-MODIFIED:20240331T160846Z
UID:1829-1712102400-1712188799@amiciaa.org
SUMMARY:RICORDARE CHE L’ALCOLISMO È UNA MALATTIA INGUARIBILE\, PROGRESSIVA E MORTALE.
DESCRIPTION:Descrizione:” Naturalmente\, anche se ci possiamo sentire defraudati\, non è saggio ignorare la nostra costituzione fisiologica. Se ignoriamo i nostri limiti possono insorgere grossi scompensi e malattie. Per essere sani e ragionevolmente felici\, dobbiamo imparare a vivere con il corpo che abbiamo. Una delle nuove abitudini mentali che un alcolista in via di recupero può cercare di sviluppare consiste nel considerarsi\, con tranquillità\, come una persona che debba evitare sostanze chimiche (alcol e altre droghe che possano sostituirlo)\, sempre che voglia mantenersi in buona salute”. \nTratto da: Vivere Sobri pag. 18.
URL:https://amiciaa.org/event/ricordare-che-lalcolismo-e-una-malattia-ingauribile-progressiva-e-mortale/
LOCATION:skipe amiciaa
CATEGORIES:Calendario
ORGANIZER;CN="gruppo on line AmiciAA":MAILTO:info@amiciaa.org
END:VEVENT
BEGIN:VEVENT
DTSTART;VALUE=DATE:20240405
DTEND;VALUE=DATE:20240406
DTSTAMP:20260424T052917
CREATED:20240331T161047Z
LAST-MODIFIED:20240331T161047Z
UID:1832-1712275200-1712361599@amiciaa.org
SUMMARY:IL NOSTRO METODO
DESCRIPTION:Descrizione:” A tal fine abbiamo cominciato a fare un inventario personale. Era il Quarto Passo. Un negoziante che non fa mai l’inventario della merce\, di solito fallisce. Una volta fatto l’inventario\, scopre ciò che manca e cerca le cause del deperimento di qualche articolo. Qualora rilevasse che ha uno stock di merce invendibile oppure guasta\, per salvare ilo suo esercizio lo toglierà di mezzo senza risarcimento. Se il negoziante è interessato al successo non può ingannarsi su quanto ha in magazzino. Abbiamo fatto un simile inventario delle nostre vite e lo abbiamo fatto onestamente”. \nTratto da: Alcolisti Anonimi pag. 63.
URL:https://amiciaa.org/event/il-nostro-metodo/
LOCATION:skipe amiciaa
CATEGORIES:Calendario
ORGANIZER;CN="gruppo on line AmiciAA":MAILTO:info@amiciaa.org
END:VEVENT
BEGIN:VEVENT
DTSTART;VALUE=DATE:20240408
DTEND;VALUE=DATE:20240409
DTSTAMP:20260424T052917
CREATED:20240407T173224Z
LAST-MODIFIED:20240407T173224Z
UID:1836-1712534400-1712620799@amiciaa.org
SUMMARY:QUANTO TEMPO OCCORRE PER SCRIVERE IL QUARTO PASSO?
DESCRIPTION:Descrizione : “Non c’e’ un limite di tempo. Se si e’ onesti con se stessi\, cercando di farlo al meglio delle proprie capacita\, il tempo non sarà’ sicuramente un ostacolo. E’ opportuno\, comunque\, fare questo Passo \, il prima possibile per evitare il rischio del ritorno dell’orgoglio e della paura. Bisogna anche essere consapevoli che\, durante il primo periodo in AA.\,occorrera’ mettere mano piu volte a questo Passo fondamentale: ogni volta si scoprira’ qualcosa di nuovo\, si approfondira’ l’esame e si sapra’ meglio su cosa lavorare per procedere sulla via del recupero.” \nTratto da “Il compagno di viaggio” pag 47
URL:https://amiciaa.org/event/quanto-tempo-occorre-per-scrivere-il-quarto-passo/
LOCATION:skipe amiciaa
CATEGORIES:Calendario
ORGANIZER;CN="gruppo on line AmiciAA":MAILTO:info@amiciaa.org
END:VEVENT
BEGIN:VEVENT
DTSTART;VALUE=DATE:20240410
DTEND;VALUE=DATE:20240411
DTSTAMP:20260424T052917
CREATED:20240407T174020Z
LAST-MODIFIED:20240407T174020Z
UID:1839-1712707200-1712793599@amiciaa.org
SUMMARY:IL NOSTRO METODO
DESCRIPTION:Descrizione:” Convinti che l’egoismo\, nei suoi vari aspetti\, sia la causa della nostra rovina\, abbiamo considerato le sue manifestazioni più comuni. \nIl risentimento è il nemico “numero uno”. Distrugge più alcolisti di ogni altro stato d’animo e da esso nascono molte forme di malattia spirituale. Siamo stati malati non solo nella mente e nel corpo\, ma anche nello spirito. Superata la malattia spirituale\, siamo recuperabili sia mentalmente sia fisicamente. Affrontando i risentimenti li abbiamo enumerati su un foglio di carta\, indicandone persone\, istituzioni e principi con i quali non andavamo d’accordo. Ci siamo chiesti perché fossimo arrabbiati. Nella maggior parte dei casi abbiamo constatato che la stima di noi stessi\, le nostre ambizioni\, i nostri portafogli\, le nostre relazioni personali (comprese quelle sessuali) erano offese o minacciate. Così fummo presi dal risentimento. Ci siamo ritrovati “bruciati”. Sulla lista dei nostri risentimenti riportiamo\, a fianco di ogni nome\, le ferite che abbiamo ricevuto alla stima di noi stessi\, alla nostra sicurezza\, al nostro orgoglio e alle nostre relazioni personali o sessuali”.  \nTratto da: Alcolisti Anonimi pagg. 63\, 64.
URL:https://amiciaa.org/event/il-nostro-metodo-2/
LOCATION:skipe amiciaa
CATEGORIES:Calendario
ORGANIZER;CN="gruppo on line AmiciAA":MAILTO:info@amiciaa.org
END:VEVENT
BEGIN:VEVENT
DTSTART;VALUE=DATE:20240412
DTEND;VALUE=DATE:20240413
DTSTAMP:20260424T052917
CREATED:20240407T174442Z
LAST-MODIFIED:20240407T174442Z
UID:1841-1712880000-1712966399@amiciaa.org
SUMMARY:QUARTA TRADIZIONE
DESCRIPTION:Descrizione:” Ogni gruppo A. A. dovrebbe essere autonomo\, tranne che per le questioni riguardanti altri gruppi oppure A. A. nel suo insieme”. Quando\, nel 1946\, le Tradizioni furono pubblicate per la prima volta\, avevamo raggiunto la certezza che un gruppo A. A. avrebbe potuto resistere a quasi ogni tipo d’impatto. Avevamo capito che il gruppo\, proprio come il singolo\, deve alla fine conformarsi a tutti i collaudati principi che ne garantiscono la sopravvivenza. Avevamo scoperto che il metodo di prova ed errore era perfettamente sicuro. Ne eravamo diventati così certi\, che la formulazione originale della Tradizione di A. A. conteneva questa significativa frase: “Due o tre alcolisti qualsiasi che si riuniscono per raggiungere la sobrietà possono chiamarsi un gruppo A. A.\, purché come gruppo non abbiano nessun’altra affiliazione”.  \nTratto da: Dodici Passi e Dodici Tradizioni pagg. 211\, 212.
URL:https://amiciaa.org/event/quarta-tradizione/
LOCATION:skipe amiciaa
CATEGORIES:Calendario
ORGANIZER;CN="gruppo on line AmiciAA":MAILTO:info@amiciaa.org
END:VEVENT
BEGIN:VEVENT
DTSTART;VALUE=DATE:20240414
DTEND;VALUE=DATE:20240415
DTSTAMP:20260424T052917
CREATED:20240407T174819Z
LAST-MODIFIED:20240407T174819Z
UID:1843-1713052800-1713139199@amiciaa.org
SUMMARY:UNA PROSPETTIVA PER VOI
DESCRIPTION:Descrizione: “Per la maggior parte della gente normale\, il bere significava giovialità’\, socievolezza \,stimolo all’immaginazione. \nSignifica lasciare da parte per un po’ preoccupazioni\, seccature e guai. E’ lieta intimità’ con amici e la sensazione che la vita e’ bella. Ma cosi’ non era per noi in quegli ultimi giorni in cui si beveva forte.” \nTratto da “Alcolisti Anonimi” pag 151
URL:https://amiciaa.org/event/una-prospettiva-per-voi-2/
LOCATION:skipe amiciaa
CATEGORIES:Calendario
ORGANIZER;CN="gruppo on line AmiciAA":MAILTO:info@amiciaa.org
END:VEVENT
BEGIN:VEVENT
DTSTART;VALUE=DATE:20240415
DTEND;VALUE=DATE:20240416
DTSTAMP:20260424T052917
CREATED:20240415T131015Z
LAST-MODIFIED:20240415T131015Z
UID:1846-1713139200-1713225599@amiciaa.org
SUMMARY:ABBANDONARE LE VECCHIE IDEE
DESCRIPTION:Descrizione: “Le idee che si sono cosi profondamente radicate in noi durante il periodo in cui bevevamo non scompaiono tutte improvvisamente come per magia il giorno in cui cominciamo a mettere il tappo alla bottiglia. \nI giorni del vino e delle “sagre dell’uva”  possono essersene andati\, ma la malattia persiste. Cosi’ abbiamo scoperto che e’ terapeutico eliminare molte vecchie idee che cominciano a riaffiorare\, e continuano a farlo ancora e ancora.” \nTratto da “Vivere sobri” pag. 104
URL:https://amiciaa.org/event/abbandonare-le-vecchie-idee/
LOCATION:skipe amiciaa
CATEGORIES:Calendario
ORGANIZER;CN="gruppo on line AmiciAA":MAILTO:info@amiciaa.org
END:VEVENT
BEGIN:VEVENT
DTSTART;VALUE=DATE:20240417
DTEND;VALUE=DATE:20240418
DTSTAMP:20260424T052917
CREATED:20240415T131200Z
LAST-MODIFIED:20240415T131200Z
UID:1848-1713312000-1713398399@amiciaa.org
SUMMARY:QUARTA TRADIZIONE
DESCRIPTION:Descrizione: “Fu cosi’ che\, in base alla Quarta Tradizione \, un gruppo AA aveva esercitato il suo diritto di sbagliare. In piu’\, aveva reso un grande servizio ad Alcolisti Anonimi\, perche’ era stato cosi umile da voler mettere in pratica le lezioni che aveva imparato. Si era risollevato con una risata ed era andato avanti \, verso cose migliori. Perfino l’architetto capo\, ritto sulle rovine del suo sogno\, riusciva a ridere di se stesso: e questo e’ proprio il massimo dell’umiltà’.” \nTratto da “Dodici Passi e dodici Tradizioni” pag. 216
URL:https://amiciaa.org/event/quarta-tradizione-2/
LOCATION:skipe amiciaa
CATEGORIES:Calendario
ORGANIZER;CN="gruppo on line AmiciAA":MAILTO:info@amiciaa.org
END:VEVENT
BEGIN:VEVENT
DTSTART;VALUE=DATE:20240419
DTEND;VALUE=DATE:20240420
DTSTAMP:20260424T052917
CREATED:20240415T131328Z
LAST-MODIFIED:20240415T131328Z
UID:1850-1713484800-1713571199@amiciaa.org
SUMMARY:QUARTA PROMESSA
DESCRIPTION:Descrizione: “Poco importa a quale grado di abiezione siamo scesi\, constateremo come la nostra esperienza possa giovare agli altri.” \nTratto da “Alcolisti Anonimi” pag. 83
URL:https://amiciaa.org/event/quarta-promessa/
LOCATION:skipe amiciaa
CATEGORIES:Calendario
ORGANIZER;CN="gruppo on line AmiciAA":MAILTO:info@amiciaa.org
END:VEVENT
BEGIN:VEVENT
DTSTART;VALUE=DATE:20240421
DTEND;VALUE=DATE:20240422
DTSTAMP:20260424T052917
CREATED:20240415T131503Z
LAST-MODIFIED:20240415T131503Z
UID:1852-1713657600-1713743999@amiciaa.org
SUMMARY:QUARTO CONCETTO
DESCRIPTION:Descrizione: “Il diritto di partecipazione e’ basato su un motivo spirituale? Il diritto di partecipazione che viene riconosciuto a in AA a tutti i livelli deriva fondamentalmente dall’amore per gli altri. Questo porta al desiderio di ascolto\, al desiderio del benessere degli altri\, alla fratellanza\, alla cosiddetta tolleranza. Molto importante e’ capire che non e’ tanto il fatto “legale” quanto il principio spirituale che lo genera che assume per tutti gli AA un’estrema importanza. Piu’ che “riconoscere” ad altri questo diritto\, si tratta di desiderarlo comprendendo a pieno che esso e’ una manifestazione dello stare\, sentire assieme.” \nTratto da “Il compagno di viaggio” pag. 208
URL:https://amiciaa.org/event/quarto-concetto/
LOCATION:skipe amiciaa
CATEGORIES:Calendario
ORGANIZER;CN="gruppo on line AmiciAA":MAILTO:info@amiciaa.org
END:VEVENT
BEGIN:VEVENT
DTSTART;VALUE=DATE:20240422
DTEND;VALUE=DATE:20240423
DTSTAMP:20260424T052917
CREATED:20240421T190617Z
LAST-MODIFIED:20240421T190617Z
UID:1855-1713744000-1713830399@amiciaa.org
SUMMARY:CHE COSA SI PUO’ FARE PER CORREGGERE LE MANCANZE INDIVIDUATE COL QUARTO PASSO?
DESCRIPTION:Descrizione: “E’ continuare con il Programma ( e\, in particolare \, col sesto e settimo Passo ) che consente di agire sui difetti di carattere che di fatto costituiscono un blocco \, riportando ciascuno sempre al passato o creando paura per il futuro e non permettendo di vivere serenamente il presente. \nTratto da “Il compagno di viaggio” pag. 48
URL:https://amiciaa.org/event/che-cosa-si-puo-fare-per-correggere-le-mancanze-individuate-col-quarto-passo/
LOCATION:skipe amiciaa
CATEGORIES:Calendario
ORGANIZER;CN="gruppo on line AmiciAA":MAILTO:info@amiciaa.org
END:VEVENT
BEGIN:VEVENT
DTSTART;VALUE=DATE:20240424
DTEND;VALUE=DATE:20240425
DTSTAMP:20260424T052917
CREATED:20240421T190940Z
LAST-MODIFIED:20240421T190940Z
UID:1858-1713916800-1714003199@amiciaa.org
SUMMARY:VIVI E LASCIA VIVERE
DESCRIPTION:Descrizione: “Ci siamo sentiti spesso arrabbiati e timorosi anche verso persone che non ci criticavano. La nostra colpa ci aveva reso ultrasensibili alle persone intorno a noi e covavamo rancore. A volte cambiavamo bar\, posto di lavoro o casa solo per allontanarci da determinate persone. Cosi moltissima gente oltre a noi veniva coinvolta in qualche modo e in una certa misura dal fatto che bevevamo. \nTratto da  “Vivere Sobri” pag.22
URL:https://amiciaa.org/event/vivi-e-lascia-vivere/
LOCATION:skipe amiciaa
CATEGORIES:Calendario
ORGANIZER;CN="gruppo on line AmiciAA":MAILTO:info@amiciaa.org
END:VEVENT
BEGIN:VEVENT
DTSTART;VALUE=DATE:20240426
DTEND;VALUE=DATE:20240427
DTSTAMP:20260424T052917
CREATED:20240421T191221Z
LAST-MODIFIED:20240421T191221Z
UID:1860-1714089600-1714175999@amiciaa.org
SUMMARY:IL NOSTRO METODO
DESCRIPTION:Descrizione: “Ora veniamo al sesso. Molti di noi hanno bisogno di rivedere questo argomento. Abbiamo cercato innanzitutto di essere ragionevoli quando abbiamo iniziato a trattare questo problema\, perche’ a volte e’ facile perdere ogni equilibrio in questo campo. Le opinioni degli uomini vanno da un estremo all’altro per quanto riguarda il sesso e a volte forse si assumono posizioni assurde. \nTratto da  “Alcolisti Anonimi” pag.68
URL:https://amiciaa.org/event/il-nostro-metodo-3/
LOCATION:skipe amiciaa
CATEGORIES:Calendario
ORGANIZER;CN="gruppo on line AmiciAA":MAILTO:info@amiciaa.org
END:VEVENT
BEGIN:VEVENT
DTSTART;VALUE=DATE:20240428
DTEND;VALUE=DATE:20240429
DTSTAMP:20260424T052917
CREATED:20240421T191417Z
LAST-MODIFIED:20240421T191417Z
UID:1862-1714262400-1714348799@amiciaa.org
SUMMARY:QUARTO PASSO
DESCRIPTION:Descrizione: “Pretendere dagli altri troppa attenzione\, protezione e amore puo’ solo generare negli stessi protettori l’impulso di dominare o di respingere \, due sentimenti altrettanto malsani quanto le richieste che li hanno suscitati. Quando la brama di prestigio personale diventa incontrollabile \, al circolo di cucito come al tavolo di una conferenza internazionale\, altre persone ne soffrono e a volte si ribellano. Questo scontro tra istinti puo’ provocare qualunque cosa \, da un freddo rimprovero a una violenta ribellione. In tal modo ci mettiamo in conflitto non soltanto con noi stessi \, ma anche con gli altri\, che pure sono dotati di istinti. \nTratto da “Dodici Passi Dodici Tradizioni” pag 60
URL:https://amiciaa.org/event/quarto-passo/
LOCATION:skipe amiciaa
CATEGORIES:Calendario
ORGANIZER;CN="gruppo on line AmiciAA":MAILTO:info@amiciaa.org
END:VEVENT
BEGIN:VEVENT
DTSTART;VALUE=DATE:20240429
DTEND;VALUE=DATE:20240430
DTSTAMP:20260424T052917
CREATED:20240428T151654Z
LAST-MODIFIED:20240428T151654Z
UID:1864-1714348800-1714435199@amiciaa.org
SUMMARY:LAVORARE CON GLI ALTRI
DESCRIPTION:Descrizione: “Noi crediamo che qualunque sistema per combattere l’alcolismo che si proponga di mettere il malato al sicuro dalla tentazione e’ votato al fallimento. Se l’alcolista tenta di mettersi al riparo \, puo’ riuscirvi per un certo tempo\, ma generalmente va incontro a un’esplosione alcolica piu’ violenta che mai . Abbiamo provato questi metodi. Questi tentativi di realizzare l’impossibile sono sempre falliti. E’ perciò’ nostra regola il non evitare i posti dove si beve se abbiamo un buon motivo per starci. \nTratto da “Alcolisti Anonimi” pag.101
URL:https://amiciaa.org/event/lavorare-con-gli-altri/
LOCATION:skipe amiciaa
CATEGORIES:Calendario
ORGANIZER;CN="gruppo on line AmiciAA":MAILTO:info@amiciaa.org
END:VEVENT
END:VCALENDAR